BEGIN:VCALENDAR
VERSION:2.0
PRODID:-//WiCyS - Women in Cybersecurity - ECPv6.15.20//NONSGML v1.0//EN
CALSCALE:GREGORIAN
METHOD:PUBLISH
X-ORIGINAL-URL:https://www.wicys.org
X-WR-CALDESC:Events for WiCyS - Women in Cybersecurity
REFRESH-INTERVAL;VALUE=DURATION:PT1H
X-Robots-Tag:noindex
X-PUBLISHED-TTL:PT1H
BEGIN:VTIMEZONE
TZID:UTC
BEGIN:STANDARD
TZOFFSETFROM:+0000
TZOFFSETTO:+0000
TZNAME:UTC
DTSTART:20220101T000000
END:STANDARD
END:VTIMEZONE
BEGIN:VTIMEZONE
TZID:America/Chicago
BEGIN:DAYLIGHT
TZOFFSETFROM:-0600
TZOFFSETTO:-0500
TZNAME:CDT
DTSTART:20220313T080000
END:DAYLIGHT
BEGIN:STANDARD
TZOFFSETFROM:-0500
TZOFFSETTO:-0600
TZNAME:CST
DTSTART:20221106T070000
END:STANDARD
BEGIN:DAYLIGHT
TZOFFSETFROM:-0600
TZOFFSETTO:-0500
TZNAME:CDT
DTSTART:20230312T080000
END:DAYLIGHT
BEGIN:STANDARD
TZOFFSETFROM:-0500
TZOFFSETTO:-0600
TZNAME:CST
DTSTART:20231105T070000
END:STANDARD
BEGIN:DAYLIGHT
TZOFFSETFROM:-0600
TZOFFSETTO:-0500
TZNAME:CDT
DTSTART:20240310T080000
END:DAYLIGHT
BEGIN:STANDARD
TZOFFSETFROM:-0500
TZOFFSETTO:-0600
TZNAME:CST
DTSTART:20241103T070000
END:STANDARD
END:VTIMEZONE
BEGIN:VEVENT
DTSTART;TZID=UTC:20230121T050000
DTEND;TZID=UTC:20230121T070000
DTSTAMP:20260420T135348
CREATED:20230120T161732Z
LAST-MODIFIED:20230120T161732Z
UID:10000977-1674277200-1674284400@www.wicys.org
SUMMARY:WiCyS Nigeria Affiliate | Virtual Launch
DESCRIPTION:To celebrate the approval and the beginning of the WiCyS Nigeria Affiliate\, we will be kickstarting with a virtual launch to educate more people about WiCyS and also increase publicity to gain more members for the WiCyS Nigeria Affiliate. \nJoin us HERE!
URL:https://www.wicys.org/event/wicys-nigeria-affiliate-virtual-launch/
LOCATION:Virtual
ATTACH;FMTTYPE=image/png:https://www.wicys.org/wp-content/uploads/2023/01/WiCyS-Nigeria-Affiliate-Logo-on-Shield.png
ORGANIZER;CN="WiCyS Nigeria Affiliate":MAILTO:wicysnigeria@wicys.org
END:VEVENT
BEGIN:VEVENT
DTSTART;TZID=America/Chicago:20230121T120000
DTEND;TZID=America/Chicago:20230121T130000
DTSTAMP:20260420T135348
CREATED:20221213T193933Z
LAST-MODIFIED:20221216T220216Z
UID:10001183-1674302400-1674306000@www.wicys.org
SUMMARY:Tribe of Hackers: Cybersecurity Advice from the Best Hackers in the World
DESCRIPTION:Tribe of Hackers is a must-have resource for security professionals who are looking to advance their careers\, gain a fresh perspective and get serious about cybersecurity with thought-provoking insights from the world’s most noteworthy hackers and influential security specialists. This unique guide includes inspiring interviews from 70 security experts\, including Lesley Carhart\, Ming Chow\, Bruce Potter\, Robert M. Lee\, and Jayson E. Street. Have a read and join us on January 19th as we discuss recommendations and advice for everyone in our industry! \nRegister in advance for this meeting:\nhttps://us06web.zoom.us/meeting/register/tZwsd–sqjIjE9AcHYkKz2UcsmT3nUaxdudb \nAfter registering\, you will receive a confirmation email containing information about joining the meeting.
URL:https://www.wicys.org/event/tribe-of-hackers-cybersecurity-advice-from-the-best-hackers-in-the-world/
ATTACH;FMTTYPE=image/png:https://www.wicys.org/wp-content/uploads/2022/12/Book-Club-Tribe-of-Hackers-Cybersecurity-Advice-from-the-Best-Hackers-in-the-World-by-Marcus-J-Carey-and-Jennifer-Jin.png
END:VEVENT
END:VCALENDAR