BEGIN:VCALENDAR
VERSION:2.0
PRODID:-//WiCyS - Women in Cybersecurity - ECPv6.15.20//NONSGML v1.0//EN
CALSCALE:GREGORIAN
METHOD:PUBLISH
X-ORIGINAL-URL:https://www.wicys.org
X-WR-CALDESC:Events for WiCyS - Women in Cybersecurity
REFRESH-INTERVAL;VALUE=DURATION:PT1H
X-Robots-Tag:noindex
X-PUBLISHED-TTL:PT1H
BEGIN:VTIMEZONE
TZID:America/Denver
BEGIN:DAYLIGHT
TZOFFSETFROM:-0700
TZOFFSETTO:-0600
TZNAME:MDT
DTSTART:20220313T090000
END:DAYLIGHT
BEGIN:STANDARD
TZOFFSETFROM:-0600
TZOFFSETTO:-0700
TZNAME:MST
DTSTART:20221106T080000
END:STANDARD
BEGIN:DAYLIGHT
TZOFFSETFROM:-0700
TZOFFSETTO:-0600
TZNAME:MDT
DTSTART:20230312T090000
END:DAYLIGHT
BEGIN:STANDARD
TZOFFSETFROM:-0600
TZOFFSETTO:-0700
TZNAME:MST
DTSTART:20231105T080000
END:STANDARD
BEGIN:DAYLIGHT
TZOFFSETFROM:-0700
TZOFFSETTO:-0600
TZNAME:MDT
DTSTART:20240310T090000
END:DAYLIGHT
BEGIN:STANDARD
TZOFFSETFROM:-0600
TZOFFSETTO:-0700
TZNAME:MST
DTSTART:20241103T080000
END:STANDARD
END:VTIMEZONE
BEGIN:VEVENT
DTSTART;TZID=America/Denver:20230224T190000
DTEND;TZID=America/Denver:20230224T200000
DTSTAMP:20260421T164818
CREATED:20230222T235151Z
LAST-MODIFIED:20230222T235151Z
UID:10001200-1677265200-1677268800@www.wicys.org
SUMMARY:WiCyS PRIDE-LGBTQ+ Affiliate Meeting
DESCRIPTION:Join the discord to attend! We will be meeting in the General voice channel at 6PM PT/9PM ET. \nRegistration HERE.
URL:https://www.wicys.org/event/wicys-pride-lgbtq-affiliate-meeting/
LOCATION:Discord
ATTACH;FMTTYPE=image/png:https://www.wicys.org/wp-content/uploads/2023/02/WiCyS-LGBTQ_-Affiliate-Logo-on-Shield-Social.png
ORGANIZER;CN="WiCyS - Pride-LGBTQ+ Affiliate group":MAILTO:WiCySPrideLGBTQ@wicys.org
END:VEVENT
END:VCALENDAR