BEGIN:VCALENDAR
VERSION:2.0
PRODID:-//WiCyS - Women in Cybersecurity - ECPv6.15.20//NONSGML v1.0//EN
CALSCALE:GREGORIAN
METHOD:PUBLISH
X-WR-CALNAME:WiCyS - Women in Cybersecurity
X-ORIGINAL-URL:https://www.wicys.org
X-WR-CALDESC:Events for WiCyS - Women in Cybersecurity
REFRESH-INTERVAL;VALUE=DURATION:PT1H
X-Robots-Tag:noindex
X-PUBLISHED-TTL:PT1H
BEGIN:VTIMEZONE
TZID:UTC
BEGIN:STANDARD
TZOFFSETFROM:+0000
TZOFFSETTO:+0000
TZNAME:UTC
DTSTART:20220101T000000
END:STANDARD
END:VTIMEZONE
BEGIN:VTIMEZONE
TZID:Atlantic/Azores
BEGIN:DAYLIGHT
TZOFFSETFROM:-0100
TZOFFSETTO:+0000
TZNAME:+00
DTSTART:20220327T010000
END:DAYLIGHT
BEGIN:STANDARD
TZOFFSETFROM:+0000
TZOFFSETTO:-0100
TZNAME:-01
DTSTART:20221030T010000
END:STANDARD
BEGIN:DAYLIGHT
TZOFFSETFROM:-0100
TZOFFSETTO:+0000
TZNAME:+00
DTSTART:20230326T010000
END:DAYLIGHT
BEGIN:STANDARD
TZOFFSETFROM:+0000
TZOFFSETTO:-0100
TZNAME:-01
DTSTART:20231029T010000
END:STANDARD
BEGIN:DAYLIGHT
TZOFFSETFROM:-0100
TZOFFSETTO:+0000
TZNAME:+00
DTSTART:20240331T010000
END:DAYLIGHT
BEGIN:STANDARD
TZOFFSETFROM:+0000
TZOFFSETTO:-0100
TZNAME:-01
DTSTART:20241027T010000
END:STANDARD
END:VTIMEZONE
BEGIN:VEVENT
DTSTART;TZID=UTC:20230228T130000
DTEND;TZID=UTC:20230228T140000
DTSTAMP:20260420T005658
CREATED:20230203T222624Z
LAST-MODIFIED:20230223T155427Z
UID:10001172-1677589200-1677592800@www.wicys.org
SUMMARY:Microsoft Webinar | Tales FromThe Tech Trenches V2.0
DESCRIPTION:Hear from women in the trenches! What’s it like to be a woman working in tech? Sarah Young\, Senior Cloud Security Advocate\, and Jess Dodson\, Senior Cloud Security Architect – Engineering at Microsoft\, a strategic WiCyS partner\, will share their own experiences working in a field still dominated by men. Hear about the challenges they faced\, how they worked their way up and the discrimination that still exists in the industry. Prepare to talk openly – not to shame\, but to help us all be better and learn how to make cybersecurity an inclusive place where all can feel welcome. \nRegister HERE.
URL:https://www.wicys.org/event/microsoft-webinar-tales-fromthe-tech-trenches-v2-0/
ATTACH;FMTTYPE=image/jpeg:https://www.wicys.org/wp-content/uploads/2023/02/Tales-from-the-tech-trenches-v2-0-640-x-360-1.jpg
END:VEVENT
BEGIN:VEVENT
DTSTART;TZID=Atlantic/Azores:20230228T153000
DTEND;TZID=Atlantic/Azores:20230228T170000
DTSTAMP:20260420T005658
CREATED:20230227T153525Z
LAST-MODIFIED:20230227T153525Z
UID:10001206-1677598200-1677603600@www.wicys.org
SUMMARY:WiCyS Phoenix Affiliate: Presents Women in Cybersecurity Panel Presentation
DESCRIPTION:Join our WiCyS Phoenix Affiliate Present Women in Cybersecurity Panel Presentation.\n\nFree registration with WAZ code.\n\nContact Dara Gibson\, wicysphoenix@wicys.org
URL:https://www.wicys.org/event/wicys-phoenix-affiliate-presents-women-in-cybersecurity-panel-presentation/
LOCATION:Virtual
ATTACH;FMTTYPE=image/png:https://www.wicys.org/wp-content/uploads/2023/02/WiCyS-Phoenix-Affiliate-Logo-on-Shield-1.png
END:VEVENT
END:VCALENDAR