BEGIN:VCALENDAR
VERSION:2.0
PRODID:-//WiCyS - Women in Cybersecurity - ECPv6.15.20//NONSGML v1.0//EN
CALSCALE:GREGORIAN
METHOD:PUBLISH
X-ORIGINAL-URL:https://www.wicys.org
X-WR-CALDESC:Events for WiCyS - Women in Cybersecurity
REFRESH-INTERVAL;VALUE=DURATION:PT1H
X-Robots-Tag:noindex
X-PUBLISHED-TTL:PT1H
BEGIN:VTIMEZONE
TZID:Atlantic/Azores
BEGIN:DAYLIGHT
TZOFFSETFROM:-0100
TZOFFSETTO:+0000
TZNAME:+00
DTSTART:20220327T010000
END:DAYLIGHT
BEGIN:STANDARD
TZOFFSETFROM:+0000
TZOFFSETTO:-0100
TZNAME:-01
DTSTART:20221030T010000
END:STANDARD
BEGIN:DAYLIGHT
TZOFFSETFROM:-0100
TZOFFSETTO:+0000
TZNAME:+00
DTSTART:20230326T010000
END:DAYLIGHT
BEGIN:STANDARD
TZOFFSETFROM:+0000
TZOFFSETTO:-0100
TZNAME:-01
DTSTART:20231029T010000
END:STANDARD
BEGIN:DAYLIGHT
TZOFFSETFROM:-0100
TZOFFSETTO:+0000
TZNAME:+00
DTSTART:20240331T010000
END:DAYLIGHT
BEGIN:STANDARD
TZOFFSETFROM:+0000
TZOFFSETTO:-0100
TZNAME:-01
DTSTART:20241027T010000
END:STANDARD
END:VTIMEZONE
BEGIN:VTIMEZONE
TZID:America/Chicago
BEGIN:DAYLIGHT
TZOFFSETFROM:-0600
TZOFFSETTO:-0500
TZNAME:CDT
DTSTART:20220313T080000
END:DAYLIGHT
BEGIN:STANDARD
TZOFFSETFROM:-0500
TZOFFSETTO:-0600
TZNAME:CST
DTSTART:20221106T070000
END:STANDARD
BEGIN:DAYLIGHT
TZOFFSETFROM:-0600
TZOFFSETTO:-0500
TZNAME:CDT
DTSTART:20230312T080000
END:DAYLIGHT
BEGIN:STANDARD
TZOFFSETFROM:-0500
TZOFFSETTO:-0600
TZNAME:CST
DTSTART:20231105T070000
END:STANDARD
BEGIN:DAYLIGHT
TZOFFSETFROM:-0600
TZOFFSETTO:-0500
TZNAME:CDT
DTSTART:20240310T080000
END:DAYLIGHT
BEGIN:STANDARD
TZOFFSETFROM:-0500
TZOFFSETTO:-0600
TZNAME:CST
DTSTART:20241103T070000
END:STANDARD
END:VTIMEZONE
BEGIN:VEVENT
DTSTART;VALUE=DATE:20230419
DTEND;VALUE=DATE:20230421
DTSTAMP:20260420T122645
CREATED:20230410T193534Z
LAST-MODIFIED:20230410T193534Z
UID:10001246-1681862400-1682035199@www.wicys.org
SUMMARY:Delaware Valley affiliate at SecureWorld
DESCRIPTION:Join WiCyS Delaware Valley Affiliate at SecureWorld! For more than 21 years\, SecureWorld has been tackling global cybersecurity issues and sharing critical knowledge and tools needed to protect against ever-evolving threats. Through our network of industry experts\, thought leaders\, practitioners\, and solution providers\, we collaborate to produce leading-edge\, relevant content. \n4/19/23 – 8 am WiCyS Delaware Valley affiliate meeting – open to all conference attendees\n4/19/23 – Panel – Pearls of Wisdom – WiCyS Delaware Valley \nRegister HERE.
URL:https://www.wicys.org/event/delaware-valley-affiliate-at-secureworld/
ATTACH;FMTTYPE=image/png:https://www.wicys.org/wp-content/uploads/2023/04/WiCyS-Delaware-Valley-Affiliate-at-SecureWorld_-1.png
ORGANIZER;CN="WiCyS Delaware Valley Affliate":MAILTO:Wicysdelawarevalley@wicys.org
END:VEVENT
BEGIN:VEVENT
DTSTART;TZID=America/Chicago:20230419T120000
DTEND;TZID=America/Chicago:20230419T130000
DTSTAMP:20260420T122645
CREATED:20230302T185517Z
LAST-MODIFIED:20230324T191236Z
UID:10000001-1681905600-1681909200@www.wicys.org
SUMMARY:WiCyS Leadership Series: Why a Failure to Attract and Retain Women in Cybersecurity is Making Us All Less Safe
DESCRIPTION:Leading with equity\, inclusion\, and allyship is a conversation where we\, as volunteer leaders within the WiCyS organization\, agree to engage in a conversation from a place of consent for all of us to learn and grow. The WiCyS Leadership Series: Speak. Listen. Community. cultivates the community and space for that dialogue. \nDuring the April session\, we will discuss the book IN Security: Why a Failure to Attract and Retain Women in Cybersecurity is Making Us All Less Safe\, with special guest and author Jane Frankland. By combining stories\, interviews\, and data with practical advice\, golden rules\, and checklists\, IN Security provides the means to understand why the numbers of women in cybersecurity have fallen\, along with strategies for attracting\, identifying\, and retaining more women in cybersecurity. Jane’s book is essential reading for anyone in cybersecurity or looking to get into it and is an Amazon No.1 bestseller. \nJoin us on April 19 at 12 pm CT as the author\, Jane Frankland\, and WiCyS member\, Jessica Robinson\, facilitate the discussion. Upon registration\, you will receive additional resources. \nIf you are a WiCyS volunteer in a leadership role and have not received an invite from Lynn Dohm\, email her at lynn@wicys.org. \nAfter registering\, you will receive a confirmation email containing information about joining the meeting.
URL:https://www.wicys.org/event/wicys-leadership-series-why-a-failure-to-attract-and-retain-women-in-cybersecurity-is-making-us-all-less-safe/
ATTACH;FMTTYPE=image/png:https://www.wicys.org/wp-content/uploads/2023/03/Leadership-Series-April-2023.png
END:VEVENT
END:VCALENDAR