BEGIN:VCALENDAR
VERSION:2.0
PRODID:-//WiCyS - Women in Cybersecurity - ECPv6.15.20//NONSGML v1.0//EN
CALSCALE:GREGORIAN
METHOD:PUBLISH
X-WR-CALNAME:WiCyS - Women in Cybersecurity
X-ORIGINAL-URL:https://www.wicys.org
X-WR-CALDESC:Events for WiCyS - Women in Cybersecurity
REFRESH-INTERVAL;VALUE=DURATION:PT1H
X-Robots-Tag:noindex
X-PUBLISHED-TTL:PT1H
BEGIN:VTIMEZONE
TZID:UTC
BEGIN:STANDARD
TZOFFSETFROM:+0000
TZOFFSETTO:+0000
TZNAME:UTC
DTSTART:20220101T000000
END:STANDARD
END:VTIMEZONE
BEGIN:VTIMEZONE
TZID:America/Los_Angeles
BEGIN:DAYLIGHT
TZOFFSETFROM:-0800
TZOFFSETTO:-0700
TZNAME:PDT
DTSTART:20220313T100000
END:DAYLIGHT
BEGIN:STANDARD
TZOFFSETFROM:-0700
TZOFFSETTO:-0800
TZNAME:PST
DTSTART:20221106T090000
END:STANDARD
BEGIN:DAYLIGHT
TZOFFSETFROM:-0800
TZOFFSETTO:-0700
TZNAME:PDT
DTSTART:20230312T100000
END:DAYLIGHT
BEGIN:STANDARD
TZOFFSETFROM:-0700
TZOFFSETTO:-0800
TZNAME:PST
DTSTART:20231105T090000
END:STANDARD
BEGIN:DAYLIGHT
TZOFFSETFROM:-0800
TZOFFSETTO:-0700
TZNAME:PDT
DTSTART:20240310T100000
END:DAYLIGHT
BEGIN:STANDARD
TZOFFSETFROM:-0700
TZOFFSETTO:-0800
TZNAME:PST
DTSTART:20241103T090000
END:STANDARD
END:VTIMEZONE
BEGIN:VEVENT
DTSTART;VALUE=DATE:20230613
DTEND;VALUE=DATE:20230615
DTSTAMP:20260422T084426
CREATED:20230405T172708Z
LAST-MODIFIED:20230523T212637Z
UID:10001228-1686614400-1686787199@www.wicys.org
SUMMARY:WiCyS at AWS re:Inforce
DESCRIPTION:Calling all security\, compliance\, or identity industry professionals! WiCyS members have been invited to attend the AWS re:Inforce 2023 Conference\, a security learning conference featuring AWS experts and industry-leading customers\, held in Anaheim\, CA\, or virtually on June 13-14\, 2023. Attendees will have the opportunity to connect with other industry professionals\, engage in top-of-mind security risks\, and learn about the latest AWS security solutions – a great way to up your security knowledge and network with your peers! Sign up HERE if you are interested in a complimentary pass to the event. Come see what we’ve been building for you and your customers \nRegister HERE. \nReach out to info@wicys.org for any additional questions. \n 
URL:https://www.wicys.org/event/wicys-at-aws-reinforce-2/
ATTACH;FMTTYPE=image/png:https://www.wicys.org/wp-content/uploads/2023/04/WiCyS-at-AWS-re-inforce.png
END:VEVENT
BEGIN:VEVENT
DTSTART;VALUE=DATE:20230614
DTEND;VALUE=DATE:20230615
DTSTAMP:20260422T084426
CREATED:20230525T140324Z
LAST-MODIFIED:20230525T140324Z
UID:10001235-1686700800-1686787199@www.wicys.org
SUMMARY:Instagram Takeover | Sandia National Labs
DESCRIPTION:Sandia National Laboratories is taking over the WiCyS Instagram stories on June 14 to give you an inside look at working with Sandia Labs. Cybersecurity Researchers\, Meghan\, and Katie will guide us along thru their day. We’ll hear about their career journeys and the experiences of others at Sandia as well as internship and career opportunities! \nMeghan is a mathematician by training and through her nearly nine years at Sandia National Laboratories\, she has applied her skills to many application areas. Her current and perhaps favorite area of work is as a cyber security researcher for cyber-physical systems. The bulk of her work focuses on cyber systems modeling/simulation\, cyber experimentation\, and analysis where she brings rigorous scientific principles of modeling and experimentation to the cyber domain to ensure the protection of the nation’s critical systems. \nKatie is a Cybersecurity Researcher at Sandia National Laboratories. She has over ten years of experience applying data analysis and machine learning to problems to meet challenges in the software security assessment domain. As an example\, Katie has explored deep learning applications for detecting flaws in common software programs. \nJoin these two on June 14 by tuning into the WiCyS Instagram page here: https://www.instagram.com/wicysorg/
URL:https://www.wicys.org/event/instagram-takeover-sandia-national-labs/
ATTACH;FMTTYPE=image/png:https://www.wicys.org/wp-content/uploads/2023/05/Sandia-Instagram-Takeover-1920-×-1080-px-1.png
END:VEVENT
BEGIN:VEVENT
DTSTART;TZID=America/Los_Angeles:20230614T170000
DTEND;TZID=America/Los_Angeles:20230614T180000
DTSTAMP:20260422T084426
CREATED:20230612T192804Z
LAST-MODIFIED:20230612T193049Z
UID:10001258-1686762000-1686765600@www.wicys.org
SUMMARY:WiCyS Silicon Valley Affiliate | Forecasting Data Breaches with Thomas Lee\, PhD
DESCRIPTION:Join WiCyS Silicon Valley as we host Thomas Lee\, PhD\, to discuss the role of certifications and staffing in forecasting data breaches on Wednesday\, June 14th at 5:00 – 6:00 pm PST! 🔒 \nData breaches are not random incidents. In an upcoming session\, Dr. Thomas Lee\, CEO of VivoSecurity\, will shed light on an often overlooked aspect of data breach prediction: insufficient staffing. Building upon his work in forecasting fraud among business customers\, Dr. Lee discovered that audit staff\, not just IT staff\, play a crucial role in preventing data breaches. \nDuring this session\, you’ll gain insights into accurately forecasting cybersecurity data breaches based on number of employees and their specific certifications related to cybersecurity. Dr. Lee will showcase how this approach can help organizations establish risk appetite goals in terms of expected breach frequency\, enabling them to right-size their cybersecurity teams accordingly. \nCPE credit:\nYou can earn 1 CPE credit by attending this webinar. If you want to claim this CPE credit towards the CISA\, you’ll need to send a request to our Board asking for evidence of your attendance. \nAbout the speaker:\nThomas Lee\, PhD is an esteemed expert in the field of cybersecurity and the CEO of VivoSecurity. His Silicon Valley-based company leverages data collection\, regression modeling\, and AI to bring predictability to the seemingly random nature of data breaches. With extensive experience in developing models for forecasting fraud\, PII data breaches\, lawsuits and costs associated with breaches\, and shareholder lawsuits for public companies\, Dr. Lee is a leading authority in the cybersecurity landscape. \nDon’t miss this opportunity to learn from Dr. Thomas Lee\, and enhance your organization’s approach to data breach prevention! 💥 \nRegister now for the event HERE.
URL:https://www.wicys.org/event/wicys-silicon-valley-affiliate-forecasting-data-breaches-with-thomas-lee-phd/
LOCATION:Zoom\, IN
CATEGORIES:Webinar
ATTACH;FMTTYPE=image/png:https://www.wicys.org/wp-content/uploads/2023/06/WiCyS-Silicon-Valley-Logo-on-Shield.png
ORGANIZER;CN="WiCyS Silicon Valley":MAILTO:WiCySSiliconValley@wicys.org
END:VEVENT
END:VCALENDAR