BEGIN:VCALENDAR
VERSION:2.0
PRODID:-//WiCyS - Women in Cybersecurity - ECPv6.15.20//NONSGML v1.0//EN
CALSCALE:GREGORIAN
METHOD:PUBLISH
X-ORIGINAL-URL:https://www.wicys.org
X-WR-CALDESC:Events for WiCyS - Women in Cybersecurity
REFRESH-INTERVAL;VALUE=DURATION:PT1H
X-Robots-Tag:noindex
X-PUBLISHED-TTL:PT1H
BEGIN:VTIMEZONE
TZID:UTC
BEGIN:STANDARD
TZOFFSETFROM:+0000
TZOFFSETTO:+0000
TZNAME:UTC
DTSTART:20220101T000000
END:STANDARD
END:VTIMEZONE
BEGIN:VTIMEZONE
TZID:America/New_York
BEGIN:DAYLIGHT
TZOFFSETFROM:-0500
TZOFFSETTO:-0400
TZNAME:EDT
DTSTART:20220313T070000
END:DAYLIGHT
BEGIN:STANDARD
TZOFFSETFROM:-0400
TZOFFSETTO:-0500
TZNAME:EST
DTSTART:20221106T060000
END:STANDARD
BEGIN:DAYLIGHT
TZOFFSETFROM:-0500
TZOFFSETTO:-0400
TZNAME:EDT
DTSTART:20230312T070000
END:DAYLIGHT
BEGIN:STANDARD
TZOFFSETFROM:-0400
TZOFFSETTO:-0500
TZNAME:EST
DTSTART:20231105T060000
END:STANDARD
BEGIN:DAYLIGHT
TZOFFSETFROM:-0500
TZOFFSETTO:-0400
TZNAME:EDT
DTSTART:20240310T070000
END:DAYLIGHT
BEGIN:STANDARD
TZOFFSETFROM:-0400
TZOFFSETTO:-0500
TZNAME:EST
DTSTART:20241103T060000
END:STANDARD
END:VTIMEZONE
BEGIN:VEVENT
DTSTART;VALUE=DATE:20230627
DTEND;VALUE=DATE:20230719
DTSTAMP:20260424T212022
CREATED:20230627T020013Z
LAST-MODIFIED:20230626T152054Z
UID:10001264-1687824000-1689724799@www.wicys.org
SUMMARY:Speaker Spotlight Program Applications Now Open!
DESCRIPTION:WiCyS is excited to announce the launch of the WiCyS Speakers Spotlight Program! This new program is designed to help women like you\, professionals working in cybersecurity\, to develop public speaking skills and find opportunities for speaking engagements. We know this program will elevate the voice of women across the cybersecurity industry!   \nOpen to any WiCyS member working professionally\, this Cisco-sponsored program grants free access to Innovation Women\, an online platform that provides equal visibility opportunities for women and connects female professionals with speaking opportunities\, podcast guest slots\, and expert source opportunities with journalists. \nWomen accepted into the Speakers Spotlight Program can create their speaker profile on the Innovation Women platform\, where they can also access tutorials and educational modules\, tools to manage and organize speaking applications and engagements\, and the 2\,000 speaker member directory.  \nSpeaking opportunities can expand industry connections and elevate business growth—and speakers like you can motivate and inspire young women to become interested in a career in cybersecurity.  \nTell your story and share your passion for cybersecurity—your voice deserves to be heard!  \nApply today and become a part of the 350 WiCyS speaker cohort. Applications close on July 18.  Learn more details here!
URL:https://www.wicys.org/event/apply-for-the-speaker-spotlight-program/
ATTACH;FMTTYPE=image/jpeg:https://www.wicys.org/wp-content/uploads/2023/06/Speaker-Spotlight-Program-App-Close.jpg
END:VEVENT
BEGIN:VEVENT
DTSTART;TZID=UTC:20230629T120000
DTEND;TZID=UTC:20230629T130000
DTSTAMP:20260424T212022
CREATED:20230615T180608Z
LAST-MODIFIED:20230623T165905Z
UID:10001047-1688040000-1688043600@www.wicys.org
SUMMARY:Webinar | 2023 Speaker Spotlight Program
DESCRIPTION:Join Lynn Dohm\, Executive Director (WiCyS)\, Pam Lindemoen\, CISO Advisor (Cisco Secure)\, and Bobbie Carlton\, Founder at Innovation Women as they share how this Speakers Spotlight Program allows WiCyS members to generate more pathways to educate others\, share skill sets and insights\, explore thought leadership\, and more. Gain visibility for speaking engagements in this one-year cohort\, tell your story\, and share your passion by stepping into the space of public speaking. Applications open on June 27th. \nRegister HERE.
URL:https://www.wicys.org/event/webinar-2023-speaker-spotlight-program/
CATEGORIES:Webinar
ATTACH;FMTTYPE=image/png:https://www.wicys.org/wp-content/uploads/2023/06/Speaker-Spotlight-Program-Webinar.png
END:VEVENT
BEGIN:VEVENT
DTSTART;TZID=America/New_York:20230629T140000
DTEND;TZID=America/New_York:20230629T150000
DTSTAMP:20260424T212022
CREATED:20230620T130656Z
LAST-MODIFIED:20230620T130656Z
UID:10001049-1688047200-1688050800@www.wicys.org
SUMMARY:WiCyS DevSecOps Affiliate | Meet & Greet
DESCRIPTION:Come Meet our WiCyS DevSecOps Affiliate Board! \nWe\, the members of WiCyS DevSecOps Affiliate\, are very excited to start this new chapter as members of this dynamic organization. We want to introduce our board members\, speak to you about our vision for WiCyS DevSecOps Affiliate\, and share information about one of our upcoming programs for this year. What better way to do this is by having our 1st event\, a Meet & Greet? \nPlease join us on Thursday\, June 29th\, 2023\, at 2 – 3 pm EST. Registration is open now. We will share the link closer to the event date. See you there.
URL:https://www.wicys.org/event/wicys-devsecops-affiliate-meet-greet/
LOCATION:Remote
CATEGORIES:Webinar
ATTACH;FMTTYPE=image/jpeg:https://www.wicys.org/wp-content/uploads/2023/06/WiCyS-DevSecOps-Affiliate-Logo-on-Shield.jpg
ORGANIZER;CN="WiCyS - DevSecOps":MAILTO:WiCySDevSecOps@wicys.org
END:VEVENT
END:VCALENDAR