BEGIN:VCALENDAR
VERSION:2.0
PRODID:-//WiCyS - Women in Cybersecurity - ECPv6.15.20//NONSGML v1.0//EN
CALSCALE:GREGORIAN
METHOD:PUBLISH
X-ORIGINAL-URL:https://www.wicys.org
X-WR-CALDESC:Events for WiCyS - Women in Cybersecurity
REFRESH-INTERVAL;VALUE=DURATION:PT1H
X-Robots-Tag:noindex
X-PUBLISHED-TTL:PT1H
BEGIN:VTIMEZONE
TZID:UTC
BEGIN:STANDARD
TZOFFSETFROM:+0000
TZOFFSETTO:+0000
TZNAME:UTC
DTSTART:20220101T000000
END:STANDARD
END:VTIMEZONE
BEGIN:VEVENT
DTSTART;VALUE=DATE:20230627
DTEND;VALUE=DATE:20230719
DTSTAMP:20260425T024707
CREATED:20230627T020013Z
LAST-MODIFIED:20230626T152054Z
UID:10001264-1687824000-1689724799@www.wicys.org
SUMMARY:Speaker Spotlight Program Applications Now Open!
DESCRIPTION:WiCyS is excited to announce the launch of the WiCyS Speakers Spotlight Program! This new program is designed to help women like you\, professionals working in cybersecurity\, to develop public speaking skills and find opportunities for speaking engagements. We know this program will elevate the voice of women across the cybersecurity industry!   \nOpen to any WiCyS member working professionally\, this Cisco-sponsored program grants free access to Innovation Women\, an online platform that provides equal visibility opportunities for women and connects female professionals with speaking opportunities\, podcast guest slots\, and expert source opportunities with journalists. \nWomen accepted into the Speakers Spotlight Program can create their speaker profile on the Innovation Women platform\, where they can also access tutorials and educational modules\, tools to manage and organize speaking applications and engagements\, and the 2\,000 speaker member directory.  \nSpeaking opportunities can expand industry connections and elevate business growth—and speakers like you can motivate and inspire young women to become interested in a career in cybersecurity.  \nTell your story and share your passion for cybersecurity—your voice deserves to be heard!  \nApply today and become a part of the 350 WiCyS speaker cohort. Applications close on July 18.  Learn more details here!
URL:https://www.wicys.org/event/apply-for-the-speaker-spotlight-program/
ATTACH;FMTTYPE=image/jpeg:https://www.wicys.org/wp-content/uploads/2023/06/Speaker-Spotlight-Program-App-Close.jpg
END:VEVENT
BEGIN:VEVENT
DTSTART;TZID=UTC:20230718T130000
DTEND;TZID=UTC:20230718T140000
DTSTAMP:20260425T024707
CREATED:20230630T194917Z
LAST-MODIFIED:20230630T195011Z
UID:10001269-1689685200-1689688800@www.wicys.org
SUMMARY:Webinar SANS | Upgrading Your Cyber Skills with Graduate Education
DESCRIPTION:Explore the SANS Technology Institute’s career-focused cybersecurity graduate programs designed for working professionals looking to sharpen job-specific skills\, keep their knowledge current\, and advance their careers. In this WiCyS strategic partner webinar\, you’ll learn about the state-of-the-art curriculum\, world-class faculty\, and flexible structure of the SANS.edu programs\, as well as the admissions process and options for funding.\n\nCan’t make it during the scheduled time? Go ahead and register to receive a recording as soon as we wrap!\n\n\nWiCyS is proud to provide members the opportunity to earn CPE/CEU credits for attending WiCyS Webinars live. \nTo earn CPE/CEU credits with the following providers\, you must meet the minimum requirements:\n– GIAC/(ISC)2: attend for a minimum of 45 minutes or the entirety of the webinar\n– CompTIA: attend for a minimum of 60 minutes or the entirety of the webinar (webinar topic must relate to the certificate being renewed) \nAttendees who meet the requirements will receive a verification email to use as proof of attendance for submitting CPE or CEU credits with their provider. \n\n\nRegister HERE.
URL:https://www.wicys.org/event/webinar-sans-upgrading-your-cyber-skills-with-graduate-education/
CATEGORIES:Webinar
ATTACH;FMTTYPE=image/png:https://www.wicys.org/wp-content/uploads/2023/06/Upgrading-Your-Cyber-Skills-with-Graduate-Education-Webinar.png
END:VEVENT
BEGIN:VEVENT
DTSTART;TZID=UTC:20230718T170000
DTEND;TZID=UTC:20230718T180000
DTSTAMP:20260425T024707
CREATED:20230621T171242Z
LAST-MODIFIED:20230621T171242Z
UID:10001056-1689699600-1689703200@www.wicys.org
SUMMARY:Webinar | Microsoft Security Monthly Career Panel
DESCRIPTION:Joram Borenstein (GM\, Security Sales GMT & Strategy at Microsoft) is organizing the career panel discussion series from Microsoft Philanthropies (MSFT)\, where WiCyS student chapters will be able to ask any questions about the projects\, stories\, work environment\, certifications\, day-to-day activities\, etc. The goal of this series is to build stronger ties with undergraduates & graduate students via monthly career panel discussions with Women in CyberSecurity chapters in the US and abroad. \nRegister HERE.
URL:https://www.wicys.org/event/webinar-microsoft-security-monthly-career-panel-2/
CATEGORIES:Webinar
ATTACH;FMTTYPE=image/png:https://www.wicys.org/wp-content/uploads/2023/06/Microsoft-Cybersecurity-Monthly-Career-Panel-Discussion-Webinar-7-18.png
END:VEVENT
END:VCALENDAR