BEGIN:VCALENDAR
VERSION:2.0
PRODID:-//WiCyS - Women in Cybersecurity - ECPv6.15.20//NONSGML v1.0//EN
CALSCALE:GREGORIAN
METHOD:PUBLISH
X-WR-CALNAME:WiCyS - Women in Cybersecurity
X-ORIGINAL-URL:https://www.wicys.org
X-WR-CALDESC:Events for WiCyS - Women in Cybersecurity
REFRESH-INTERVAL;VALUE=DURATION:PT1H
X-Robots-Tag:noindex
X-PUBLISHED-TTL:PT1H
BEGIN:VTIMEZONE
TZID:UTC
BEGIN:STANDARD
TZOFFSETFROM:+0000
TZOFFSETTO:+0000
TZNAME:UTC
DTSTART:20220101T000000
END:STANDARD
END:VTIMEZONE
BEGIN:VEVENT
DTSTART;VALUE=DATE:20230726
DTEND;VALUE=DATE:20230727
DTSTAMP:20260425T024903
CREATED:20230723T180330Z
LAST-MODIFIED:20230723T181423Z
UID:10001284-1690329600-1690415999@www.wicys.org
SUMMARY:WiCyS Instagram Takeover | Amazon
DESCRIPTION:Amazon is back to takeover the WiCyS Instagram Stories! \nAs the Chief of Staff for the Application Security Manager at Amazon\, Avery Koep obsesses over the maturity of Amazon’s Application Security Programs. Avery develops solid best practices and norms through active collaboration with security experts\, and uses collaboration and advocacy to drive their adoption. Avery’s programs facilitate secure design implementation throughout the application lifecycle with the goal of protecting customer data and supporting Amazon business verticals in maintaining the singular Amazon Security Bar. \nIn prior roles\, Avery led Product for AWS’s Embedded Security Team\, launched multiple VP initiatives and facilitated greenfield product development for the global Sales workforce. Avery also served as an Engagement Manger for Amazon’s Information Security Org in the intersection of Amazon Web Services\, Amazon’s Subsidiaries\, Amazon acquisition targets and Federated Security Teams. While in this role\, Avery drove alignment on security programs across these business lines\, oversaw the secure purchase and integration of multiple acquisitions and ensured the secure launch of flagship S-Team Program\, Amazon Pharmacy. \nAvery brings experience from a wide breadth of programs with a focus on technology integration and large-scale digital transformation work. Her knowledge spans security domains extending from secure software development\, vulnerability management\, and endpoint management to network automation. \nTune-in to Avery’s Instagram Takeover on July 26 to learn about her role\, ask questions\, and explore careers at Amazon! \nhttps://www.instagram.com/wicysorg/ \n 
URL:https://www.wicys.org/event/wicys-instagram-takeover-amazon/
ATTACH;FMTTYPE=image/png:https://www.wicys.org/wp-content/uploads/2023/07/AWS-Instagram-Takeover-1920-×-1080-px.png
END:VEVENT
END:VCALENDAR