BEGIN:VCALENDAR
VERSION:2.0
PRODID:-//WiCyS - Women in Cybersecurity - ECPv6.15.20//NONSGML v1.0//EN
CALSCALE:GREGORIAN
METHOD:PUBLISH
X-ORIGINAL-URL:https://www.wicys.org
X-WR-CALDESC:Events for WiCyS - Women in Cybersecurity
REFRESH-INTERVAL;VALUE=DURATION:PT1H
X-Robots-Tag:noindex
X-PUBLISHED-TTL:PT1H
BEGIN:VTIMEZONE
TZID:Asia/Karachi
BEGIN:STANDARD
TZOFFSETFROM:+0500
TZOFFSETTO:+0500
TZNAME:PKT
DTSTART:20220101T000000
END:STANDARD
END:VTIMEZONE
BEGIN:VEVENT
DTSTART;TZID=Asia/Karachi:20230801T170000
DTEND;TZID=Asia/Karachi:20230801T190000
DTSTAMP:20260425T040512
CREATED:20230802T210530Z
LAST-MODIFIED:20230802T210530Z
UID:10001289-1690909200-1690916400@www.wicys.org
SUMMARY:WiCyS Idaho Affiliate | Meet and Greet
DESCRIPTION:The Women in CyberSecurity (WiCyS) Idaho Affiliate team is excited to extend an open invitation to ALL who share an interest in cybersecurity. Join us for our first meetup on August 1\, 2023\, from 5:00 PM to 7:00 PM. \nOur no-host event will take place at the Mackenzie River restaurant in Idaho Falls\, ID on the first Tuesday of every month. Our monthly meetups are intended to provide a supportive and inclusive environment\, where cybersecurity enthusiasts like you can share knowledge\, gain insights\, and build meaningful relationships within the industry. \nPlease RSVP by August 1st to secure your spot (RSVPing is not mandatory but encouraged for space planning purposes) \nIf you are interested in joining us please let us know by filling out this form HERE.  \nPlease feel free to forward this invite to anyone who may be interested in attending. If you have any questions or need additional information\, please don’t hesitate to reach out to our email at wicysidaho@wicys.org.
URL:https://www.wicys.org/event/wicys-idaho-affiliate-meet-and-greet/
LOCATION:mackenzie river idaho falls id\, 1490 Milligan Rd\, Idaho Falls\, Idaho\, 83402
ORGANIZER;CN="ISACA Denver Chapter":MAILTO:membership@denver.isacachapter.org
END:VEVENT
END:VCALENDAR