BEGIN:VCALENDAR
VERSION:2.0
PRODID:-//WiCyS - Women in Cybersecurity - ECPv6.15.20//NONSGML v1.0//EN
CALSCALE:GREGORIAN
METHOD:PUBLISH
X-WR-CALNAME:WiCyS - Women in Cybersecurity
X-ORIGINAL-URL:https://www.wicys.org
X-WR-CALDESC:Events for WiCyS - Women in Cybersecurity
REFRESH-INTERVAL;VALUE=DURATION:PT1H
X-Robots-Tag:noindex
X-PUBLISHED-TTL:PT1H
BEGIN:VTIMEZONE
TZID:UTC
BEGIN:STANDARD
TZOFFSETFROM:+0000
TZOFFSETTO:+0000
TZNAME:UTC
DTSTART:20220101T000000
END:STANDARD
END:VTIMEZONE
BEGIN:VEVENT
DTSTART;TZID=UTC:20230802T140000
DTEND;TZID=UTC:20230802T150000
DTSTAMP:20260425T024923
CREATED:20230721T193352Z
LAST-MODIFIED:20230721T195103Z
UID:10001281-1690984800-1690988400@www.wicys.org
SUMMARY:Webinar | WiCyS: 23-24 Security Training Scholarship
DESCRIPTION:WiCyS is proud to offer the Security Training Scholarship. Join the team that brings this opportunity to life during a webinar on Wednesday\, August 1st at 2 pm CT. This event will include an introduction and overview of the program\, some alumni success stories\, and time for Q & A. \nAbout the Security Training Scholarship:\nThe focus of this multi-staged scholarship opportunity is to award WiCyS members who are seeking cybersecurity employment within the next 1.5 years. The program is designed for aspiring professionals and career changers. Those selected will participate in a reliable pathway to launch and advance in their cybersecurity careers through skills development. \nRegister HERE. 
URL:https://www.wicys.org/event/webinar-wicys-23-24-security-training-scholarship/
CATEGORIES:Webinar
ATTACH;FMTTYPE=image/png:https://www.wicys.org/wp-content/uploads/2023/07/23-24-Security-Training-Scholarship-Webinar.png
END:VEVENT
END:VCALENDAR