BEGIN:VCALENDAR
VERSION:2.0
PRODID:-//WiCyS - Women in Cybersecurity - ECPv6.15.20//NONSGML v1.0//EN
CALSCALE:GREGORIAN
METHOD:PUBLISH
X-WR-CALNAME:WiCyS - Women in Cybersecurity
X-ORIGINAL-URL:https://www.wicys.org
X-WR-CALDESC:Events for WiCyS - Women in Cybersecurity
REFRESH-INTERVAL;VALUE=DURATION:PT1H
X-Robots-Tag:noindex
X-PUBLISHED-TTL:PT1H
BEGIN:VTIMEZONE
TZID:UTC
BEGIN:STANDARD
TZOFFSETFROM:+0000
TZOFFSETTO:+0000
TZNAME:UTC
DTSTART:20220101T000000
END:STANDARD
END:VTIMEZONE
BEGIN:VEVENT
DTSTART;TZID=UTC:20230803T130000
DTEND;TZID=UTC:20230803T140000
DTSTAMP:20260425T135718
CREATED:20230721T195443Z
LAST-MODIFIED:20230724T201737Z
UID:10001282-1691067600-1691071200@www.wicys.org
SUMMARY:Webinar | Lockheed Martin: Capture the Flag (CTF) 101
DESCRIPTION:Have you ever wanted to play a cyber security Capture the Flag (CTF) event but didn’t know how to start? Are you curious about the learning opportunities CTFs provide to boost your knowledge and cyber security career? \nJoin WiCyS strategic partner Lockheed Martin for an introduction to the five W’s (who\, what\, when\, where and why) of CTF events. They’ll also cover some recommendations on how to get started with these fun and educational challenges. \nCan’t make it during the scheduled time? Go ahead and register to receive a recording as soon as we wrap. \nWiCyS is proud to provide members the opportunity to earn CPE/CEU credits for attending WiCyS Webinars live. To earn CPE/CEU credits with the following providers\, you must meet the minimum requirements: – GIAC/(ISC)2: attend for a minimum of 45 minutes or the entirety of the webinar – CompTIA: attend for a minimum of 60 minutes or the entirety of the webinar (webinar topic must relate to the certificate being renewed) \nAttendees who meet the requirements will receive a verification email to use as proof of attendance for submitting CPE or CEU credits with their provider. \nRegister HERE.
URL:https://www.wicys.org/event/webinar-lockheed-martin-capture-the-flag-ctf-101/
ATTACH;FMTTYPE=image/png:https://www.wicys.org/wp-content/uploads/2023/07/Capture-the-Flag-CTF-101-Webinar-1.png
END:VEVENT
END:VCALENDAR