BEGIN:VCALENDAR
VERSION:2.0
PRODID:-//WiCyS - Women in Cybersecurity - ECPv6.15.20//NONSGML v1.0//EN
CALSCALE:GREGORIAN
METHOD:PUBLISH
X-ORIGINAL-URL:https://www.wicys.org
X-WR-CALDESC:Events for WiCyS - Women in Cybersecurity
REFRESH-INTERVAL;VALUE=DURATION:PT1H
X-Robots-Tag:noindex
X-PUBLISHED-TTL:PT1H
BEGIN:VTIMEZONE
TZID:UTC
BEGIN:STANDARD
TZOFFSETFROM:+0000
TZOFFSETTO:+0000
TZNAME:UTC
DTSTART:20220101T000000
END:STANDARD
END:VTIMEZONE
BEGIN:VEVENT
DTSTART;VALUE=DATE:20230805
DTEND;VALUE=DATE:20230811
DTSTAMP:20260425T040330
CREATED:20230703T170146Z
LAST-MODIFIED:20230804T114940Z
UID:10001273-1691193600-1691711999@www.wicys.org
SUMMARY:WiCyS at Black Hat 2023
DESCRIPTION:Join WiCyS at Black Hat the world’s leading producer of information security events! Connect with WiCyS at the Black Hat conference from August 9th to 10th in Business Hall. Join Lynn Dohm\, WiCyS executive director\, as she facilitates a conversation on Cybersecurity Leaders: Keeping an Eye on the “I” of Inclusion’. Head out and stop by our WiCyS booth (# 2612D) then\, connect with your cybersecurity peers at the WiCyS Meet-Up\, Thursday\, August 10th\, from 3 pm – 4 pm in South Pacific H\, North Hall\, to network while enjoying good company\, and WiCyS swag. \nRegister HERE with promo code:  WICYS2023
URL:https://www.wicys.org/event/wicys-at-black-hat-2023/
ATTACH;FMTTYPE=image/jpeg:https://www.wicys.org/wp-content/uploads/2023/07/WiCyS-at-Black-Hat-2023.jpg
END:VEVENT
END:VCALENDAR