BEGIN:VCALENDAR
VERSION:2.0
PRODID:-//WiCyS - Women in Cybersecurity - ECPv6.15.20//NONSGML v1.0//EN
CALSCALE:GREGORIAN
METHOD:PUBLISH
X-ORIGINAL-URL:https://www.wicys.org
X-WR-CALDESC:Events for WiCyS - Women in Cybersecurity
REFRESH-INTERVAL;VALUE=DURATION:PT1H
X-Robots-Tag:noindex
X-PUBLISHED-TTL:PT1H
BEGIN:VTIMEZONE
TZID:UTC
BEGIN:STANDARD
TZOFFSETFROM:+0000
TZOFFSETTO:+0000
TZNAME:UTC
DTSTART:20220101T000000
END:STANDARD
END:VTIMEZONE
BEGIN:VEVENT
DTSTART;TZID=UTC:20230816T110000
DTEND;TZID=UTC:20230816T170000
DTSTAMP:20260425T210901
CREATED:20230602T140227Z
LAST-MODIFIED:20230602T140227Z
UID:10001234-1692183600-1692205200@www.wicys.org
SUMMARY:The WiCyS Virtual Career Fair
DESCRIPTION:The WiCyS Virtual Career Fair (VCF) is August 16th\, 2023 from 11 am – 5 pm CT and is FREE to all WiCyS members. WiCyS Strategic Partners will be ready with their chat and video features enabled for an outstanding career fair experience. The VCF will be held in the Job Board++. \nLearn more HERE.
URL:https://www.wicys.org/event/the-wicys-virtual-career-fair/
ATTACH;FMTTYPE=image/png:https://www.wicys.org/wp-content/uploads/2023/06/Fall-2023-Virtual-Career-Fair.png
END:VEVENT
END:VCALENDAR