BEGIN:VCALENDAR
VERSION:2.0
PRODID:-//WiCyS - Women in Cybersecurity - ECPv6.15.20//NONSGML v1.0//EN
CALSCALE:GREGORIAN
METHOD:PUBLISH
X-WR-CALNAME:WiCyS - Women in Cybersecurity
X-ORIGINAL-URL:https://www.wicys.org
X-WR-CALDESC:Events for WiCyS - Women in Cybersecurity
REFRESH-INTERVAL;VALUE=DURATION:PT1H
X-Robots-Tag:noindex
X-PUBLISHED-TTL:PT1H
BEGIN:VTIMEZONE
TZID:UTC
BEGIN:STANDARD
TZOFFSETFROM:+0000
TZOFFSETTO:+0000
TZNAME:UTC
DTSTART:20220101T000000
END:STANDARD
END:VTIMEZONE
BEGIN:VEVENT
DTSTART;VALUE=DATE:20230821
DTEND;VALUE=DATE:20230826
DTSTAMP:20260425T135506
CREATED:20230620T172828Z
LAST-MODIFIED:20230823T184325Z
UID:10001053-1692576000-1693007999@www.wicys.org
SUMMARY:WiCyS Global at SANS Security Awareness: Managing Human Risk Summit 2023
DESCRIPTION:Visit  WiCyS booth at the 10th annual SANS Security Awareness: Managing Human Risk Summit to learn\, connect\, and share with thousands of fellow security awareness\, behavior\, and culture professionals from around the world. \nThe 2023 Summit will feature: \n\nIn-depth summit talks and panel discussions featuring Executive Director Lynn Dohm on the topic ” The Foundation to a Strong Security Culture: Feeling Safe and Included”\nLynn’s keynote on the topic “Cybersecurity Leadership: Mobilize\, not Paralyze”\nWiCyS Global Booth with our Deputy Director Michele Tomasic\n\nJoin us in person at Caesars Palace in Las Vegas\, NV\, or attend Live Online for FREE! Learn more and register today HERE. \n 
URL:https://www.wicys.org/event/wicys-at-sans-security-awareness-managing-human-risk-summit-2023/
ATTACH;FMTTYPE=image/png:https://www.wicys.org/wp-content/uploads/2023/06/WiCyS-at-SANS-Security-Awareness-Managing-Human-Risk-Summit-2023.png
END:VEVENT
END:VCALENDAR