BEGIN:VCALENDAR
VERSION:2.0
PRODID:-//WiCyS - Women in Cybersecurity - ECPv6.15.20//NONSGML v1.0//EN
CALSCALE:GREGORIAN
METHOD:PUBLISH
X-WR-CALNAME:WiCyS - Women in Cybersecurity
X-ORIGINAL-URL:https://www.wicys.org
X-WR-CALDESC:Events for WiCyS - Women in Cybersecurity
REFRESH-INTERVAL;VALUE=DURATION:PT1H
X-Robots-Tag:noindex
X-PUBLISHED-TTL:PT1H
BEGIN:VTIMEZONE
TZID:America/Chicago
BEGIN:DAYLIGHT
TZOFFSETFROM:-0600
TZOFFSETTO:-0500
TZNAME:CDT
DTSTART:20230312T080000
END:DAYLIGHT
BEGIN:STANDARD
TZOFFSETFROM:-0500
TZOFFSETTO:-0600
TZNAME:CST
DTSTART:20231105T070000
END:STANDARD
BEGIN:DAYLIGHT
TZOFFSETFROM:-0600
TZOFFSETTO:-0500
TZNAME:CDT
DTSTART:20240310T080000
END:DAYLIGHT
BEGIN:STANDARD
TZOFFSETFROM:-0500
TZOFFSETTO:-0600
TZNAME:CST
DTSTART:20241103T070000
END:STANDARD
BEGIN:DAYLIGHT
TZOFFSETFROM:-0600
TZOFFSETTO:-0500
TZNAME:CDT
DTSTART:20250309T080000
END:DAYLIGHT
BEGIN:STANDARD
TZOFFSETFROM:-0500
TZOFFSETTO:-0600
TZNAME:CST
DTSTART:20251102T070000
END:STANDARD
END:VTIMEZONE
BEGIN:VTIMEZONE
TZID:UTC
BEGIN:STANDARD
TZOFFSETFROM:+0000
TZOFFSETTO:+0000
TZNAME:UTC
DTSTART:20230101T000000
END:STANDARD
END:VTIMEZONE
BEGIN:VEVENT
DTSTART;VALUE=DATE:20240206
DTEND;VALUE=DATE:20240208
DTSTAMP:20260425T110812
CREATED:20240112T181854Z
LAST-MODIFIED:20240119T212236Z
UID:10001440-1707177600-1707350399@www.wicys.org
SUMMARY:WiCyS Professional Affiliate Leaders Only Meeting
DESCRIPTION:WiCyS Professional Affiliate Leaders-Only Meeting: We are all Stronger Together. As WiCyS professional affiliates trail blaze through their regional\, specialty\, or corporate affiliate programs\, we collectively meet monthly in a leadership capacity to sync up on WiCyS global updates\, best practices\, upcoming events\, and Q & A. \nAffiliate meetings are held the first Tuesday at 7:00pm CT and the first Wednesday at 1:00am CT of the month.
URL:https://www.wicys.org/event/wicys-professional-affiliate-leaders-only-meeting/
LOCATION:Virtual
CATEGORIES:WiCyS Affiliate
ATTACH;FMTTYPE=image/png:https://www.wicys.org/wp-content/uploads/2024/01/big-Affiliate-Meeting-Image.png
END:VEVENT
BEGIN:VEVENT
DTSTART;VALUE=DATE:20240207
DTEND;VALUE=DATE:20240208
DTSTAMP:20260425T110812
CREATED:20240203T202413Z
LAST-MODIFIED:20240203T202413Z
UID:10001469-1707264000-1707350399@www.wicys.org
SUMMARY:WiCyS Instagram Takeover | SentinelOne
DESCRIPTION:Join us on February 7th for Holly Bittinger’s IG takeover. Holly will interview various women at SentinelOne\, asking the hard questions about how they got where they are and what challenges they had to overcome as women in cybersecurity. As a corporate speaker\, Holly loves to share her speaking tips and will include both her day-to-day experiences working at SentinelOne and how she found her voice in tech. \nHolly Bittinger\, a seasoned corporate speaker with a decade of experience in tech startups\, found her passion for cybersecurity five years ago at SentinelOne\, where she currently serves as Product Communications Specialist. Holly represents the brand at conferences\, educating audiences on SentinelOne’s innovative\, AI-driven security platform. She also works in internal communications\, producing a dynamic weekly video series to keep employees abreast of press releases\, win stories\, and competitive insights. As both a WiCyS mentor and mentee\, Holly enjoys networking and helping other women find their voice in tech. \nVisit our Instagram page HERE.
URL:https://www.wicys.org/event/wicys-instagram-takeover-sentinelone/
ATTACH;FMTTYPE=image/png:https://www.wicys.org/wp-content/uploads/2024/02/SentinelOne-Instagram-Takeover-1920-×-1080-px.png
END:VEVENT
BEGIN:VEVENT
DTSTART;TZID=America/Chicago:20240207T080000
DTEND;TZID=America/Chicago:20240207T090000
DTSTAMP:20260425T110812
CREATED:20240119T212437Z
LAST-MODIFIED:20240119T212437Z
UID:10001446-1707292800-1707296400@www.wicys.org
SUMMARY:WiCyS Professional Affiliate International Leaders Only Meeting
DESCRIPTION:WiCyS Professional Affiliate Leaders-Only Meeting: We are all Stronger Together. As WiCyS professional affiliates trail blaze through their regional\, specialty\, or corporate affiliate programs\, we collectively meet monthly in a leadership capacity to sync up on WiCyS global updates\, best practices\, upcoming events\, and Q & A. \nInternational Affiliate meetings are held the first Wednesday of each month at 7:00am CT.
URL:https://www.wicys.org/event/wicys-professional-affiliate-international-leaders-only-meeting/
LOCATION:Virtual
ATTACH;FMTTYPE=image/png:https://www.wicys.org/wp-content/uploads/2024/01/big-Affiliate-Meeting-Image.png
END:VEVENT
END:VCALENDAR