BEGIN:VCALENDAR
VERSION:2.0
PRODID:-//WiCyS - Women in Cybersecurity - ECPv6.15.20//NONSGML v1.0//EN
CALSCALE:GREGORIAN
METHOD:PUBLISH
X-WR-CALNAME:WiCyS - Women in Cybersecurity
X-ORIGINAL-URL:https://www.wicys.org
X-WR-CALDESC:Events for WiCyS - Women in Cybersecurity
REFRESH-INTERVAL;VALUE=DURATION:PT1H
X-Robots-Tag:noindex
X-PUBLISHED-TTL:PT1H
BEGIN:VTIMEZONE
TZID:UTC
BEGIN:STANDARD
TZOFFSETFROM:+0000
TZOFFSETTO:+0000
TZNAME:UTC
DTSTART:20230101T000000
END:STANDARD
END:VTIMEZONE
BEGIN:VEVENT
DTSTART;TZID=UTC:20240615T090000
DTEND;TZID=UTC:20240615T110000
DTSTAMP:20260420T111209
CREATED:20240610T140156Z
LAST-MODIFIED:20240610T140156Z
UID:10001800-1718442000-1718449200@www.wicys.org
SUMMARY:WiCyS Austin Affiliate | June Social
DESCRIPTION:Come join fellow WiCyS Austin members to get together and network in an inclusive space. Discuss and share challenges and best practices. Whether you’re breaking into cybersecurity or are tenured\, all are welcome to Join! Your host this month is Ann-Marie Kiernan\, who currently serves as Operations Lead for the WiCyS Austin Affiliate. She is a Customer Success Specialist at LeadingReach. Feel free to connect with her on Linkedin. \n  \nRegister for this free event HERE
URL:https://www.wicys.org/event/wicys-austin-affiliate-june-social/
LOCATION:6406 North Interstate 35 Frontage Road #1100 Austin\, TX 78752\, 6406 North Interstate 35 Frontage Road #1100\, Austin\, TX\, 78752\, United States
CATEGORIES:WiCyS Affiliate
ATTACH;FMTTYPE=image/png:https://www.wicys.org/wp-content/uploads/2024/06/June-24-WiCyS-Monthly-Social-Linkedin.png
ORGANIZER;CN="WiCyS - Austin":MAILTO:wicysaustin@wicys.org
END:VEVENT
END:VCALENDAR