BEGIN:VCALENDAR
VERSION:2.0
PRODID:-//WiCyS - Women in Cybersecurity - ECPv6.15.20//NONSGML v1.0//EN
CALSCALE:GREGORIAN
METHOD:PUBLISH
X-ORIGINAL-URL:https://www.wicys.org
X-WR-CALDESC:Events for WiCyS - Women in Cybersecurity
REFRESH-INTERVAL;VALUE=DURATION:PT1H
X-Robots-Tag:noindex
X-PUBLISHED-TTL:PT1H
BEGIN:VTIMEZONE
TZID:UTC
BEGIN:STANDARD
TZOFFSETFROM:+0000
TZOFFSETTO:+0000
TZNAME:UTC
DTSTART:20230101T000000
END:STANDARD
END:VTIMEZONE
BEGIN:VEVENT
DTSTART;VALUE=DATE:20240909
DTEND;VALUE=DATE:20241105
DTSTAMP:20260421T103733
CREATED:20241001T141915Z
LAST-MODIFIED:20241001T141915Z
UID:10001907-1725840000-1730764799@www.wicys.org
SUMMARY:WiCyS Conference 2025 | Scholarship Applications are open
DESCRIPTION:The WiCyS annual in-person and virtual conferences are the premier events dedicated to recruiting\, retaining and advancing women in cybersecurity. Each year\, professionals and students—women and allies alike— unite to enhance their skills\, build valuable connections and pursue career advancement opportunities. Join us in shaping the future of the cybersecurity workforce. \nExpand your network and enrich your skills at the WiCyS technical conference. Take advantage of scholarships that provide reduced conference registration rates and three nights of complimentary shared lodging from April 2 to 5. All applicants must be current WiCyS members. \nScholarship categories include students\, military\, faculty\, allies\, mentors\, and equity & advancement. Please note that students MUST apply for a WiCyS scholarship to attend the 2025 conference\, as general registration is not available for students. Don’t miss your chance to be a part of this transformative community. Apply now and invest in your future! \n  \nSubmit for your Scholarship by November 4th at 5pm CT HERE
URL:https://www.wicys.org/event/wicys-conference-2025-scholarship-applications-are-open/
LOCATION:Virtual
CATEGORIES:WiCyS
ATTACH;FMTTYPE=image/png:https://www.wicys.org/wp-content/uploads/2024/10/2025-Call-For-Scholarships-1.png
END:VEVENT
BEGIN:VEVENT
DTSTART;VALUE=DATE:20240909
DTEND;VALUE=DATE:20241105
DTSTAMP:20260421T103733
CREATED:20241001T142432Z
LAST-MODIFIED:20241001T142432Z
UID:10001908-1725840000-1730764799@www.wicys.org
SUMMARY:WiCyS Conference 2025 | Call for Proposals are Open
DESCRIPTION:The WiCyS annual in-person and virtual conferences are the premier events dedicated to recruiting\, retaining and advancing women in cybersecurity. Each year\, professionals and students—women and allies alike— unite to enhance their skills\, build valuable connections and pursue career advancement opportunities. Join us in shaping the future of the cybersecurity workforce. \nEnhance the learning experience for all conference attendees by submitting a proposal. Whether it’s a workshop\, lightning talk\, presentation\, birds-of-a-feather session\, panel or student poster\, we welcome contributions from both members and non-members. Submit multiple proposals across various categories and tracks to enhance the learning experience for conference attendees. Your participation will help create a powerful and enriching environment that highlights the incredible talent and knowledge within the cybersecurity community. Together\, let’s inspire and educate the next generation of cybersecurity professionals. \n  \nSubmit your CFP by November 4th at 5pm CT HERE
URL:https://www.wicys.org/event/wicys-conference-2025-call-for-proposals-are-open/
LOCATION:Virtual
CATEGORIES:WiCyS
ATTACH;FMTTYPE=image/png:https://www.wicys.org/wp-content/uploads/2024/10/2025-Call-For-Presenters-2.png
END:VEVENT
BEGIN:VEVENT
DTSTART;VALUE=DATE:20241008
DTEND;VALUE=DATE:20241012
DTSTAMP:20260421T103733
CREATED:20240906T193423Z
LAST-MODIFIED:20240906T193423Z
UID:10001886-1728345600-1728691199@www.wicys.org
SUMMARY:WiCyS | 2024 Grace Hopper Celebration
DESCRIPTION:Join WiCyS at the 2024 Grace Hopper Celebration to connect with WiCyS members and meet our Executive Director Lynn Dohm and Deputy Director Michele Tomasic. Please stop by our booth to meet our affiliate\, snag some swag\, and learn more about WiCyS. \nGrace Hopper Celebration is the world’s largest tech conference for women and nonbinary people. It’s run by us\, AnitaB.org\, a nonprofit that works toward a future where technology is built by and for the people and societies who use it. Our organization started because of a trailblazing computer scientist named Anita Borg. Since the first GHC in 1994\, we’ve continued the work to connect\, inspire\, and guide nonbinary people and women in tech\, and we invite you to join us in-person OR virtually to see what it’s all about! \n  \nRegister HERE to join us in Philadelphia!
URL:https://www.wicys.org/event/wicys-2024-grace-hopper-celebration/
LOCATION:Philadelphia Convention Center\, 1101 Arch St\, Philadelphia\, PA\, 19107\, United States
CATEGORIES:WiCyS
ATTACH;FMTTYPE=image/png:https://www.wicys.org/wp-content/uploads/2024/09/WiCyS-at-the-Grace-Hopper-Celebration.png
END:VEVENT
END:VCALENDAR