BEGIN:VCALENDAR
VERSION:2.0
PRODID:-//WiCyS - Women in Cybersecurity - ECPv6.15.20//NONSGML v1.0//EN
CALSCALE:GREGORIAN
METHOD:PUBLISH
X-ORIGINAL-URL:https://www.wicys.org
X-WR-CALDESC:Events for WiCyS - Women in Cybersecurity
REFRESH-INTERVAL;VALUE=DURATION:PT1H
X-Robots-Tag:noindex
X-PUBLISHED-TTL:PT1H
BEGIN:VTIMEZONE
TZID:UTC
BEGIN:STANDARD
TZOFFSETFROM:+0000
TZOFFSETTO:+0000
TZNAME:UTC
DTSTART:20230101T000000
END:STANDARD
END:VTIMEZONE
BEGIN:VEVENT
DTSTART;VALUE=DATE:20240909
DTEND;VALUE=DATE:20241105
DTSTAMP:20260424T072832
CREATED:20241001T141915Z
LAST-MODIFIED:20241001T141915Z
UID:10001907-1725840000-1730764799@www.wicys.org
SUMMARY:WiCyS Conference 2025 | Scholarship Applications are open
DESCRIPTION:The WiCyS annual in-person and virtual conferences are the premier events dedicated to recruiting\, retaining and advancing women in cybersecurity. Each year\, professionals and students—women and allies alike— unite to enhance their skills\, build valuable connections and pursue career advancement opportunities. Join us in shaping the future of the cybersecurity workforce. \nExpand your network and enrich your skills at the WiCyS technical conference. Take advantage of scholarships that provide reduced conference registration rates and three nights of complimentary shared lodging from April 2 to 5. All applicants must be current WiCyS members. \nScholarship categories include students\, military\, faculty\, allies\, mentors\, and equity & advancement. Please note that students MUST apply for a WiCyS scholarship to attend the 2025 conference\, as general registration is not available for students. Don’t miss your chance to be a part of this transformative community. Apply now and invest in your future! \n  \nSubmit for your Scholarship by November 4th at 5pm CT HERE
URL:https://www.wicys.org/event/wicys-conference-2025-scholarship-applications-are-open/
LOCATION:Virtual
CATEGORIES:WiCyS
ATTACH;FMTTYPE=image/png:https://www.wicys.org/wp-content/uploads/2024/10/2025-Call-For-Scholarships-1.png
END:VEVENT
BEGIN:VEVENT
DTSTART;VALUE=DATE:20240909
DTEND;VALUE=DATE:20241105
DTSTAMP:20260424T072832
CREATED:20241001T142432Z
LAST-MODIFIED:20241001T142432Z
UID:10001908-1725840000-1730764799@www.wicys.org
SUMMARY:WiCyS Conference 2025 | Call for Proposals are Open
DESCRIPTION:The WiCyS annual in-person and virtual conferences are the premier events dedicated to recruiting\, retaining and advancing women in cybersecurity. Each year\, professionals and students—women and allies alike— unite to enhance their skills\, build valuable connections and pursue career advancement opportunities. Join us in shaping the future of the cybersecurity workforce. \nEnhance the learning experience for all conference attendees by submitting a proposal. Whether it’s a workshop\, lightning talk\, presentation\, birds-of-a-feather session\, panel or student poster\, we welcome contributions from both members and non-members. Submit multiple proposals across various categories and tracks to enhance the learning experience for conference attendees. Your participation will help create a powerful and enriching environment that highlights the incredible talent and knowledge within the cybersecurity community. Together\, let’s inspire and educate the next generation of cybersecurity professionals. \n  \nSubmit your CFP by November 4th at 5pm CT HERE
URL:https://www.wicys.org/event/wicys-conference-2025-call-for-proposals-are-open/
LOCATION:Virtual
CATEGORIES:WiCyS
ATTACH;FMTTYPE=image/png:https://www.wicys.org/wp-content/uploads/2024/10/2025-Call-For-Presenters-2.png
END:VEVENT
BEGIN:VEVENT
DTSTART;VALUE=DATE:20241014
DTEND;VALUE=DATE:20241017
DTSTAMP:20260424T072832
CREATED:20240918T203330Z
LAST-MODIFIED:20240918T203330Z
UID:10001902-1728864000-1729123199@www.wicys.org
SUMMARY:WiCyS | ISC2 Security Congress 2024
DESCRIPTION:Join WiCyS at ISC2 Security Congress 2024 to connect with WiCyS members and meet our leadership team\, Executive Director Lynn Dohm\, Deptury Director Michele Tomasic\, and Program Director Mary Jane Partain. Join thousands of cybersecurity experts from across the globe as we lead the charge against emerging threats and protect what matters most in today’s digital landscape at ISC2 Security Congress! \nPlease add to your agenda\, Lynn Dohm speaking with Simon Petrella from N2K on October 14th from 11:30 am-12:30 pm PT for their presentation Roadmap to Advancement Through Skills Gap Analysis \n  \nRegister for the event HERE
URL:https://www.wicys.org/event/wicys-isc2-security-congress-2024/
LOCATION:Caesars Palace Las Vegas\, 3570 Vegas Boulevard South\, Las Vegas\, NV\, 89109\, United States
CATEGORIES:WiCyS
ATTACH;FMTTYPE=image/png:https://www.wicys.org/wp-content/uploads/2024/09/WiCyS-at-ISC2-Security-Congress-2024.png
END:VEVENT
BEGIN:VEVENT
DTSTART;VALUE=DATE:20241014
DTEND;VALUE=DATE:20241019
DTSTAMP:20260424T072832
CREATED:20240723T160644Z
LAST-MODIFIED:20240723T160644Z
UID:10001831-1728864000-1729295999@www.wicys.org
SUMMARY:WiCyS San Diego | ACM CCS 2024
DESCRIPTION:Join WiCyS San Diego’s past president\, Jennifer Chung\, as she delivers the keynote address at ACM CCS 2024 in Salt Lake City\, UT. \nThe ACM Conference on Computer and Communications Security (CCS) is the flagship annual conference of the Special Interest Group on Security\, Audit\, and Control (SIGSAC) of the Association for Computing Machinery (ACM). The conference brings together information security researchers\, practitioners\, developers\, and users from all over the world to explore cutting-edge ideas and results. \nRegister for this event HERE
URL:https://www.wicys.org/event/wicys-san-diego-acm-ccs-2024/
LOCATION:Salt Lake Marriott Downtown at City Creek\, 75 S W Temple St\, Salt lake City\, UT\, 84101\, United States
CATEGORIES:WiCyS Affiliate
ATTACH;FMTTYPE=image/png:https://www.wicys.org/wp-content/uploads/2024/07/WiCyS-San-Diego_-at-ACM-CCS-2024.png
ORGANIZER;CN="WiCyS San Diego Affiliate":MAILTO:WiCySSanDiego@wicys.org
END:VEVENT
BEGIN:VEVENT
DTSTART;VALUE=DATE:20241015
DTEND;VALUE=DATE:20241018
DTSTAMP:20260424T072832
CREATED:20240918T202435Z
LAST-MODIFIED:20240918T202435Z
UID:10001901-1728950400-1729209599@www.wicys.org
SUMMARY:WiCyS UNLV | SentinelOne OneCon
DESCRIPTION:The WiCyS UNLV Student Chapter will have the opportunity to join SentinelOne OneCon during the annual conference. WiCyS Executive Director\, Lynn Dohm will also be in attendance and joining the students at the Women in Cybersecurity lunch on Wednesday\, October 16th. \nAs AI changes the way the world works\, how we think about security must also evolve. Join SentinelOne\, your peers\, and industry leaders for the second annual OneCon event to experience the latest innovations in AI\, data\, and cloud security—and learn how you can better adapt to a rapidly changing security landscape. \n  \nLearn more about this event and register to attend HERE
URL:https://www.wicys.org/event/wicys-unlv-sentinelone-onecon/
LOCATION:Aria Resort & Casino\, 3730 S Las Vegas Blvd\, Las Vegas\, NV\, 89158\, United States
CATEGORIES:WiCyS,WiCyS Student Chapter
ATTACH;FMTTYPE=image/png:https://www.wicys.org/wp-content/uploads/2024/09/UNLV-Student-Chapter_-at-SentinelOne-OneCon.png
END:VEVENT
BEGIN:VEVENT
DTSTART;TZID=UTC:20241016T100000
DTEND;TZID=UTC:20241016T110000
DTSTAMP:20260424T072832
CREATED:20241011T123644Z
LAST-MODIFIED:20241011T123644Z
UID:10001921-1729072800-1729076400@www.wicys.org
SUMMARY:Webinar | Women Leading in Cybersecurity: Policy\, Trends\, and Organizational Protection
DESCRIPTION:In celebration of International Day of the Girl on October 11 and Cybersecurity Awareness Month\,  we are delighted to host ‘Women Leading in Cybersecurity: Policy\, Trends\, and Organizational Protection\,’ an empowering conversation featuring influential women in the field of cybersecurity. \nJoin us for this insightful conversation with Katheryn Rosen\,  Global Head of Regional Information Security and Supervisory Engagement\,  JPMorganChase\, Chantel Maroney\, Global Head of Supplier Threat Intelligence and Incident Response\,  JPMorganChase and Annie (Quratulann) Jamshed\, Lead Security Architect for Onyx Digital Assets\,  JPMorganChase \nThis conversation will be moderated by Zarina Shariff\, Cybersecurity Operations Lead for United States Government and Sector Intelligence Partnerships\,  JPMorgan Chase.   This conversation aims to provide participants with a deeper understanding of the current landscape and trends in cybersecurity\, and how these women are shaping its future. \nDon’t miss this opportunity to learn from these accomplished professionals.    \nPlease register HERE
URL:https://www.wicys.org/event/webinar-women-leading-in-cybersecurity-policy-trends-and-organizational-protection/
LOCATION:Virtual
CATEGORIES:Webinar,WiCyS
ATTACH;FMTTYPE=image/jpeg:https://www.wicys.org/wp-content/uploads/2024/10/JPMC-Panel.jpg
END:VEVENT
END:VCALENDAR