BEGIN:VCALENDAR
VERSION:2.0
PRODID:-//WiCyS - Women in Cybersecurity - ECPv6.15.20//NONSGML v1.0//EN
CALSCALE:GREGORIAN
METHOD:PUBLISH
X-WR-CALNAME:WiCyS - Women in Cybersecurity
X-ORIGINAL-URL:https://www.wicys.org
X-WR-CALDESC:Events for WiCyS - Women in Cybersecurity
REFRESH-INTERVAL;VALUE=DURATION:PT1H
X-Robots-Tag:noindex
X-PUBLISHED-TTL:PT1H
BEGIN:VTIMEZONE
TZID:UTC
BEGIN:STANDARD
TZOFFSETFROM:+0000
TZOFFSETTO:+0000
TZNAME:UTC
DTSTART:20230101T000000
END:STANDARD
END:VTIMEZONE
BEGIN:VTIMEZONE
TZID:Asia/Karachi
BEGIN:STANDARD
TZOFFSETFROM:+0500
TZOFFSETTO:+0500
TZNAME:PKT
DTSTART:20240101T000000
END:STANDARD
END:VTIMEZONE
BEGIN:VEVENT
DTSTART;VALUE=DATE:20241030
DTEND;VALUE=DATE:20250130
DTSTAMP:20260425T023204
CREATED:20241024T185050Z
LAST-MODIFIED:20241024T185050Z
UID:10001934-1730246400-1738195199@www.wicys.org
SUMMARY:WiCyS | SentinelOne ThreatOps
DESCRIPTION:Join WiCyS Strategic Partner SentinelOne ThreatOps Virtual Training sessions. \nAre you interested in taking on the Challenge? \nYou’ll join fellow cybersecurity peers for SentinelOne’s ThreatOps Challenge\, which will incorporate both known and advanced persistent threat attack vectors and methodology. \nHelp neutralize the threats. Be a Threat Hunter! \nYou’ll Investigate and complete scenarios with varying levels of difficulty in an allotted time. Winners are determined by highest scores\, time to complete\, or both. \nParticipants will receive: \n\nTraining on the SentinelOne Endpoint Protection Platform\nFree-form challenges focused on the realm of EDR and Threat Hunting\nCPE credits upon completion of the entire event\nGift cards for the top three winners\n\nUpcoming ThreatOps Challenges:\n\n\n\nOctober 30\, 2024: Cloud Native Security (2 hours)\nNovember 20\, 2024: Purple AI (2 hours)\nDecember 18\, 2024: Identity (2 hours)\nJanuary 29\, 2025: Cloud Workload Protection (2 hours)\n\n\n\nIf you are interested in learning how to neutralize the threats\, Register HERE. Be a Threat\, Hunter.
URL:https://www.wicys.org/event/wicys-sentinelone-threatops/
LOCATION:Virtual
CATEGORIES:WiCyS
ATTACH;FMTTYPE=image/png:https://www.wicys.org/wp-content/uploads/2024/10/WiCyS-at-SentinelOne_-ThreatOps-Challenge.png
END:VEVENT
BEGIN:VEVENT
DTSTART;TZID=UTC:20250125T100000
DTEND;TZID=UTC:20250125T110000
DTSTAMP:20260425T023204
CREATED:20250110T153810Z
LAST-MODIFIED:20250110T153810Z
UID:10001983-1737799200-1737802800@www.wicys.org
SUMMARY:WiCyS San Diego Affiliate | Discussion & Book Review with Author Heidi Trost On Human-Centered Security
DESCRIPTION:This will be a virtual event: an engaging and thought-provoking book review and Q&A session with Heidi Trost\, the author of Human-Centered Security. Heidi is a renowned cybersecurity user experience (UX) leader and podcast host of Human-Centered Security. Heidi brings a unique perspective to the critical interplay between humans\, systems\, and cybersecurity threats. \nIn this session\, Heidi will share insights from her book and her experience working with cross-disciplinary teams to improve the security user experience. She will explore how systems designers can approach cybersecurity challenges with a human-centered mindset\, ensuring systems are safer\, more intuitive\, and resilient against evolving threats. \nThis discussion is designed for all cybersecurity professionals\, UX designers\, software developers\, or just someone interested in the human side of cybersecurity. This talk will offer actionable insights and practical strategies for creating secure and user-friendly systems. \n  \nRegister for this discussion HERE
URL:https://www.wicys.org/event/wicys-san-diego-affiliate-discussion-book-review-with-author-heidi-trost-on-human-centered-security/
LOCATION:Virtual
CATEGORIES:Webinar,WiCyS,WiCyS Affiliate
ATTACH;FMTTYPE=image/png:https://www.wicys.org/wp-content/uploads/2025/01/Book-Talk-Eventbrite-Heidi-Trost.png
ORGANIZER;CN="WiCyS San Diego Affiliate":MAILTO:WiCySSanDiego@wicys.org
END:VEVENT
BEGIN:VEVENT
DTSTART;TZID=Asia/Karachi:20250125T103000
DTEND;TZID=Asia/Karachi:20250125T113000
DTSTAMP:20260425T023204
CREATED:20250117T124644Z
LAST-MODIFIED:20250117T124644Z
UID:10002014-1737801000-1737804600@www.wicys.org
SUMMARY:WiCyS Mid-Atlantic Affiliate | New Year's Virtual Meet and Greet
DESCRIPTION:Join us for a fun-filled virtual meet and greet where we meet the board and the members of WiCyS kickstarting the new year together and setting our vision for the rest of the year! \n  \nJoin the event HERE
URL:https://www.wicys.org/event/wicys-mid-atlantic-affiliate-new-years-virtual-meet-and-greet/
LOCATION:Virtual
CATEGORIES:WiCyS Affiliate
ATTACH;FMTTYPE=image/png:https://www.wicys.org/wp-content/uploads/2025/01/Screenshot-2025-01-13-at-5.49.04 PM.png
ORGANIZER;CN="WiCyS Mid-Atlantic Affiliate":MAILTO:info@wicysmidatlantic.org
END:VEVENT
END:VCALENDAR