BEGIN:VCALENDAR
VERSION:2.0
PRODID:-//WiCyS - Women in Cybersecurity - ECPv6.15.20//NONSGML v1.0//EN
CALSCALE:GREGORIAN
METHOD:PUBLISH
X-ORIGINAL-URL:https://www.wicys.org
X-WR-CALDESC:Events for WiCyS - Women in Cybersecurity
REFRESH-INTERVAL;VALUE=DURATION:PT1H
X-Robots-Tag:noindex
X-PUBLISHED-TTL:PT1H
BEGIN:VTIMEZONE
TZID:UTC
BEGIN:STANDARD
TZOFFSETFROM:+0000
TZOFFSETTO:+0000
TZNAME:UTC
DTSTART:20240101T000000
END:STANDARD
END:VTIMEZONE
BEGIN:VEVENT
DTSTART;VALUE=DATE:20250226
DTEND;VALUE=DATE:20250322
DTSTAMP:20260422T191248
CREATED:20250226T185015Z
LAST-MODIFIED:20250226T185015Z
UID:10002062-1740528000-1742601599@www.wicys.org
SUMMARY:WiCyS | SANS Security Awareness Summit 2025 CFP's Now OPEN
DESCRIPTION:Summit for SANS Security Awareness Summit 2025 in Chicago\, August 14th – 15th. Now open through March 21st. \nSpeaking at a SANS Summit gives you the opportunity to engage with thousands of cybersecurity professionals\, to share your expertise\, and to expand your network. If you have original content to share with the community\, we encourage you to submit a talk proposal. \nTo get a taste of the type of dynamic presentations and speakers we’re looking for\, check out these talks from the 2024 Summit. \n  \nLearn more and submit your proposal HERE
URL:https://www.wicys.org/event/wicys-sans-security-awareness-summit-2025-cfps-now-open/
LOCATION:Virtual
CATEGORIES:WiCyS
ATTACH;FMTTYPE=image/png:https://www.wicys.org/wp-content/uploads/2022/09/SANS-Blue-1-e1675797558839.png
END:VEVENT
BEGIN:VEVENT
DTSTART;VALUE=DATE:20250303
DTEND;VALUE=DATE:20250305
DTSTAMP:20260422T191248
CREATED:20250210T194956Z
LAST-MODIFIED:20250210T194956Z
UID:10002041-1740960000-1741132799@www.wicys.org
SUMMARY:WiCyS Florida Affiliate | Convene: Clearwater 2025
DESCRIPTION:Join our WiCyS Florida Affiliate at Convene: Clearwater 2025 to connect with WiCyS members. Please stop by our booth to meet our affiliate\, snag some swag\, and learn more about WiCyS. \nA people-centered approach is vital to the success of any security program.  Join us and see why the speakers and audience make this event special. \n\n\nExplore the intersection of people and security. It’s not just awareness programs that demand people-skills and good communication with the business.  This event is for any security professional looking to work better with the rest of the business. \n\n\nLearn. Thought leaders and industry executives will share their groundbreaking research\, lessons learned and creative approaches to understanding and addressing human risk. \n\n\nParticipate. Your participation doesn’t start and end with Q&A\, it’s our whole conference. Participate in workshop sessions\, share and brag about your security program\, and crowdsource solutions to some of your problems from attendees and speakers. \n\n\nConnect with like-minded professionals at unique venues\, networking happy hours and live entertainment. Network\, learn from\, and be inspired by your peers in the industry. \n\n\n  \nUse code WiCysConvene when registering HERE for a 15% discount
URL:https://www.wicys.org/event/wicys-florida-affiliate-convene-clearwater-2025/
LOCATION:Sheraton Sand Key Resort\, 1160 Gulf Blvd\, Clearwater Beach\, FL\, 33767\, United States
CATEGORIES:WiCyS Affiliate
ATTACH;FMTTYPE=image/png:https://www.wicys.org/wp-content/uploads/2025/02/Convene_9x16_Image.png
ORGANIZER;CN="WiCyS - Florida Affiliate":MAILTO:wicysflorida@wicys.org
END:VEVENT
BEGIN:VEVENT
DTSTART;TZID=UTC:20250303T080000
DTEND;TZID=UTC:20250331T170000
DTSTAMP:20260422T191248
CREATED:20250204T185042Z
LAST-MODIFIED:20250218T213746Z
UID:10002028-1740988800-1743440400@www.wicys.org
SUMMARY:WiCyS Austin Affiliate | Mentorship Program
DESCRIPTION:The WiCyS Austin Affiliate mentorship program is geared towards WiCyS members who reside in the Austin Texas central region. \nOur Mission is to bring together WiCyS Austin Affiliate members at all stages of their careers who want to give or receive professional development support. No matter what stage of your professional path you are on\, you can be a valuable mentor to someone else. Mentoring helps both participants to expand networks\, gain new knowledge and insights\, and build new skills. \nRegister your interest HERE
URL:https://www.wicys.org/event/wicys-austin-affiliate-mentorship-program/
LOCATION:Virtual
CATEGORIES:WiCyS Affiliate
ATTACH;FMTTYPE=image/png:https://www.wicys.org/wp-content/uploads/2025/02/WiCyS-Austin-Affiliate-_-Mentorship-Program.png
ORGANIZER;CN="WiCyS - Austin":MAILTO:wicysaustin@wicys.org
END:VEVENT
END:VCALENDAR