BEGIN:VCALENDAR
VERSION:2.0
PRODID:-//WiCyS - Women in Cybersecurity - ECPv6.15.20//NONSGML v1.0//EN
CALSCALE:GREGORIAN
METHOD:PUBLISH
X-ORIGINAL-URL:https://www.wicys.org
X-WR-CALDESC:Events for WiCyS - Women in Cybersecurity
REFRESH-INTERVAL;VALUE=DURATION:PT1H
X-Robots-Tag:noindex
X-PUBLISHED-TTL:PT1H
BEGIN:VTIMEZONE
TZID:UTC
BEGIN:STANDARD
TZOFFSETFROM:+0000
TZOFFSETTO:+0000
TZNAME:UTC
DTSTART:20240101T000000
END:STANDARD
END:VTIMEZONE
BEGIN:VEVENT
DTSTART;VALUE=DATE:20250317
DTEND;VALUE=DATE:20250415
DTSTAMP:20260422T011018
CREATED:20250328T155741Z
LAST-MODIFIED:20250328T155741Z
UID:10002100-1742169600-1744675199@www.wicys.org
SUMMARY:WiCyS ISC2 Certified in Cybersecurity Certification Spring Camp | Applications NOW open
DESCRIPTION:Ready for a cybersecurity career and need help figuring out where to start? At WiCyS\, we get that. Navigating your cybersecurity educational entry point can be challenging\, confusing and sometimes intimidating. We’re here to reduce those barriers and help you succeed. \nWiCyS is partnering with ISC2 to promote accessibility to cybersecurity educational resources and certifications. The WiCyS + ISC2 Certified in CybersecuritySM Certification Spring Camp is an offering to WiCyS members where we enhance the experience with the power of community\, mentoring and incentives. The PR news release can be found here. \nThis entry-level certification is for entry-level applicants and with this WiCyS Spring Camp cohort\, it’s so much more. Priority is given to entry-level participants. \nAvailable to:\n500 WiCyS members that have not participated in the program previously\nDomestic and International members\nMembers who have never taken the ISC2 training and exam with a free voucher\nMembers committed to completing the certification (requirement)\nMembers willing to commit 14 hours to the self-paced program \nTo learn the details of the program and to apply\, click HERE
URL:https://www.wicys.org/event/wicys-isc2-certified-in-cybersecurity-certification-spring-camp-applications-now-open-2/
CATEGORIES:WiCyS
ATTACH;FMTTYPE=image/png:https://www.wicys.org/wp-content/uploads/2025/03/2025-ICS2-Spring-Camp-Social-1.png
END:VEVENT
BEGIN:VEVENT
DTSTART;VALUE=DATE:20250319
DTEND;VALUE=DATE:20250412
DTSTAMP:20260422T011018
CREATED:20250328T151812Z
LAST-MODIFIED:20250328T151812Z
UID:10002099-1742342400-1744415999@www.wicys.org
SUMMARY:WiCyS | Stage Ready Public Speaking Fellowship Applications NOW Open
DESCRIPTION:WiCyS Stage Ready Public Speaking Fellowship is a transformative public speaking training program designed in collaboration with Fearless Communicators for mid-career WiCyS members to help prepare them for career advancement. Mastering the art of storytelling and technical communication allows women in cybersecurity to effectively showcase their expertise and enhances their leadership skillset and recognition. In this three-part program\, you’ll learn to clearly communicate your ideas\, refine your delivery and develop the confidence you need to command any stage\, whether it be your next job interview\, a boardroom presentation\, negotiation\, workshop or keynote. We’re here to support you on your career journey and are ready to get you STAGE READY! \nThe program is available to: \n50 WiCyS members (Domestic and International members)\nMid career level professionals only\nMembers willing to commit fully to attending the 2 workshops\nMembers willing to attend all 4 of the Virtual Group Rehearsal Sessions\nMembers ready to participate and engage with cameras on throughout the training \nTo learn the details of the program and apply by the April 11th deadline\, click here \n 
URL:https://www.wicys.org/event/wicys-stage-ready-public-speaking-fellowship-applications-now-open/
CATEGORIES:WiCyS
ATTACH;FMTTYPE=image/png:https://www.wicys.org/wp-content/uploads/2025/03/NEW-Stage-Ready-Public-Speaking-Fellowship-Cohort-1.png
END:VEVENT
BEGIN:VEVENT
DTSTART;VALUE=DATE:20250324
DTEND;VALUE=DATE:20250411
DTSTAMP:20260422T011018
CREATED:20250314T192117Z
LAST-MODIFIED:20250514T141537Z
UID:10002086-1742774400-1744329599@www.wicys.org
SUMMARY:WiCyS AI Learning Series Program | Applications Open March 24th
DESCRIPTION:The AI Learning Series is a comprehensive program designed to equip cybersecurity professionals with the knowledge and skills to navigate the evolving landscape of artificial intelligence.  The series features six modules led by industry experts\, covering topics from the fundamentals of AI and its intersection with cybersecurity to the risks\, governance\, and secure development of AI products.  Participants will gain insights into building secure AI products\, securing third-party AI/ML products\, leveraging AI to secure organizational and customer environments\, and understanding AI policy and regulations. Available To: \n\nWiCyS members (Domestic and International)\nMid-to-Senior level professionals only\nMembers willing to commit fully to attending all 6 sessions\nMembers ready to participate and engage with cameras on throughout the training\n\nWhat you get: \n\nComprehensive AI Security Knowledge: Gain a deep understanding of AI security concepts\, risks\, and best practices across six modules led by industry experts\nExclusive Access to SANS AIS247 Course: Upon completion of all six modules\, 150 members will be eligible to participate in the SANS AIS247: AI Security Essentials for Business Leaders course\, designed to enhance your understanding of AI security for business leaders\nCommunity and Mentorship: Connect with a cohort of like-minded cybersecurity professionals\, fostering a supportive learning environment. Benefit from mentorship opportunities with experienced leaders in the field\nand MORE!\n\nMore information and submit your application HERE
URL:https://www.wicys.org/event/wicys-ai-learning-series-program-applications-now-open/
LOCATION:Virtual
ATTACH;FMTTYPE=image/png:https://www.wicys.org/wp-content/uploads/2025/03/AI-Learning-Series-program-NEW-3-2.png
END:VEVENT
BEGIN:VEVENT
DTSTART;VALUE=DATE:20250325
DTEND;VALUE=DATE:20250411
DTSTAMP:20260422T011018
CREATED:20250325T150015Z
LAST-MODIFIED:20250325T170947Z
UID:10002094-1742860800-1744329599@www.wicys.org
SUMMARY:WiCyS | SANS Executive Cyber Exercise at RSAC Applications NOW Open
DESCRIPTION:We are excited to invite you to apply for the SANS Executive Cyber Exercise for the upcoming RSAC 2025 Conference. The exercise will be held in person in San Francisco on Monday\, April 28th\, 10 am—12 pm PST. This is an exclusive opportunity for those already registered to attend the RSAC 2025 Conference\, with only 35 spots available to participate in this simulated cyber event.\n\n To apply\, please submit your application HERE before  April 10th\, 2025.\n\n The SANS Institute facilitators will carefully review all applications and select participants. You will receive an email notification by April 11th informing you whether you have been selected.\n\n Requirements: \n\nOpen to mid-to senior-level managers (Deputy CISO/CISO/CIO/VPs) who support WiCyS’s mission to recruit\, retain\, and advance women in cybersecurity.\nApplicants must already be registered to attend the RSAC 2025 Conference.\nApplicants must sign their commitment form to secure their place. \n\n About WiCyS SANS Executive Cybersecurity Exercise: \nThis 90-minute in-person SANS Executive Cyber Exercise will put you inside a simulated cyber event to help your organization understand what it takes to respond to a cyber incident from a strategic perspective. The simulated exercise will emphasize the importance of a well-practiced cyber crisis plan and the leadership skills required to deal with today’s threats. SANS facilitators will use real-world experience and industry best practices to expose areas for improvement in their crisis response plans within a safe environment. \nBy participating in this program\, participants will gain the ability to: \n\nAssess organizational readiness for a business response to a cyber crisis.\nApply industry best practices in cybersecurity\, organizational structure and crisis communications.\nUnderstand and plan for emerging trends in cybercrime.\n\n  \n If you have any questions\, feel free to reach out to the WiCyS Program Coordinator\, Adaeze Udoh at adaeze@wicys.org. We look forward to your application!
URL:https://www.wicys.org/event/wicys-sans-executive-cyber-exercise-at-rsac-applications-now-open/
CATEGORIES:WiCyS
ATTACH;FMTTYPE=image/png:https://www.wicys.org/wp-content/uploads/2025/03/RSAC-Conference-SANS-Executive-Cybersecurity-Exercise-3.png
END:VEVENT
BEGIN:VEVENT
DTSTART;VALUE=DATE:20250402
DTEND;VALUE=DATE:20250406
DTSTAMP:20260422T011018
CREATED:20240610T110152Z
LAST-MODIFIED:20241211T162108Z
UID:10001805-1743552000-1743897599@www.wicys.org
SUMMARY:WiCyS 2025 Annual Conference
DESCRIPTION:The 11th annual Women in CyberSecurity (WiCyS) Conference is April 2-5 in Dallas\, TX. The WiCyS conference is the premier event to RECRUIT\, RETAIN and ADVANCE women in cybersecurity. WiCyS brings together women in cybersecurity from academia\, research\, government and industry. \nConference components include: Keynote Speakers\, Technical Presentations\, Workshops\, Panels\, Lightning Talks\, Networking Socials\, Career Growth Hub\, Career Fair for organizations to hire professionals and students\, Capture-the-Flag Competition\, Leadership & Male Allyship Symposiums\, and MORE! \nRegistration\, sponsorship and general conference registration information will be announced Fall 2024. \nPlease visit our conference website for more details.
URL:https://www.wicys.org/event/wicys-2025-annual-conference/
LOCATION:Gaylord Texan Resort & Convention Center\, 1501 Gaylord Trail\, Grapevine\, TX\, 76051\, United States
ATTACH;FMTTYPE=image/png:https://www.wicys.org/wp-content/uploads/2024/06/WiCyS-2025-Dallas-Logo-6-2.png
END:VEVENT
END:VCALENDAR