BEGIN:VCALENDAR
VERSION:2.0
PRODID:-//WiCyS - Women in Cybersecurity - ECPv6.15.20//NONSGML v1.0//EN
CALSCALE:GREGORIAN
METHOD:PUBLISH
X-WR-CALNAME:WiCyS - Women in Cybersecurity
X-ORIGINAL-URL:https://www.wicys.org
X-WR-CALDESC:Events for WiCyS - Women in Cybersecurity
REFRESH-INTERVAL;VALUE=DURATION:PT1H
X-Robots-Tag:noindex
X-PUBLISHED-TTL:PT1H
BEGIN:VTIMEZONE
TZID:UTC
BEGIN:STANDARD
TZOFFSETFROM:+0000
TZOFFSETTO:+0000
TZNAME:UTC
DTSTART:20240101T000000
END:STANDARD
END:VTIMEZONE
BEGIN:VEVENT
DTSTART;TZID=UTC:20250419T090000
DTEND;TZID=UTC:20250419T110000
DTSTAMP:20260422T004639
CREATED:20250328T152329Z
LAST-MODIFIED:20250328T152329Z
UID:10002096-1745053200-1745060400@www.wicys.org
SUMMARY:WiCyS Austin Affiliate | April Social
DESCRIPTION:🗯️ Come network with fellow cybersecurity professionals at Women In CyberSecurity (WiCyS) Austin’s April Social! Connect with peers\, expand your network\, and get the latest updates on upcoming events. We look forward to seeing you there! Join us this month as Nikki Hendricks\, VP of Membership for WiCyS Austin\, hosts our meetup! She’ll be sharing all the latest insights from the 2025 WiCyS Global Conference\, plus updates on upcoming WiCyS Austin events. \n👋 No matter your experience level—seasoned professional or new to cybersecurity—this is your chance to forge meaningful connections. Join us for an engaging morning of networking\, learning\, and community! \n  \nRegister for the event HERE
URL:https://www.wicys.org/event/wicys-austin-affiliate-april-social/
LOCATION:Easy Tiger – The Linc\, 6406 North interstate 35 Frontage Rd #1100\, Austin\, TX\, 78752\, United States
CATEGORIES:WiCyS Affiliate
ATTACH;FMTTYPE=image/png:https://www.wicys.org/wp-content/uploads/2025/03/Monthly-Social-Linkedin-04_25.png
ORGANIZER;CN="WiCyS - Austin":MAILTO:wicysaustin@wicys.org
END:VEVENT
END:VCALENDAR