BEGIN:VCALENDAR
VERSION:2.0
PRODID:-//WiCyS - Women in Cybersecurity - ECPv6.15.20//NONSGML v1.0//EN
CALSCALE:GREGORIAN
METHOD:PUBLISH
X-ORIGINAL-URL:https://www.wicys.org
X-WR-CALDESC:Events for WiCyS - Women in Cybersecurity
REFRESH-INTERVAL;VALUE=DURATION:PT1H
X-Robots-Tag:noindex
X-PUBLISHED-TTL:PT1H
BEGIN:VTIMEZONE
TZID:UTC
BEGIN:STANDARD
TZOFFSETFROM:+0000
TZOFFSETTO:+0000
TZNAME:UTC
DTSTART:20240101T000000
END:STANDARD
END:VTIMEZONE
BEGIN:VTIMEZONE
TZID:America/Chicago
BEGIN:DAYLIGHT
TZOFFSETFROM:-0600
TZOFFSETTO:-0500
TZNAME:CDT
DTSTART:20240310T080000
END:DAYLIGHT
BEGIN:STANDARD
TZOFFSETFROM:-0500
TZOFFSETTO:-0600
TZNAME:CST
DTSTART:20241103T070000
END:STANDARD
BEGIN:DAYLIGHT
TZOFFSETFROM:-0600
TZOFFSETTO:-0500
TZNAME:CDT
DTSTART:20250309T080000
END:DAYLIGHT
BEGIN:STANDARD
TZOFFSETFROM:-0500
TZOFFSETTO:-0600
TZNAME:CST
DTSTART:20251102T070000
END:STANDARD
BEGIN:DAYLIGHT
TZOFFSETFROM:-0600
TZOFFSETTO:-0500
TZNAME:CDT
DTSTART:20260308T080000
END:DAYLIGHT
BEGIN:STANDARD
TZOFFSETFROM:-0500
TZOFFSETTO:-0600
TZNAME:CST
DTSTART:20261101T070000
END:STANDARD
END:VTIMEZONE
BEGIN:VTIMEZONE
TZID:Asia/Karachi
BEGIN:STANDARD
TZOFFSETFROM:+0500
TZOFFSETTO:+0500
TZNAME:PKT
DTSTART:20240101T000000
END:STANDARD
END:VTIMEZONE
BEGIN:VTIMEZONE
TZID:America/New_York
BEGIN:DAYLIGHT
TZOFFSETFROM:-0500
TZOFFSETTO:-0400
TZNAME:EDT
DTSTART:20240310T070000
END:DAYLIGHT
BEGIN:STANDARD
TZOFFSETFROM:-0400
TZOFFSETTO:-0500
TZNAME:EST
DTSTART:20241103T060000
END:STANDARD
BEGIN:DAYLIGHT
TZOFFSETFROM:-0500
TZOFFSETTO:-0400
TZNAME:EDT
DTSTART:20250309T070000
END:DAYLIGHT
BEGIN:STANDARD
TZOFFSETFROM:-0400
TZOFFSETTO:-0500
TZNAME:EST
DTSTART:20251102T060000
END:STANDARD
BEGIN:DAYLIGHT
TZOFFSETFROM:-0500
TZOFFSETTO:-0400
TZNAME:EDT
DTSTART:20260308T070000
END:DAYLIGHT
BEGIN:STANDARD
TZOFFSETFROM:-0400
TZOFFSETTO:-0500
TZNAME:EST
DTSTART:20261101T060000
END:STANDARD
END:VTIMEZONE
BEGIN:VEVENT
DTSTART;VALUE=DATE:20250505
DTEND;VALUE=DATE:20260501
DTSTAMP:20260420T140413
CREATED:20250421T154955Z
LAST-MODIFIED:20260415T155011Z
UID:10002151-1746403200-1777593599@www.wicys.org
SUMMARY:WiCyS Vulnerability Disclosure Program (VDP) | Applications Now OPEN
DESCRIPTION:The WiCyS Vulnerability Disclosure Program (VDP) is designed to provide WiCyS members with hands-on\, technical training in identifying\, reporting\, and remediating cybersecurity vulnerabilities. Utilizing the WiCyS website and platform as a live training environment\, participants gain real-world experience in vulnerability discovery\, triage\, and reporting—key skills that enhance their résumés and prepare them for careers in cybersecurity. The program empowers members to become “Defenders of WiCyS” by fostering a deeper understanding of secure coding practices\, systems analysis and responsible disclosure processes. \nParticipants are encouraged to collaborate\, share insights\, and build their technical acumen in a supportive community environment. The VDP is open to all WiCyS members and serves as a stepping stone toward more advanced training and industry engagement. \nThe VDP program will run from June 2\, 2025\, to June 1\, 2026. Applications will be open continuously from May 5\, 2025\, to May 1\, 2026—members can apply anytime. \nAvailable to:\n\nWiCyS members of all experience levels (domestic or international)\nProfessionals seeking hands-on experience\nIndividuals interested in vulnerability discovery and reporting\nMembers looking to strengthen offensive and defensive security skills\n\nWhat You Get:\n\nAccess to a live\, real-world training environment using the WiCyS platform\nOpportunities to discover\, report\, and triage actual vulnerabilities\nExposure to responsible disclosure processes and secure coding principles\nPotential future involvement in a formal bug bounty program through industry partnerships\nAnd More!\n\nProgram Details:\n\nProgram Runs June 2\, 2025 – June 1\, 2026\nApplication Open: May 5\, 2025 – May 1\, 2026\nLaunch webinar: May 27\, 1-2 pm CT\n\n  \nMore details about the VDP program and to apply visit HERE
URL:https://www.wicys.org/event/wicys-vulnerability-disclosure-program-vdp-applications-open-may-5th/2025-05-05/
LOCATION:Virtual
CATEGORIES:All Career Levels,WiCyS,WiCyS Program
ATTACH;FMTTYPE=image/png:https://www.wicys.org/wp-content/uploads/2025/04/WiCyS-VDP-2025-Socials-1.png
END:VEVENT
BEGIN:VEVENT
DTSTART;VALUE=DATE:20250901
DTEND;VALUE=DATE:20251213
DTSTAMP:20260420T140413
CREATED:20251010T170211Z
LAST-MODIFIED:20251204T145710Z
UID:10002603-1756684800-1765583999@www.wicys.org
SUMMARY:ChiBrrCon 2026 CFP Open
DESCRIPTION:ChiBrrCon is Chicago’s premier vendor-free\, practitioner-driven\, nonprofit security conference where community\, creativity\, and technical excellence come together. Born from the icy winds of the Midwest winter\, ChiBrrCon delivers high-quality technical talks\, interactive villages\, and engaging leadership discussions—all without vendor sales pitches. \nThe theme for 2026 is Artificial Intelligence.  AI isn’t going anywhere (unless it replaces humans first). So yes\, bring your hottest AI takes\, but don’t worry—non-AI talks are still encouraged\, because cybersecurity is way bigger than just robots pretending to be smart. \n  \nSubmit your CFP HERE
URL:https://www.wicys.org/event/chibrrcon-2026-cfp-open/
LOCATION:Virtual
ATTACH;FMTTYPE=image/png:https://www.wicys.org/wp-content/uploads/2025/10/Untitled-design-5-e1764860166218.png
END:VEVENT
BEGIN:VEVENT
DTSTART;VALUE=DATE:20250905
DTEND;VALUE=DATE:20260801
DTSTAMP:20260420T140413
CREATED:20250905T184614Z
LAST-MODIFIED:20260415T155406Z
UID:10002552-1757030400-1785542399@www.wicys.org
SUMMARY:WiCyS | Security Training Scholarship
DESCRIPTION:The WiCyS Security Training Scholarship\, made possible by WiCyS Tier 1 Partners and Premier Supporters\, is a multi-staged scholarship opportunity for WiCyS members. Those selected will participate in a reliable pathway to launch and advance in their cybersecurity careers through skills development. The focus of this scholarship is to award WiCyS members who are seeking cybersecurity employment within the next 1.5 years. The program is designed for students and/or career changers! \nBuild and leverage the power of community. During each stage of the scholarship\, a cohort is established with mentors and peers to help guide and support recipients. This powerful network will be there through every step of the scholarship experience to lean in on. The collective strength of all involved is priceless. \nGraduates of the program will be ready to pursue careers in cybersecurity! \n\n\n\n\nAll WiCyS members\, over age 18\, are invited to apply.  This training program is composed of multiple stages. Each stage has specific criteria. Throughout the program\, continuation to the next stage is based on performance in the previous stage and application data. \nWhat Makes this Program Unique: \n\nFinds hidden cybersecurity talent\nElevates those with aptitude\, grit\, and determination\nEmpowers all participants with real-world skills they can continue to build upon\nChanges lives by enabling final-stage participants to start cybersecurity jobs in less than a year of completion\nProvides direct impact on the cybersecurity workforce by launching careers\n\n\n\n  \nMore information HERE
URL:https://www.wicys.org/event/wicys-security-training-scholarship/
LOCATION:Virtual
CATEGORIES:CPE/CEU Credits Available,WiCyS,WiCyS Program
ATTACH;FMTTYPE=image/png:https://www.wicys.org/wp-content/uploads/2025/09/2025-Security-Training-Scholarship-FINAL-1.png
END:VEVENT
BEGIN:VEVENT
DTSTART;TZID=America/Chicago:20250910T100000
DTEND;TZID=America/Chicago:20251015T170000
DTSTAMP:20260420T140413
CREATED:20250912T074116Z
LAST-MODIFIED:20250918T184214Z
UID:10002561-1757498400-1760547600@www.wicys.org
SUMMARY:WiCyS 2026 Call for Presenters
DESCRIPTION:The WiCyS 2026 Conference is your opportunity to share your expertise and help shape the future of cybersecurity. WiCyS is now accepting proposals for presentations\, panels\, workshops\, Birds of a Feather\, lightning talks and student posters. Proposals are due October 15 at 5 PM CT\, while student poster submissions are due December 15. \nThis year’s conference highlights the future of cybersecurity and privacy in the era of artificial intelligence—an age defined by innovation\, challenge\, and opportunity. From pioneering research and emerging technologies to workforce development and community outreach\, WiCyS 2026 offers a dynamic platform for learning\, sharing and collaborating. \nDon’t miss this chance to make an impact at WiCyS 2026! \nLearn more and submit to present HERE.
URL:https://www.wicys.org/event/wicys-2026-call-for-presenters/
ATTACH;FMTTYPE=image/png:https://www.wicys.org/wp-content/uploads/2025/09/2026-Call-for-Presenters-scaled.png
END:VEVENT
BEGIN:VEVENT
DTSTART;TZID=UTC:20250910T100000
DTEND;TZID=UTC:20251015T170000
DTSTAMP:20260420T140413
CREATED:20250912T075141Z
LAST-MODIFIED:20250912T075329Z
UID:10002562-1757498400-1760547600@www.wicys.org
SUMMARY:WiCyS 2026 Call for Scholarships
DESCRIPTION:Scholarship applications for the WiCyS 2026 Conference are now open! The in-person event will take place March 11-13\, 2026\, in the Washington D.C. area. Scholarships include reduced registration\, lodging and limited travel stipends.  Pre-conference workshops will begin on Wednesday\, March 11\, followed by sessions on Thursday and Friday morning. The career fair will be held Thursday morning and afternoon\, and Friday morning. In addition to these events\, we have a variety of other activities planned throughout the conference. \nDon’t miss your chance to network\, grow your skills and support the mission to recruit\, retain and advance women in cybersecurity. \nLearn more and apply HERE.
URL:https://www.wicys.org/event/wicys-2026-call-for-scholarships/
ATTACH;FMTTYPE=image/png:https://www.wicys.org/wp-content/uploads/2025/09/2026-Call-for-Scholarships-scaled.png
END:VEVENT
BEGIN:VEVENT
DTSTART;VALUE=DATE:20250924
DTEND;VALUE=DATE:20250925
DTSTAMP:20260420T140413
CREATED:20260226T162719Z
LAST-MODIFIED:20260302T135246Z
UID:10003026-1758672000-1758758399@www.wicys.org
SUMMARY:WiCyS | Executive Leaders Network
DESCRIPTION:The Executive Leaders Network brings together top cybersecurity leaders to share insights\, solve challenges\, and build a trusted community of peers. In a field that is constantly changing and where leadership can often feel isolating\, this network offers a space for open dialogue\, collaborative problem-solving\, and strategic support. It also serves as a platform to identify and elevate mid-career professionals into senior roles\, advancing the broader mission to strengthen and diversify leadership across the cybersecurity workforce. \n  \nCriteria: Cybersecurity C-Suite\, President\, VP\, or Director\n \nMeeting Cadence: Monthly\, Invite-Only\n\nYou must meet the criteria outlined above to join this network. Please complete the form HERE only if you are a cybersecurity C-Suite\, President\, VP\, or Director.
URL:https://www.wicys.org/event/wicys-senior-leaders-network-2-2/2025-09-24/
LOCATION:Virtual
CATEGORIES:WiCyS,WiCyS Program
ATTACH;FMTTYPE=image/png:https://www.wicys.org/wp-content/uploads/2025/05/WiCyS-Executive-Leaders-Network-1.png
END:VEVENT
BEGIN:VEVENT
DTSTART;VALUE=DATE:20250924
DTEND;VALUE=DATE:20250926
DTSTAMP:20260420T140413
CREATED:20250724T201452Z
LAST-MODIFIED:20250724T201452Z
UID:10002480-1758672000-1758844799@www.wicys.org
SUMMARY:Cyber Security Expo Europe 2025
DESCRIPTION:Cyber Security Expo Europe 2025 returns to RAI Amsterdam on 24–25 September\, bringing together 8\,000+ global cybersecurity leaders for two days of expert insights\, cutting-edge tech\, and strategic networking. \nAs part of TechEx Europe\, the event features 200+ speakers from major organisations like HSBC\, NATO\, ING\, and Zurich Insurance\, delivering keynote talks\, panels\, and real-world case studies on today’s biggest cyber challenges. Expect sessions on AI in security\, risk\, and resilience\, regulations\, threat intelligence\, and more\, all delivered on a dedicated Cybersecurity stage. Key sectors include finance\, healthcare\, energy\, retail\, government\, and legal\, making it the go-to event for CISOs\, CTOs\, and IT leaders navigating digital transformation. \n  \nRegister HERE
URL:https://www.wicys.org/event/cyber-security-expo-europe-2025/
LOCATION:RAI\, Amsterdam\, Netherlands
ATTACH;FMTTYPE=image/png:https://www.wicys.org/wp-content/uploads/2025/07/Cyber-Security-Expo-Europe-graphic.png
END:VEVENT
BEGIN:VEVENT
DTSTART;TZID=UTC:20250924T060000
DTEND;TZID=UTC:20250924T200000
DTSTAMP:20260420T140413
CREATED:20250516T140116Z
LAST-MODIFIED:20250922T132248Z
UID:10002577-1758693600-1758744000@www.wicys.org
SUMMARY:WiCyS Fall Virtual Career Fair 2025
DESCRIPTION:If you are in the market to be recruited for a part-time or full-time job\, entry or high-level job\, or an internship\, get your resume ready! The WiCyS Virtual Career Fair (VCF) is September 24th\, 2025 from 11 am – 4 pm CT and is FREE to all WiCyS members. WiCyS Strategic Partners will be ready with their chat and video features enabled for an outstanding career fair experience. The VCF will be held in the Job Board++. \nNot a WiCyS Member\, but would like to attend the Virtual Career Fair? Join HERE. \nHOW TO GET THE MOST OUT OF YOUR VIRTUAL CAREER FAIR EXPERIENCE\nWiCyS Members: If you haven’t done so already\, update your profile and upload your resume in the Job Board++. Please do this prior to the Career Fair to ensure smooth access on the day of the event. You can access the Job Board++ by using the email associated with your WiCyS membership and your Member ID\, which is located in your WiCyS Member Portal profile. \n  \nFor more details and to view the partners that will be recruiting visit HERE \n  \nAre you an employer looking to hire? Contact info@wicys.org to learn about conference sponsorship and strategic partnership opportunities.
URL:https://www.wicys.org/event/wicys-fall-virtual-career-fair-2025/2025-09-24/1/
LOCATION:Virtual
CATEGORIES:WiCyS
ATTACH;FMTTYPE=image/png:https://www.wicys.org/wp-content/uploads/2025/05/WiCyS-Fall-Virtual-Career-Fair-2025-3.png
END:VEVENT
BEGIN:VEVENT
DTSTART;TZID=UTC:20250924T110000
DTEND;TZID=UTC:20250924T160000
DTSTAMP:20260420T140413
CREATED:20250516T140116Z
LAST-MODIFIED:20250922T132248Z
UID:10002249-1758711600-1758729600@www.wicys.org
SUMMARY:WiCyS Fall Virtual Career Fair 2025
DESCRIPTION:If you are in the market to be recruited for a part-time or full-time job\, entry or high-level job\, or an internship\, get your resume ready! The WiCyS Virtual Career Fair (VCF) is September 24th\, 2025 from 11 am – 4 pm CT and is FREE to all WiCyS members. WiCyS Strategic Partners will be ready with their chat and video features enabled for an outstanding career fair experience. The VCF will be held in the Job Board++. \nNot a WiCyS Member\, but would like to attend the Virtual Career Fair? Join HERE. \nHOW TO GET THE MOST OUT OF YOUR VIRTUAL CAREER FAIR EXPERIENCE\nWiCyS Members: If you haven’t done so already\, update your profile and upload your resume in the Job Board++. Please do this prior to the Career Fair to ensure smooth access on the day of the event. You can access the Job Board++ by using the email associated with your WiCyS membership and your Member ID\, which is located in your WiCyS Member Portal profile. \n  \nFor more details and to view the partners that will be recruiting visit HERE \n  \nAre you an employer looking to hire? Contact info@wicys.org to learn about conference sponsorship and strategic partnership opportunities.
URL:https://www.wicys.org/event/wicys-fall-virtual-career-fair-2025/2025-09-24/2/
LOCATION:Virtual
CATEGORIES:WiCyS
ATTACH;FMTTYPE=image/png:https://www.wicys.org/wp-content/uploads/2025/05/WiCyS-Fall-Virtual-Career-Fair-2025-3.png
END:VEVENT
BEGIN:VEVENT
DTSTART;TZID=Asia/Karachi:20250924T150000
DTEND;TZID=Asia/Karachi:20250924T160000
DTSTAMP:20260420T140413
CREATED:20250919T164316Z
LAST-MODIFIED:20250919T164316Z
UID:10002574-1758726000-1758729600@www.wicys.org
SUMMARY:WiCyS BISO Affiliate | Deep Dive with Ann Hines\, USAA's BISO on the BISO Role
DESCRIPTION:This year\, the WiCyS BISO Affiliate has already hosted sessions on Introduction to the BISO role and a panel featuring BISOs discussing their roles. As we continue exploring the BISO role\, please join us for our third Special Interest event on September 24th\, 3 pm central\, for a deep dive conversation into the BISO role with the BISO from USAA\, Ann Hines\, BISO\, Security Principal. We’re excited to explore what the role looks like on a day-to-day basis\, who this role interacts with\, and what outcomes a BISO role really produces. \n  \nPlease register HERE for this event.
URL:https://www.wicys.org/event/wicys-biso-affiliate-deep-dive-with-ann-hines-usaas-biso-on-the-biso-role/
LOCATION:Virtual
CATEGORIES:Webinar,WiCyS Affiliate
ATTACH;FMTTYPE=image/jpeg:https://www.wicys.org/wp-content/uploads/2025/09/1758138509128.jpeg
ORGANIZER;CN="WiCyS - BISO Affiliate":MAILTO:wicysBISO@wicys.org
END:VEVENT
BEGIN:VEVENT
DTSTART;TZID=America/New_York:20250924T190000
DTEND;TZID=America/New_York:20250924T200000
DTSTAMP:20260420T140413
CREATED:20250822T190735Z
LAST-MODIFIED:20250825T141152Z
UID:10002510-1758740400-1758744000@www.wicys.org
SUMMARY:WiCyS Florida Affiliate | Unlocking the Secrets of a Security-Aware Mind
DESCRIPTION:We’re excited to welcome Eram Sayed as our speaker for the next WiCyS Florida Monthly Event on Wednesday\, September 24 at 7:00 PM ET! \nThis session will demystify the security mindset—helping you learn to think like an attacker and act like a defender. You’ll explore how cybersecurity pros monitor for anomalies\, assess threats\, and evaluate what really matters in the midst of chaos. \nWhether you’re new to cyber or looking to sharpen your mental edge\, this talk is for you. \n  \nRSVP HERE
URL:https://www.wicys.org/event/wicys-florida-affiliate-unlocking-the-secrets-of-a-security-aware-mind/
LOCATION:Virtual
CATEGORIES:Webinar,WiCyS Affiliate
ATTACH;FMTTYPE=image/png:https://www.wicys.org/wp-content/uploads/2025/08/Screenshot-2025-08-22-at-3.10.49-PM.png
ORGANIZER;CN="WiCyS - Florida Affiliate":MAILTO:wicysflorida@wicys.org
END:VEVENT
END:VCALENDAR