BEGIN:VCALENDAR
VERSION:2.0
PRODID:-//WiCyS - Women in Cybersecurity - ECPv6.15.20//NONSGML v1.0//EN
CALSCALE:GREGORIAN
METHOD:PUBLISH
X-WR-CALNAME:WiCyS - Women in Cybersecurity
X-ORIGINAL-URL:https://www.wicys.org
X-WR-CALDESC:Events for WiCyS - Women in Cybersecurity
REFRESH-INTERVAL;VALUE=DURATION:PT1H
X-Robots-Tag:noindex
X-PUBLISHED-TTL:PT1H
BEGIN:VTIMEZONE
TZID:UTC
BEGIN:STANDARD
TZOFFSETFROM:+0000
TZOFFSETTO:+0000
TZNAME:UTC
DTSTART:20250101T000000
END:STANDARD
END:VTIMEZONE
BEGIN:VEVENT
DTSTART;VALUE=DATE:20260421
DTEND;VALUE=DATE:20260512
DTSTAMP:20260420T122823
CREATED:20260417T172557Z
LAST-MODIFIED:20260417T173035Z
UID:10003160-1776729600-1778543999@www.wicys.org
SUMMARY:WiCyS | Rising CISO Leadership Development Program Applications OPEN
DESCRIPTION:The Rising CISO Leadership Development Program\, in partnership with Optiv\, is a bold commitment to shaping the next generation of cybersecurity executives. This is an exclusive opportunity for hand-selected\, senior-career WiCyS members and security leaders to master the influence required to step into a CISO-level role. It is a transformative\, 2-day\, in-person event\, held in Chicago on July 20-21\, 2026\, that leaves behind slides and lectures for fully immersive\, hands-on creative experiences. The program enables participants to discover authentic leadership\, understand their ‘why\,’ and build confidence through action\, reflection\, and genuine human connection. Guided by Jason Weiss’s philosophy\, it provides the clarity\, challenge\, and connection necessary for emerging leaders to explore authentic leadership\, master influence\, and build confidence. \n  \nSubmit your application today HERE
URL:https://www.wicys.org/event/wicys-rising-ciso-leadership-development-program-applications-open/
LOCATION:Chicago\, Chicago\, IL\, United States
CATEGORIES:Senior Career Level,WiCyS,WiCyS Program
ATTACH;FMTTYPE=image/png:https://www.wicys.org/wp-content/uploads/2026/04/Rising-CISO-Leadership-Development-Program.png
END:VEVENT
BEGIN:VEVENT
DTSTART;VALUE=DATE:20260720
DTEND;VALUE=DATE:20260722
DTSTAMP:20260420T122823
CREATED:20260417T172911Z
LAST-MODIFIED:20260417T172911Z
UID:10003161-1784505600-1784678399@www.wicys.org
SUMMARY:WiCyS | Rising CISO Leadership Development Program
DESCRIPTION:The Rising CISO Leadership Development Program\, in partnership with Optiv\, is a bold commitment to shaping the next generation of cybersecurity executives. This is an exclusive opportunity for hand-selected\, senior-career WiCyS members and security leaders to master the influence required to step into a CISO-level role. It is a transformative\, 2-day\, in-person event\, held in Chicago on July 20-21\, 2026\, that leaves behind slides and lectures for fully immersive\, hands-on creative experiences. The program enables participants to discover authentic leadership\, understand their ‘why\,’ and build confidence through action\, reflection\, and genuine human connection. Guided by Jason Weiss’s philosophy\, it provides the clarity\, challenge\, and connection necessary for emerging leaders to explore authentic leadership\, master influence\, and build confidence.
URL:https://www.wicys.org/event/wicys-rising-ciso-leadership-development-program/
LOCATION:Chicago\, Chicago\, IL\, United States
CATEGORIES:Senior Career Level,WiCyS,WiCyS Program
ATTACH;FMTTYPE=image/png:https://www.wicys.org/wp-content/uploads/2026/04/Rising-CISO-Leadership-Development-Program.png
END:VEVENT
END:VCALENDAR