BEGIN:VCALENDAR
VERSION:2.0
PRODID:-//WiCyS - Women in Cybersecurity - ECPv6.15.20//NONSGML v1.0//EN
CALSCALE:GREGORIAN
METHOD:PUBLISH
X-WR-CALNAME:WiCyS - Women in Cybersecurity
X-ORIGINAL-URL:https://www.wicys.org
X-WR-CALDESC:Events for WiCyS - Women in Cybersecurity
REFRESH-INTERVAL;VALUE=DURATION:PT1H
X-Robots-Tag:noindex
X-PUBLISHED-TTL:PT1H
BEGIN:VTIMEZONE
TZID:UTC
BEGIN:STANDARD
TZOFFSETFROM:+0000
TZOFFSETTO:+0000
TZNAME:UTC
DTSTART:20240101T000000
END:STANDARD
END:VTIMEZONE
BEGIN:VEVENT
DTSTART;TZID=UTC:20251001T120000
DTEND;TZID=UTC:20251001T130000
DTSTAMP:20260426T022230
CREATED:20250916T182957Z
LAST-MODIFIED:20250919T163732Z
UID:10002573-1759320000-1759323600@www.wicys.org
SUMMARY:Webinar | AI & Cybersecurity: Risk\, Integrity\, and Enterprise Resilience
DESCRIPTION:As artificial intelligence reshapes the cybersecurity landscape\, organizations face unprecedented challenges in balancing innovation with responsibility. This comprehensive webinar with WiCyS Strategic Partner\, ServiceNow\, explores how AI is fundamentally transforming both cyber defense and attack strategies\, while introducing critical questions about integrity\, ethics\, and decision-making authority in cybersecurity. \n  \nWiCyS is proud to provide members the opportunity to earn CPE/CEU credits for attending WiCyS Webinars live. \nTo earn CPE/CEU credits with the following providers\, you must meet the minimum requirements: \n\nGIAC/(ISC)2: attend for a minimum of 45 minutes or the entirety of the webinar\nCompTIA: attend for a minimum of 60 minutes or the entirety of the webinar (webinar topic must relate to the certificate being renewed)\n\nAttendees who meet the requirements can log into BrightTALK to print out their attendance certificates to submit for CPE/CEU credits. \n  \nRegister for this webinar and view the recording if you are unable to join live.
URL:https://www.wicys.org/event/webinar-ai-cybersecurity-risk-integrity-and-enterprise-resilience/
LOCATION:BrightTALK
CATEGORIES:Webinar,WiCyS
ATTACH;FMTTYPE=image/png:https://www.wicys.org/wp-content/uploads/2025/09/WiCyS-LI-_-Twitter-2025-09-19T155118.185.png
END:VEVENT
BEGIN:VEVENT
DTSTART;TZID=UTC:20251014T130000
DTEND;TZID=UTC:20251014T140000
DTSTAMP:20260426T022230
CREATED:20251001T170413Z
LAST-MODIFIED:20251001T170413Z
UID:10002589-1760446800-1760450400@www.wicys.org
SUMMARY:Webinar | Building Secure AI Agents on AWS: Best Practices and Implementation
DESCRIPTION:As organizations increasingly adopt agentic AI solutions\, security considerations have become paramount in ensuring these autonomous systems operate safely at enterprise scale. This webinar with WiCyS Strategic Partner\, Amazon\, will explore comprehensive strategies for building\, deploying\, and securing AI agents on Amazon Web Services (AWS)\, leveraging the latest security frameworks and best practices tailored for cybersecurity professionals. With the introduction of Amazon Bedrock AgentCore and the open-source Strands Agents SDK\, AWS has established new standards for secure AI agent deployment. This session will provide practical insights with a live demo on implementing robust security mechanisms while maintaining the operational efficiency that makes AI agents valuable for enterprise automation and decision-making. Whether you’re building your first AI tool or scaling secure systems in production\, this session will equip you with practical strategies for creating trustworthy\, transparent\, and secure AI. \n  \nWiCyS is proud to provide members the opportunity to earn CPE/CEU credits for attending WiCyS Webinars live. \nTo earn CPE/CEU credits with the following providers\, you must meet the minimum requirements: \n\nGIAC/(ISC)2: attend for a minimum of 45 minutes or the entirety of the webinar\nCompTIA: attend for a minimum of 60 minutes or the entirety of the webinar (webinar topic must relate to the certificate being renewed)\n\nAttendees who meet the requirements can log into BrightTALK to print out their attendance certificates to submit for CPE/CEU credits. \n  \nRegister for this webinar and view the recording if you are unable to join live.
URL:https://www.wicys.org/event/webinar-building-secure-ai-agents-on-aws-best-practices-and-implementation/
LOCATION:BrightTALK
CATEGORIES:Webinar,WiCyS
ATTACH;FMTTYPE=image/png:https://www.wicys.org/wp-content/uploads/2025/10/WiCyS-LI-_-Twitter-2025-09-26T202536.736.png
END:VEVENT
BEGIN:VEVENT
DTSTART;TZID=UTC:20251022T160000
DTEND;TZID=UTC:20251022T180000
DTSTAMP:20260426T022230
CREATED:20251017T174816Z
LAST-MODIFIED:20251017T174816Z
UID:10002615-1761148800-1761156000@www.wicys.org
SUMMARY:WiCyS West Africa | Generative AI — Tool or Weapon?
DESCRIPTION:Next on WiCyS West Africa Cyber Month Lineup: Generative AI — Tool or Weapon? The next activity in the series is a thought-provoking webinar on one of the most talked-about topics in tech today. Join virtually to explore how generative AI is reshaping cybersecurity\, its potential benefits\, and the emerging risks that come with it. \nScheduled Speaker: Tracy B. – AI Strategist\, shaping Generative AI strategy for a Fortune 100 Tech Provider \n  \nRegister HERE
URL:https://www.wicys.org/event/wicys-west-africa-generative-ai-tool-or-weapon/
LOCATION:Virtual
CATEGORIES:Webinar,WiCyS Affiliate
ATTACH;FMTTYPE=image/png:https://www.wicys.org/wp-content/uploads/2022/03/WiCyS-West-Africa-Affiliate-Logo-on-Shield-2.png
ORGANIZER;CN="WiCyS West Africa":MAILTO:wicyswestafrica@wicys.org
END:VEVENT
BEGIN:VEVENT
DTSTART;TZID=UTC:20251027T130000
DTEND;TZID=UTC:20251027T140000
DTSTAMP:20260426T022230
CREATED:20251014T191744Z
LAST-MODIFIED:20251014T191744Z
UID:10002609-1761570000-1761573600@www.wicys.org
SUMMARY:Webinar | Inside a Cyber Crisis: An Interactive Experience
DESCRIPTION:What really happens when a company faces a cyberattack? In this interactive webinar with WiCyS Strategic Partner SentinelOne\, the audience will step into the middle of a fictional cyber crisis and take part in key decisions through live polls. Along the way\, the presenters will bust common myths\, share real-world insights\, and highlight the teamwork and skills that go into handling these situations. Whether attendees are students\, early talent\, or professionals looking to transition into cybersecurity\, they will gain a clearer picture of what incident response looks like and why people from all backgrounds have an important role to play. \n  \nWiCyS is proud to provide members the opportunity to earn CPE/CEU credits for attending WiCyS Webinars live. To earn CPE/CEU credits with the following providers\, you must meet the minimum requirements: \n\nGIAC/(ISC)2: attend for a minimum of 45 minutes or the entirety of the webinar\nCompTIA: attend for a minimum of 60 minutes or the entirety of the webinar (webinar topic must relate to the certificate being renewed)\n\nAttendees who meet the requirements can log into BrightTALK to print out their attendance certificates to submit for CPE/CEU credits. \n  \nRegister for this webinar and view the recording if you are unable to join live.
URL:https://www.wicys.org/event/webinar-inside-a-cyber-crisis-an-interactive-experience/
LOCATION:BrightTALK
CATEGORIES:Webinar,WiCyS
ATTACH;FMTTYPE=image/png:https://www.wicys.org/wp-content/uploads/2025/10/WiCyS-LI-_-Twitter-2025-10-09T192757.316.png
END:VEVENT
END:VCALENDAR