BEGIN:VCALENDAR
VERSION:2.0
PRODID:-//WiCyS - Women in Cybersecurity - ECPv6.15.20//NONSGML v1.0//EN
CALSCALE:GREGORIAN
METHOD:PUBLISH
X-ORIGINAL-URL:https://www.wicys.org
X-WR-CALDESC:Events for WiCyS - Women in Cybersecurity
REFRESH-INTERVAL;VALUE=DURATION:PT1H
X-Robots-Tag:noindex
X-PUBLISHED-TTL:PT1H
BEGIN:VTIMEZONE
TZID:UTC
BEGIN:STANDARD
TZOFFSETFROM:+0000
TZOFFSETTO:+0000
TZNAME:UTC
DTSTART:20240101T000000
END:STANDARD
END:VTIMEZONE
BEGIN:VTIMEZONE
TZID:America/Chicago
BEGIN:DAYLIGHT
TZOFFSETFROM:-0600
TZOFFSETTO:-0500
TZNAME:CDT
DTSTART:20240310T080000
END:DAYLIGHT
BEGIN:STANDARD
TZOFFSETFROM:-0500
TZOFFSETTO:-0600
TZNAME:CST
DTSTART:20241103T070000
END:STANDARD
BEGIN:DAYLIGHT
TZOFFSETFROM:-0600
TZOFFSETTO:-0500
TZNAME:CDT
DTSTART:20250309T080000
END:DAYLIGHT
BEGIN:STANDARD
TZOFFSETFROM:-0500
TZOFFSETTO:-0600
TZNAME:CST
DTSTART:20251102T070000
END:STANDARD
BEGIN:DAYLIGHT
TZOFFSETFROM:-0600
TZOFFSETTO:-0500
TZNAME:CDT
DTSTART:20260308T080000
END:DAYLIGHT
BEGIN:STANDARD
TZOFFSETFROM:-0500
TZOFFSETTO:-0600
TZNAME:CST
DTSTART:20261101T070000
END:STANDARD
END:VTIMEZONE
BEGIN:VTIMEZONE
TZID:Europe/Paris
BEGIN:DAYLIGHT
TZOFFSETFROM:+0100
TZOFFSETTO:+0200
TZNAME:CEST
DTSTART:20240331T010000
END:DAYLIGHT
BEGIN:STANDARD
TZOFFSETFROM:+0200
TZOFFSETTO:+0100
TZNAME:CET
DTSTART:20241027T010000
END:STANDARD
BEGIN:DAYLIGHT
TZOFFSETFROM:+0100
TZOFFSETTO:+0200
TZNAME:CEST
DTSTART:20250330T010000
END:DAYLIGHT
BEGIN:STANDARD
TZOFFSETFROM:+0200
TZOFFSETTO:+0100
TZNAME:CET
DTSTART:20251026T010000
END:STANDARD
BEGIN:DAYLIGHT
TZOFFSETFROM:+0100
TZOFFSETTO:+0200
TZNAME:CEST
DTSTART:20260329T010000
END:DAYLIGHT
BEGIN:STANDARD
TZOFFSETFROM:+0200
TZOFFSETTO:+0100
TZNAME:CET
DTSTART:20261025T010000
END:STANDARD
END:VTIMEZONE
BEGIN:VEVENT
DTSTART;TZID=UTC:20251106T130000
DTEND;TZID=UTC:20251106T140000
DTSTAMP:20260423T140512
CREATED:20251023T154757Z
LAST-MODIFIED:20251023T154757Z
UID:10002620-1762434000-1762437600@www.wicys.org
SUMMARY:Webinar | Securing AI: Keeping Promises\, Blocking Threats & Building Smart
DESCRIPTION:AI is accelerating both innovation and attacks. Security must keep pace—blocking threats\, using AI for defense\, enabling safe adoption\, and staying compliant. This panel will share how LinkedIn InfoSec is meeting these challenges to secure AI development and usage. Join us to explore how women in cybersecurity are shaping AI security strategies that prevent attacks\, uphold trust\, and simplify secure development at scale. \n  \nWiCyS is proud to provide members the opportunity to earn CPE/CEU credits for attending WiCyS Webinars live. To earn CPE/CEU credits with the following providers\, you must meet the minimum requirements: \n\nGIAC/(ISC)2: attend for a minimum of 45 minutes or the entirety of the webinar\nCompTIA: attend for a minimum of 60 minutes or the entirety of the webinar (webinar topic must relate to the certificate being renewed)\n\nAttendees who meet the requirements can log into BrightTALK to print out their attendance certificates to submit for CPE/CEU credits. \n  \nRegister for this webinar and view the recording if you are unable to join live.
URL:https://www.wicys.org/event/webinar-securing-ai-keeping-promises-blocking-threats-building-smart/
LOCATION:BrightTALK
CATEGORIES:Webinar,WiCyS
ATTACH;FMTTYPE=image/jpeg:https://www.wicys.org/wp-content/uploads/2025/10/WiCyS-LI-_-Twitter-1.jpg
END:VEVENT
BEGIN:VEVENT
DTSTART;TZID=UTC:20251111T130000
DTEND;TZID=UTC:20251111T140000
DTSTAMP:20260423T140512
CREATED:20251030T134021Z
LAST-MODIFIED:20251030T134021Z
UID:10002635-1762866000-1762869600@www.wicys.org
SUMMARY:Webinar | Dear Day One: Real Talk from First Jobs and Beyond
DESCRIPTION:Starting your first job is equal parts exciting\, confusing\, and a little overwhelming. From the unexpected surprises on day one to figuring out which skills actually matter (hint: it’s not always the ones listed on your resume)\, the journey from “new hire” to confident contributor is full of lessons that no one really teaches you. \nIn this panel with WiCyS Strategic Partner\, Bloomberg\, we’ll dive into real stories and insider advice that professionals wish they had when starting out. We’ll talk about the skills that make the biggest difference\, how to adapt quickly to a new organization\, team and culture\, as well as the roles that mentors\, managers\, and peers play in shaping your growth. Most importantly\, we’ll unpack the unspoken rules of the workplace — those things you won’t find in an onboarding guide but which can define your career trajectory. \nWhether you’re about to start your first role or already navigating early career challenges\, this conversation will give you a candid\, relatable look at what it really takes to thrive in today’s workplace. \n  \nWiCyS is proud to provide members the opportunity to earn CPE/CEU credits for attending WiCyS Webinars live. To earn CPE/CEU credits with the following providers\, you must meet the minimum requirements: \n\nGIAC/(ISC)2: attend for a minimum of 45 minutes or the entirety of the webinar\nCompTIA: attend for a minimum of 60 minutes or the entirety of the webinar (webinar topic must relate to the certificate being renewed)\n\nAttendees who meet the requirements can log into BrightTALK to print out their attendance certificates to submit for CPE/CEU credits. \n  \nRegister for this webinar and view the recording if you are unable to join live.
URL:https://www.wicys.org/event/webinar-dear-day-one-real-talk-from-first-jobs-and-beyond/
LOCATION:BrightTALK
CATEGORIES:Webinar,WiCyS
ATTACH;FMTTYPE=image/png:https://www.wicys.org/wp-content/uploads/2025/10/WiCyS-LI-_-Twitter-2025-10-27T183919.370.png
END:VEVENT
BEGIN:VEVENT
DTSTART;TZID=UTC:20251112T130000
DTEND;TZID=UTC:20251112T140000
DTSTAMP:20260423T140512
CREATED:20251106T183035Z
LAST-MODIFIED:20251106T183035Z
UID:10002661-1762952400-1762956000@www.wicys.org
SUMMARY:Webinar | Unlock Your Cyber Potential: Introducing the WiCyS Talent Pathway
DESCRIPTION:The cybersecurity industry faces a critical talent shortage\, yet countless individuals with high potential struggle to find their entry point. How can we bridge the gap between aptitude and opportunity? Join WiCyS for this informational webinar introducing: The WiCyS Talent Pathway\, Powered by CyberGen IQ. \nThis initiative is designed to move beyond traditional resumes and interviews. It focuses on identifying the core cognitive aptitude for success in cybersecurity\, providing a clear path for aspiring professionals to get assessed\, matched\, and connected with employers seeking their unique skills. Tune in to hear from our featured speaker\, Crystal Hartman\, CEO of Haystack Solutions. \nIn this session\, you will learn: \n\nHow the CyberGen IQ assessment identifies your innate strengths for specific cyber roles (like digital forensics\, penetration testing\, risk analysis\, and more).\nHow WiCyS members can leverage this pathway to connect with hiring partners.\nHow employers can partner with WiCyS to find and hire diverse\, qualified talent based on proven potential\, not just experience.\nWhether you are a student\, a professional looking to pivot into cyber\, or an employer committed to building a diverse team\, this webinar will provide the map to the future of cybersecurity talent. Register today!\n\n  \nWiCyS is proud to provide members the opportunity to earn CPE/CEU credits for attending WiCyS Webinars live. To earn CPE/CEU credits with the following providers\, you must meet the minimum requirements: \n\nGIAC/(ISC)2: attend for a minimum of 45 minutes or the entirety of the webinar\nCompTIA: attend for a minimum of 60 minutes or the entirety of the webinar (webinar topic must relate to the certificate being renewed)\n\nAttendees who meet the requirements can log into BrightTALK to print out their attendance certificates to submit for CPE/CEU credits. \n  \nRegister for this webinar and view the recording if you are unable to join live.
URL:https://www.wicys.org/event/webinar-unlock-your-cyber-potential-introducing-the-wicys-talent-pathway/
LOCATION:BrightTALK
CATEGORIES:Webinar,WiCyS
ATTACH;FMTTYPE=image/png:https://www.wicys.org/wp-content/uploads/2025/11/The-WiCyS-Talent-Pathway_-Powered-by-CyberGen-IQ-Webinar.png
END:VEVENT
BEGIN:VEVENT
DTSTART;TZID=UTC:20251114T120000
DTEND;TZID=UTC:20251114T130000
DTSTAMP:20260423T140512
CREATED:20251105T194248Z
LAST-MODIFIED:20251105T194248Z
UID:10002653-1763121600-1763125200@www.wicys.org
SUMMARY:WiCyS | Black Girls Hack Bring A Hacker To Work Day
DESCRIPTION:Join the community for a Bring A Hacker To Work Day (BAHTWD) session with Alina Mueez\, an Associate at Schellman as she shares her journey navigating the world of cybersecurity\, technology\, and leadership. \nAlina is a proud graduate of The Ohio State University\, where she earned her degree in Information Systems with minors in Information Security and Leadership. Her career path spans a dynamic range of experiences from Risk Model Management and Identity & Access Management internships to two years of full-stack development. \nBeyond her professional achievements\, Alina has been an active member of Women in Cybersecurity (WiCyS) for the past two years. \nDuring this event\, Alina will discuss: \n\nHer path from student to cybersecurity professional\nInsights into her work at Schellman and the world of IT auditing and risk management\nThe importance of mentorship\, representation\, and continuous learning in tech\nTips for those looking to break into the field\n\n  \nCome ready to learn\, connect\, and be inspired as Alina brings her real-world experience and passion for security\, leadership\, and community to the conversation. \n  \nRegister HERE
URL:https://www.wicys.org/event/wicys-black-girls-hack-bring-a-hacker-to-work-day/
LOCATION:Virtual
CATEGORIES:Webinar,WiCyS
ATTACH;FMTTYPE=image/jpeg:https://www.wicys.org/wp-content/uploads/2025/11/cropped-BlackGirlsHackLogo-1-1.jpg
END:VEVENT
BEGIN:VEVENT
DTSTART;TZID=America/Chicago:20251119T180000
DTEND;TZID=America/Chicago:20251119T190000
DTSTAMP:20260423T140512
CREATED:20251105T200101Z
LAST-MODIFIED:20251105T200101Z
UID:10002652-1763575200-1763578800@www.wicys.org
SUMMARY:WiCyS Florida Affiliate | The World is Scary: How to Navigate Your Cyber Career
DESCRIPTION:Join WiCyS Florida and Jamie Lean as she shares how she went from student to cyber professional\, and the small steps that made a big difference. \nFeeling overwhelmed on your path into cybersecurity? You’re not alone. \nIn this inspiring and relatable talk\, Jamie Lean\, a WiCyS Florida member and rising cybersecurity professional\, shares her journey from 17-year-old student to full-time cyber practitioner by age 22. Through the ups\, downs\, and self-doubt\, she built the confidence to break into the industry—and now she’s sharing the practical steps that helped her get there. \nWhat You’ll Learn: \n\nHow to network and talk to industry professionals\nTips for standing out during college and job interviews\nThe small things outside the classroom that build real-world confidence\nHow to navigate early career fears as an underrepresented voice in tech\nWhether you’re a student\, early-career professional\, or mentor looking for insight into the next generation of cybersecurity leaders—this talk is for you.\n\n  \nYou don’t have to have it all figured out to get started. Join us and take the next step with confidence. Register HERE
URL:https://www.wicys.org/event/wicys-florida-affiliate-the-world-is-scary-how-to-navigate-your-cyber-career/
LOCATION:Virtual
CATEGORIES:Webinar,WiCyS Affiliate
ATTACH;FMTTYPE=image/png:https://www.wicys.org/wp-content/uploads/2025/11/Screenshot-2025-11-05-at-2.59.21-PM.png
ORGANIZER;CN="WiCyS - Florida Affiliate":MAILTO:wicysflorida@wicys.org
END:VEVENT
BEGIN:VEVENT
DTSTART;TZID=Europe/Paris:20251127T140000
DTEND;TZID=Europe/Paris:20251127T150000
DTSTAMP:20260423T140512
CREATED:20251113T200936Z
LAST-MODIFIED:20251113T200936Z
UID:10002664-1764252000-1764255600@www.wicys.org
SUMMARY:WiCyS Nigeria Affiliate | From Allies to Advocates: How Men Can Champion Women in Cybersecurity and Tech
DESCRIPTION:This 𝗜𝗻𝘁𝗲𝗿𝗻𝗮𝘁𝗶𝗼𝗻𝗮𝗹 𝗠𝗲𝗻’𝘀 𝗗𝗮𝘆\, WiCyS Nigeria Affiliate is spotlighting men who lead with purpose\, breaking barriers\, mentoring talent\, and creating space for women to thrive in cybersecurity and tech. \nJoin us for a one-hour webinar on 𝗧𝗵𝘂𝗿𝘀𝗱𝗮𝘆\, 𝗡𝗼𝘃𝗲𝗺𝗯𝗲𝗿 𝟮𝟳 𝗮𝘁 𝟮:𝟬𝟬 𝗣𝗠 𝗪𝗔𝗧 as we explore what true advocacy looks like\, from mentorship and sponsorship to visibility and shared opportunities. \nScheduled Speakers: \n\nPaul Omugbe (FCA\, FCCA\, CPA\, PMP\, FMVA\, SAFe® Agilist) – CEO\, Venix Partners | Business Transformation Expert\nChristopher Odezi Aluta – Leadership Strategist & Youth Development Advocate\nJun Suto – CEO\, S-CUBED Consulting | Founding Member\, AI+Compassion Alliance\nModerator: Patricia E. \, President\, WiCyS Nigeria Affiliate\n\n  \nLet’s celebrate men who don’t just support; they stand up\, speak out\, and show up for inclusion in cybersecurity and tech. Please register HERE for this event.
URL:https://www.wicys.org/event/wicys-nigeria-affiliate-from-allies-to-advocates-how-men-can-champion-women-in-cybersecurity-and-tech/
LOCATION:Virtual
CATEGORIES:Webinar,WiCyS Affiliate
ATTACH;FMTTYPE=image/jpeg:https://www.wicys.org/wp-content/uploads/2025/11/ce6e00c5-b0df-41c3-9846-49a99be6e330-e1763064569271.jpeg
ORGANIZER;CN="WiCyS Nigeria Affiliate":MAILTO:wicysnigeria@wicys.org
END:VEVENT
END:VCALENDAR