BEGIN:VCALENDAR
VERSION:2.0
PRODID:-//WiCyS - Women in Cybersecurity - ECPv6.15.20//NONSGML v1.0//EN
CALSCALE:GREGORIAN
METHOD:PUBLISH
X-ORIGINAL-URL:https://www.wicys.org
X-WR-CALDESC:Events for WiCyS - Women in Cybersecurity
REFRESH-INTERVAL;VALUE=DURATION:PT1H
X-Robots-Tag:noindex
X-PUBLISHED-TTL:PT1H
BEGIN:VTIMEZONE
TZID:UTC
BEGIN:STANDARD
TZOFFSETFROM:+0000
TZOFFSETTO:+0000
TZNAME:UTC
DTSTART:20240101T000000
END:STANDARD
END:VTIMEZONE
BEGIN:VTIMEZONE
TZID:Europe/Moscow
BEGIN:STANDARD
TZOFFSETFROM:+0300
TZOFFSETTO:+0300
TZNAME:MSK
DTSTART:20240101T000000
END:STANDARD
END:VTIMEZONE
BEGIN:VTIMEZONE
TZID:America/New_York
BEGIN:DAYLIGHT
TZOFFSETFROM:-0500
TZOFFSETTO:-0400
TZNAME:EDT
DTSTART:20240310T070000
END:DAYLIGHT
BEGIN:STANDARD
TZOFFSETFROM:-0400
TZOFFSETTO:-0500
TZNAME:EST
DTSTART:20241103T060000
END:STANDARD
BEGIN:DAYLIGHT
TZOFFSETFROM:-0500
TZOFFSETTO:-0400
TZNAME:EDT
DTSTART:20250309T070000
END:DAYLIGHT
BEGIN:STANDARD
TZOFFSETFROM:-0400
TZOFFSETTO:-0500
TZNAME:EST
DTSTART:20251102T060000
END:STANDARD
BEGIN:DAYLIGHT
TZOFFSETFROM:-0500
TZOFFSETTO:-0400
TZNAME:EDT
DTSTART:20260308T070000
END:DAYLIGHT
BEGIN:STANDARD
TZOFFSETFROM:-0400
TZOFFSETTO:-0500
TZNAME:EST
DTSTART:20261101T060000
END:STANDARD
END:VTIMEZONE
BEGIN:VTIMEZONE
TZID:Asia/Kolkata
BEGIN:STANDARD
TZOFFSETFROM:+0530
TZOFFSETTO:+0530
TZNAME:IST
DTSTART:20240101T000000
END:STANDARD
END:VTIMEZONE
BEGIN:VEVENT
DTSTART;TZID=UTC:20251201T160000
DTEND;TZID=UTC:20251201T170000
DTSTAMP:20260423T075525
CREATED:20251121T171506Z
LAST-MODIFIED:20251121T171551Z
UID:10002671-1764604800-1764608400@www.wicys.org
SUMMARY:Webinar | Threat Modeling Agentic AI Systems
DESCRIPTION:As organizations increasingly deploy agentic AI systems\, understanding and mitigating security threats is crucial to prevent vulnerabilities in autonomous operations. This webinar with WiCyS Strategic Partner\, ServiceNow\, on “Threat Modeling Agentic AI Systems” will provide a high-level overview of AI security\, explore common threats and controls for agentic AI\, and break down the 7-layer architecture of these advanced systems. \nParticipants will learn the basics of threat modeling\, examine the shortcomings of existing frameworks\, and discover the innovative new MAESTRO Threat Modeling Framework designed specifically for agentic environments. Through practical insights and structured guidance\, you’ll gain tools to identify\, assess\, and address risks effectively. Whether you’re new to AI security or enhancing enterprise defenses\, this session equips you with actionable strategies to build resilient\, secure agentic AI solutions. \n  \nWiCyS is proud to provide members the opportunity to earn CPE/CEU credits for attending WiCyS Webinars live. To earn CPE/CEU credits with the following providers\, you must meet the minimum requirements: \n\nGIAC/(ISC)2: attend for a minimum of 45 minutes or the entirety of the webinar\nCompTIA: attend for a minimum of 60 minutes or the entirety of the webinar (webinar topic must relate to the certificate being renewed)\n\nAttendees who meet the requirements can log into BrightTALK to print out their attendance certificates to submit for CPE/CEU credits. \n  \nRegister for this webinar and view the recording if you are unable to join live.
URL:https://www.wicys.org/event/webinar-threat-modeling-agentic-ai-systems/
LOCATION:BrightTALK
CATEGORIES:Webinar,WiCyS
ATTACH;FMTTYPE=image/png:https://www.wicys.org/wp-content/uploads/2025/11/WiCyS-LI-_-Twitter-2025-11-21T173535.484.png
END:VEVENT
BEGIN:VEVENT
DTSTART;TZID=UTC:20251203T130000
DTEND;TZID=UTC:20251203T140000
DTSTAMP:20260423T075525
CREATED:20251124T203945Z
LAST-MODIFIED:20251202T215027Z
UID:10002673-1764766800-1764770400@www.wicys.org
SUMMARY:Webinar | Networking Fundamentals: Foundational Skills for Cybersecurity Success
DESCRIPTION:Ready to boost your cybersecurity career? Start with networking—the essential cybersecurity skill! \nIn this introductory webinar\, Bob Cunningham\, a renowned Fortinet trainer\, will provide a high-level explanation of next-generation firewalls. You will learn the importance of understanding technologies like: IP addressing\, layer 4 protocols and ports\, routing\, switching\, and other foundational technical concepts. This one-hour webinar will provide you with the introduction needed to further your education with the more in-depth training provided in the Fortinet Networking Bootcamp\, which is kicking off for WiCyS members in 2026. The Fortinet Networking Bootcamp is free and is exclusive to WiCyS members! \nNot a member yet? Join today to unlock access to this incredible\, career-boosting program. https://www.wicys.org/benefits/ \n  \nWiCyS is proud to provide members the opportunity to earn CPE/CEU credits for attending WiCyS Webinars live. To earn CPE/CEU credits with the following providers\, you must meet the minimum requirements: \n\nGIAC/(ISC)2: attend for a minimum of 45 minutes or the entirety of the webinar\nCompTIA: attend for a minimum of 60 minutes or the entirety of the webinar (webinar topic must relate to the certificate being renewed)\n\nAttendees who meet the requirements can log into BrightTALK to print out their attendance certificates to submit for CPE/CEU credits. \n  \nRegister for this webinar and view the recording if you are unable to join live.
URL:https://www.wicys.org/event/webinar-networking-fundamentals-foundational-skills-for-cybersecurity-success/
LOCATION:BrightTALK
CATEGORIES:Webinar,WiCyS
ATTACH;FMTTYPE=image/png:https://www.wicys.org/wp-content/uploads/2025/11/WiCyS-LI-_-Twitter-2025-11-21T174135.818.png
END:VEVENT
BEGIN:VEVENT
DTSTART;TZID=UTC:20251208T130000
DTEND;TZID=UTC:20251208T140000
DTSTAMP:20260423T075525
CREATED:20251118T173323Z
LAST-MODIFIED:20251118T173323Z
UID:10002670-1765198800-1765202400@www.wicys.org
SUMMARY:Webinar | Risk Classification with LLMs
DESCRIPTION:Tired of making critical security decisions with a tangled mess of inconsistent\, unnormalized risk data? This webinar with WiCyS Strategic Partner\, Google\, will be your practical playbook for taming that chaos. You’ll learn how to harness LLMs to automate classification\, transforming raw data into actionable insights to drive remediation. We’ll share “in-the-trenches” tips on model selection. \n  \nWiCyS is proud to provide members the opportunity to earn CPE/CEU credits for attending WiCyS Webinars live. To earn CPE/CEU credits with the following providers\, you must meet the minimum requirements: \n\nGIAC/(ISC)2: attend for a minimum of 45 minutes or the entirety of the webinar\nCompTIA: attend for a minimum of 60 minutes or the entirety of the webinar (webinar topic must relate to the certificate being renewed)\n\nAttendees who meet the requirements can log into BrightTALK to print out their attendance certificates to submit for CPE/CEU credits. \n  \nRegister for this webinar and view the recording if you are unable to join live.
URL:https://www.wicys.org/event/webinar-risk-classification-with-llms/
LOCATION:BrightTALK
CATEGORIES:Webinar,WiCyS
ATTACH;FMTTYPE=image/png:https://www.wicys.org/wp-content/uploads/2025/11/WiCyS-LI-_-Twitter-2025-11-03T161431.593.png
END:VEVENT
BEGIN:VEVENT
DTSTART;TZID=Europe/Moscow:20251210T190000
DTEND;TZID=Europe/Moscow:20251210T200000
DTSTAMP:20260423T075525
CREATED:20251209T194131Z
LAST-MODIFIED:20251209T194351Z
UID:10002690-1765393200-1765396800@www.wicys.org
SUMMARY:WiCyS Uganda Affiliate | Transitioning into Cybersecurity
DESCRIPTION:Join WiCyS Uganda Affiliate for a webinar designed for professionals looking to break into or transition within the cybersecurity field. Don’t miss this opportunity to learn from: Samari Kakibale\, Deputy Director & Head of Information Security and Business Continuity\, Bank of Uganda \nWhat You’ll Gain: \n\nInsights from a seasoned cybersecurity leader\nPractical strategies for career transition\nUnderstanding the current cybersecurity landscape in Uganda\nNetworking opportunities with industry professionals\nLive Q&A session\n\n  \nWhether you’re a recent graduate\, a career changer\, or a professional looking to specialize in cybersecurity\, this webinar will provide valuable guidance on your journey. Cybersecurity is one of the fastest-growing fields globally\, and Uganda needs more skilled professionals to protect our digital infrastructure. This is your opportunity to learn from someone who has successfully navigated this path. \n  \nRegister HERE
URL:https://www.wicys.org/event/wicys-uganda-affiliate-transitioning-into-cybersecurity/
LOCATION:Virtual
CATEGORIES:Webinar,WiCyS Affiliate
ATTACH;FMTTYPE=image/jpeg:https://www.wicys.org/wp-content/uploads/2025/12/IMG-20251208-WA0009-e1765309185370.jpg
END:VEVENT
BEGIN:VEVENT
DTSTART;TZID=America/New_York:20251211T120000
DTEND;TZID=America/New_York:20251211T130000
DTSTAMP:20260423T075525
CREATED:20251201T164931Z
LAST-MODIFIED:20251204T141642Z
UID:10002677-1765454400-1765458000@www.wicys.org
SUMMARY:WiCyS Deaf Affiliate | Breaking Into Cybersecurity: A Conversation with Tracy Goodhue
DESCRIPTION:Join the WiCyS Deaf Affiliate for an inspiring conversation with Tracy Goodhue\, an IT Operations & Security Manager\, accessible advocate\, and Founder of More Good Solutions\, as she shares her journey and mission to create inclusive security practices that don’t leave people with disabilities behind. Trace is a hard-of-hearing professional with Security+\, PMP\, CSM\, and ICP-APO certifications who turned her own experience losing a job over blocked captioning tools into a mission to ensure security controls never exclude disabled employees. \nTracy will share insights on: \n\nBreaking into the cybersecurity field\nEssential skills and certifications\nNavigating the job market\nCreating inclusive cybersecurity workplaces\n\n  \nRegister HERE \nWhether you’re considering a career transition\, just starting out\, or looking to support others in the deaf community entering tech—this conversation is for you. ASL Interpreting and Captions Provided
URL:https://www.wicys.org/event/breaking-into-cybersecurity-a-conversation-with-tracy-goodhue/
LOCATION:Virtual
CATEGORIES:Webinar,WiCyS Affiliate
ATTACH;FMTTYPE=image/png:https://www.wicys.org/wp-content/uploads/2025/12/WiCys-Deaf-1-e1764857778452.png
ORGANIZER;CN="WiCyS - Deaf":MAILTO:angela-deafpres-affiliate@wicys.org
END:VEVENT
BEGIN:VEVENT
DTSTART;TZID=UTC:20251216T140000
DTEND;TZID=UTC:20251216T150000
DTSTAMP:20260423T075525
CREATED:20251203T203649Z
LAST-MODIFIED:20251203T203649Z
UID:10002684-1765893600-1765897200@www.wicys.org
SUMMARY:Webinar | Beyond the Classroom: Turning Skills into Real-World Impact
DESCRIPTION:High profile cases capture headlines\, but behind the scenes are professionals whose preparation shapes the outcome. In this WiCyS webinar\, Heather will share her path from teaching and training with SANS to applying those skills in a nationally recognized investigation. You will learn how research\, practice\, and professional discipline positioned me to contribute meaningfully and how you can take similar steps to prepare for your own career journey. If you are asking yourself what it takes to be ready for an opportunity of this scale\, this session will give you insight and guidance. \n  \nWiCyS is proud to provide members the opportunity to earn CPE/CEU credits for attending WiCyS Webinars live. To earn CPE/CEU credits with the following providers\, you must meet the minimum requirements: \n\nGIAC/(ISC)2: attend for a minimum of 45 minutes or the entirety of the webinar\nCompTIA: attend for a minimum of 60 minutes or the entirety of the webinar (webinar topic must relate to the certificate being renewed)\n\nAttendees who meet the requirements can log into BrightTALK to print out their attendance certificates to submit for CPE/CEU credits. \n  \nRegister for this webinar and view the recording if you are unable to join live.
URL:https://www.wicys.org/event/webinar-beyond-the-classroom-turning-skills-into-real-world-impact/
LOCATION:BrightTALK
CATEGORIES:Webinar,WiCyS
ATTACH;FMTTYPE=image/png:https://www.wicys.org/wp-content/uploads/2025/12/WiCyS-LI-_-Twitter-2025-12-02T143608.565.png
END:VEVENT
BEGIN:VEVENT
DTSTART;TZID=UTC:20251217T130000
DTEND;TZID=UTC:20251217T140000
DTSTAMP:20260423T075525
CREATED:20251205T195012Z
LAST-MODIFIED:20251205T195012Z
UID:10002688-1765976400-1765980000@www.wicys.org
SUMMARY:Webinar | The WiCyS Talent Pathway Powered by skillrex
DESCRIPTION:Join us for an informational webinar on the WiCyS Talent Assessment Powered by skillrex! Presented by Dr. Sasha Vanterpool\, Sr. Cyber Workforce Consultant\, this session will take place on Wednesday\, December 17th at 1:00 PM CT. Learn how this collaborative\, research-based assessment—open to members from December 1–31\, 2025—is designed to better understand the background\, skills\, and professional development needs of WiCyS members. \nThis is not a test or certification exam\, but a tool to identify current skill trends across the community. Completion takes approximately 60 minutes online (desktop/laptop recommended)\, and all responses are securely stored and anonymized. As a participant\, you will receive a personal report detailing your performance on a knowledge-based quiz aligned with industry frameworks like NIST-NICE\, helping you pinpoint specific areas of expertise and identify potential skill gaps. \n  \nRegister for this webinar and view the recording if you are unable to join live.
URL:https://www.wicys.org/event/webinar-the-wicys-talent-pathway-powered-by-skillrex/
LOCATION:BrightTALK
CATEGORIES:Webinar,WiCyS Affiliate
ATTACH;FMTTYPE=image/png:https://www.wicys.org/wp-content/uploads/2025/12/Screenshot-2025-12-05-at-2.48.18-PM.png
END:VEVENT
BEGIN:VEVENT
DTSTART;TZID=Asia/Kolkata:20251219T180000
DTEND;TZID=Asia/Kolkata:20251219T193000
DTSTAMP:20260423T075525
CREATED:20251113T201336Z
LAST-MODIFIED:20251212T184239Z
UID:10002666-1766167200-1766172600@www.wicys.org
SUMMARY:WiCyS Sri Lanka Affiliate - Community Kickoff
DESCRIPTION:The WiCyS Sri Lanka Community Kickoff marks the beginning of our journey as an official WiCyS Affiliate\, creating a space where cybersecurity professionals\, students\, and allies come together to connect\, learn\, and inspire. \nThis virtual event will introduce the WiCyS Sri Lanka community\, share our vision for empowering women in cybersecurity and open the door for meaningful collaboration across the industry. Expect inspiring stories\, engaging discussions and opportunities to be part of something impactful from day one. \nIt’s an opportunity to: \n\nLearn what WiCyS is all about globally and locally.\nMeet the team and fellow community members.\nShare your thoughts\, expectations\, and ideas for what you’d love to see in this growing network.\n\n  \nRegister HERE
URL:https://www.wicys.org/event/wicys-sri-lanka-affiliate-community-kickoff/
LOCATION:Virtual
CATEGORIES:Webinar,WiCyS Affiliate
ATTACH;FMTTYPE=image/png:https://www.wicys.org/wp-content/uploads/2025/11/Community-Kickoff-Posts-e1763064762525.png
END:VEVENT
END:VCALENDAR