BEGIN:VCALENDAR
VERSION:2.0
PRODID:-//WiCyS - Women in Cybersecurity - ECPv6.15.20//NONSGML v1.0//EN
CALSCALE:GREGORIAN
METHOD:PUBLISH
X-WR-CALNAME:WiCyS - Women in Cybersecurity
X-ORIGINAL-URL:https://www.wicys.org
X-WR-CALDESC:Events for WiCyS - Women in Cybersecurity
REFRESH-INTERVAL;VALUE=DURATION:PT1H
X-Robots-Tag:noindex
X-PUBLISHED-TTL:PT1H
BEGIN:VTIMEZONE
TZID:UTC
BEGIN:STANDARD
TZOFFSETFROM:+0000
TZOFFSETTO:+0000
TZNAME:UTC
DTSTART:20250101T000000
END:STANDARD
END:VTIMEZONE
BEGIN:VTIMEZONE
TZID:Pacific/Easter
BEGIN:STANDARD
TZOFFSETFROM:-0500
TZOFFSETTO:-0600
TZNAME:-06
DTSTART:20250406T030000
END:STANDARD
BEGIN:DAYLIGHT
TZOFFSETFROM:-0600
TZOFFSETTO:-0500
TZNAME:-05
DTSTART:20250907T040000
END:DAYLIGHT
BEGIN:STANDARD
TZOFFSETFROM:-0500
TZOFFSETTO:-0600
TZNAME:-06
DTSTART:20260405T030000
END:STANDARD
BEGIN:DAYLIGHT
TZOFFSETFROM:-0600
TZOFFSETTO:-0500
TZNAME:-05
DTSTART:20260906T040000
END:DAYLIGHT
BEGIN:STANDARD
TZOFFSETFROM:-0500
TZOFFSETTO:-0600
TZNAME:-06
DTSTART:20270404T030000
END:STANDARD
BEGIN:DAYLIGHT
TZOFFSETFROM:-0600
TZOFFSETTO:-0500
TZNAME:-05
DTSTART:20270905T040000
END:DAYLIGHT
END:VTIMEZONE
BEGIN:VTIMEZONE
TZID:America/Chicago
BEGIN:DAYLIGHT
TZOFFSETFROM:-0600
TZOFFSETTO:-0500
TZNAME:CDT
DTSTART:20250309T080000
END:DAYLIGHT
BEGIN:STANDARD
TZOFFSETFROM:-0500
TZOFFSETTO:-0600
TZNAME:CST
DTSTART:20251102T070000
END:STANDARD
BEGIN:DAYLIGHT
TZOFFSETFROM:-0600
TZOFFSETTO:-0500
TZNAME:CDT
DTSTART:20260308T080000
END:DAYLIGHT
BEGIN:STANDARD
TZOFFSETFROM:-0500
TZOFFSETTO:-0600
TZNAME:CST
DTSTART:20261101T070000
END:STANDARD
BEGIN:DAYLIGHT
TZOFFSETFROM:-0600
TZOFFSETTO:-0500
TZNAME:CDT
DTSTART:20270314T080000
END:DAYLIGHT
BEGIN:STANDARD
TZOFFSETFROM:-0500
TZOFFSETTO:-0600
TZNAME:CST
DTSTART:20271107T070000
END:STANDARD
END:VTIMEZONE
BEGIN:VEVENT
DTSTART;TZID=UTC:20260106T130000
DTEND;TZID=UTC:20260106T140000
DTSTAMP:20260423T051448
CREATED:20251217T180726Z
LAST-MODIFIED:20251217T180726Z
UID:10002694-1767704400-1767708000@www.wicys.org
SUMMARY:Webinar | Elevate your Career through paid DefCon Training Opportunities
DESCRIPTION:Join the WiCyS Educational and Training Affiliate for an informative webinar on how and why to facilitate a training at DefCon. Learn the career growth opportunities that on-site training can offer and how to best showcase your expertise to the DefCon community. This session will be joined by SeeYew Mo\, Director of Training for DefCon training\, and will equip attendees with the knowledge on how to develop this new skill\, DefCon’s training pay structure\, and the submission process. Lynn Dohm\, WiCyS executive director\, will moderate the session. \nLearn more about DefCon Training and if you are ready to submit your CFT\, visit HERE \n  \nRegister for this webinar and view the recording if you are unable to join live.
URL:https://www.wicys.org/event/webinar-elevate-your-career-through-paid-defcon-training-opportunities/
LOCATION:BrightTALK
CATEGORIES:Webinar,WiCyS
ATTACH;FMTTYPE=image/png:https://www.wicys.org/wp-content/uploads/2025/12/WiCyS-LI-_-Twitter-2025-12-16T182647.427.png
END:VEVENT
BEGIN:VEVENT
DTSTART;TZID=UTC:20260112T120000
DTEND;TZID=UTC:20260112T130000
DTSTAMP:20260423T051448
CREATED:20260105T145728Z
LAST-MODIFIED:20260105T145728Z
UID:10002696-1768219200-1768222800@www.wicys.org
SUMMARY:Webinar | WiCyS GRC Intensive Training Program
DESCRIPTION:Join us for an in-depth look at the WiCyS GRC – Governance\, Risk & Compliance program\, a 14-week intensive training for early to mid-career women professionals in cybersecurity. This program uses the NIST Risk Management Framework (RMF) to teach the fundamentals of GRC\, covering policy writing\, control implementation\, evidence gathering\, and risk identification. The course will show you how a strong GRC program serves as the essential foundation for an effective cybersecurity strategy and helps enhance an organization’s overall maturity. \nThe program is highly practical\, including hands-on experience with Compyl\, a SaaS GRC solution\, to allow students to apply what they learn immediately. By the end of the course\, you will be equipped to write policies\, draft control statements\, clearly articulate risks and their impacts\, and deliver a final presentation on an organization’s security posture\, demonstrating a comprehensive understanding of aligning cybersecurity with business objectives. \nRegister for this webinar and view the recording if you are unable to join live. \nLearn more about the program and timeline here.
URL:https://www.wicys.org/event/webinar-wicys-grc-intensive-training-program/
LOCATION:BrightTALK
CATEGORIES:Webinar,WiCyS
ATTACH;FMTTYPE=image/png:https://www.wicys.org/wp-content/uploads/2026/01/GRC-Intensive-Training-Program-Webinar.png
END:VEVENT
BEGIN:VEVENT
DTSTART;TZID=Pacific/Easter:20260114T150000
DTEND;TZID=Pacific/Easter:20260114T160000
DTSTAMP:20260423T051448
CREATED:20260113T191316Z
LAST-MODIFIED:20260113T192146Z
UID:10002711-1768402800-1768406400@www.wicys.org
SUMMARY:WiCyS New York Metro Affiliate | Firechat "A Day in the Life of a CISO"
DESCRIPTION:Join the WiCyS NY Metro affiliate for a Fireside chat\, “A Day in the Life of a CISO\,” with David Gee and Yabing Wang. During this global webinar\, David Gee will talk about key learnings from 24+ CISOs and interview Yabing Wang\, CISO and CIO at Justworks\, who wrote a chapter for this book. \nDavid will join early morning from Sydney\, Australia\, with Yabing\, who is based in New York\, USA\, and is one of the CISOs featured in David’s new best-selling book – A Day in the Life of a CISO\, which was launched in October 2025. In this book\, Yabing shared a chapter Do’s and Don’ts for CISOs. \n1.25 CPEs will be granted for attendance. Thank you to ISACA New England and SheLeads Tech for partnering with WiCyS NY Metro. \n  \nMore details and to register\, visit HERE
URL:https://www.wicys.org/event/wicys-new-york-metro-affiliate-firechat-a-day-in-the-life-of-a-ciso/
LOCATION:Virtual
CATEGORIES:Webinar,WiCyS Affiliate
ATTACH;FMTTYPE=image/png:https://www.wicys.org/wp-content/uploads/2026/01/Untitled-design-6.png
END:VEVENT
BEGIN:VEVENT
DTSTART;TZID=UTC:20260115T130000
DTEND;TZID=UTC:20260115T140000
DTSTAMP:20260423T051448
CREATED:20260113T192554Z
LAST-MODIFIED:20260113T192554Z
UID:10002713-1768482000-1768485600@www.wicys.org
SUMMARY:Webinar | WiCyS AI Accelerator Program Launch
DESCRIPTION:Join us on January 15 at 1 pm CT to discover how the WiCyS AI Security Accelerator Program is bridging the critical gap between traditional cybersecurity and the frontier of Artificial Intelligence. Designed for mid-career professionals (3–10 years of experience) living or working in Maryland\, this strategic initiative offers hands-on training\, technical mentorship\, and a pathway to prestigious GIAC/GMLE certifications to combat sophisticated\, AI-powered threats. \nLearn how you can secure one of 20 exclusive spots to gain the industry’s most in-demand skills\, attend the WiCyS 2026 Conference\, and position yourself as an indispensable leader in a rapidly evolving hiring market. \n  \nRegister for this webinar and view the recording if you are unable to join live.
URL:https://www.wicys.org/event/webinar-wicys-ai-accelerator-program-launch/
LOCATION:BrightTALK
CATEGORIES:Webinar,WiCyS Program
ATTACH;FMTTYPE=image/png:https://www.wicys.org/wp-content/uploads/2026/01/WiCyS-AI-Security-Accelerator-Program-Webinar-1-1.png
END:VEVENT
BEGIN:VEVENT
DTSTART;TZID=UTC:20260120T130000
DTEND;TZID=UTC:20260120T140000
DTSTAMP:20260423T051448
CREATED:20251203T203315Z
LAST-MODIFIED:20260105T141117Z
UID:10002683-1768914000-1768917600@www.wicys.org
SUMMARY:Webinar | Rethinking GRC: Building an Engineered\, Scalable Future
DESCRIPTION:Governance\, Risk and Compliance (GRC) has long been seen as a process heavy\, documentation-driven function\, but the future demands something very different. As organizations scale and threats evolve\, GRC can no longer rely on manual workflows\, fragmented tools\, and traditional governance models. It must transform into a discipline that is engineered\, automated\, and deeply integrated into product and security ecosystems. \nIn this WiCyS webinar\, Akshita explores how automation\, scalable architectures\, and product thinking are reshaping Governance\, Risk and Compliance. Attendees will leave with a clearer picture of where GRC is headed\, why engineering is at the center of the next wave of innovation\, and how professionals at any stage can contribute to building systems that are not only compliant\, but resilient\, efficient\, and future-ready. \n  \nWiCyS is proud to provide members the opportunity to earn CPE/CEU credits for attending WiCyS Webinars live. To earn CPE/CEU credits with the following providers\, you must meet the minimum requirements: \n\nGIAC/(ISC)2: attend for a minimum of 45 minutes or the entirety of the webinar\nCompTIA: attend for a minimum of 60 minutes or the entirety of the webinar (webinar topic must relate to the certificate being renewed)\n\nAttendees who meet the requirements can log into BrightTALK to print out their attendance certificates to submit for CPE/CEU credits. \n  \nRegister for this webinar and view the recording if you are unable to join live.
URL:https://www.wicys.org/event/webinar-rethinking-grc-building-an-engineered-scalable-future/
LOCATION:BrightTALK
CATEGORIES:Webinar,WiCyS
ATTACH;FMTTYPE=image/png:https://www.wicys.org/wp-content/uploads/2025/12/WiCyS-LI-_-Twitter-2025-12-22T135023.445.png
END:VEVENT
BEGIN:VEVENT
DTSTART;TZID=UTC:20260121T130000
DTEND;TZID=UTC:20260121T140000
DTSTAMP:20260423T051448
CREATED:20260106T182120Z
LAST-MODIFIED:20260106T182120Z
UID:10002698-1769000400-1769004000@www.wicys.org
SUMMARY:Webinar | Securing the AI Agent: A Deep Dive into Architecture\, Risks\, and Controls
DESCRIPTION:The rise of AI agents introduces a new frontier of security challenges that go beyond traditional cybersecurity. In this WiCyS webinar\, Christine Sizemore\, a Security Specialist at Google Cloud\, will guide you through the unique security architecture of AI agents. She will explore the top risks\, including prompt injection and tool manipulation\, and provide a framework for building a robust defense. You’ll learn how to apply traditional security controls while also adopting new\, agent-specific mitigation to secure your AI applications from end to end. \n  \nWiCyS is proud to provide members the opportunity to earn CPE/CEU credits for attending WiCyS Webinars live. To earn CPE/CEU credits with the following providers\, you must meet the minimum requirements: \n\nGIAC/(ISC)2: attend for a minimum of 45 minutes or the entirety of the webinar\nCompTIA: attend for a minimum of 60 minutes or the entirety of the webinar (webinar topic must relate to the certificate being renewed)\n\nAttendees who meet the requirements can log into BrightTALK to print out their attendance certificates to submit for CPE/CEU credits. \n  \nRegister for this webinar and view the recording if you are unable to join live.
URL:https://www.wicys.org/event/webinar-securing-the-ai-agent-a-deep-dive-into-architecture-risks-and-controls/
LOCATION:BrightTALK
CATEGORIES:Webinar,WiCyS
ATTACH;FMTTYPE=image/png:https://www.wicys.org/wp-content/uploads/2026/01/WiCyS-LI-_-Twitter-2025-12-17T135623.412.png
END:VEVENT
BEGIN:VEVENT
DTSTART;TZID=America/Chicago:20260122T120000
DTEND;TZID=America/Chicago:20260122T130000
DTSTAMP:20260423T051448
CREATED:20260121T024040Z
LAST-MODIFIED:20260121T024424Z
UID:10002716-1769083200-1769086800@www.wicys.org
SUMMARY:WiCyS AI Affiliate | Integrating AI Governance Concepts within GRC Frameworks
DESCRIPTION:Join WiCyS AI affiliate for a Meet an AI practitioner session during the monthly meetup. \nKick off 2026 with a presentation by Umashankar Basavaraj titled “Integrating AI Governance Concepts within GRC Frameworks”. \nThis session will cover \n\nOverview of ISO/IEC 42001:2023 and its role as an AI management system standard.\nKey implementation considerations for adopting ISO/IEC 42001:2023 within existing GRC structures.\nCore elements of the EU AI Act\, focusing on risk categories\, governance obligations\, and compliance impacts.\nConvergence of AI governance and traditional GRC: aligning controls\, risk management\, and oversight for AI systems\n\n  \nLearn more and join the session HERE
URL:https://www.wicys.org/event/wicys-ai-affiliate-integrating-ai-governance-concepts-within-grc-frameworks/
LOCATION:Virtual
CATEGORIES:Webinar,WiCyS Affiliate
ATTACH;FMTTYPE=image/jpeg:https://www.wicys.org/wp-content/uploads/2026/01/Artificial-Intelligence-Affiliate-Logo-1.jpg
END:VEVENT
BEGIN:VEVENT
DTSTART;TZID=UTC:20260122T130000
DTEND;TZID=UTC:20260122T140000
DTSTAMP:20260423T051448
CREATED:20260109T155650Z
LAST-MODIFIED:20260109T155650Z
UID:10002708-1769086800-1769090400@www.wicys.org
SUMMARY:Webinar | From First Steps to Leadership: Education & Career Pathways at SANS.edu
DESCRIPTION:Join WiCyS and SANS Technology Institute for an informative webinar designed for women at every stage of their cybersecurity career\, discussing how the SANS Technology Institute’s degree and certificate programs turn potential into day-one impact and long-term growth. We’ll explore the journeys of alumnae from varied backgrounds who found opportunity\, confidence\, and career success through SANS.edu. \n  \nWiCyS is proud to provide members the opportunity to earn CPE/CEU credits for attending WiCyS Webinars live. To earn CPE/CEU credits with the following providers\, you must meet the minimum requirements: \n\nGIAC/(ISC)2: attend for a minimum of 45 minutes or the entirety of the webinar\nCompTIA: attend for a minimum of 60 minutes or the entirety of the webinar (webinar topic must relate to the certificate being renewed)\n\nAttendees who meet the requirements can log into BrightTALK to print out their attendance certificates to submit for CPE/CEU credits. \n  \nRegister for this webinar and view the recording if you are unable to join live.
URL:https://www.wicys.org/event/webinar-from-first-steps-to-leadership-education-career-pathways-at-sans-edu/
LOCATION:BrightTALK
CATEGORIES:Webinar,WiCyS
ATTACH;FMTTYPE=image/png:https://www.wicys.org/wp-content/uploads/2026/01/WiCyS-LI-_-Twitter-2026-01-07T175829.365.png
END:VEVENT
BEGIN:VEVENT
DTSTART;TZID=UTC:20260126T130000
DTEND;TZID=UTC:20260126T140000
DTSTAMP:20260423T051448
CREATED:20260126T184408Z
LAST-MODIFIED:20260126T184408Z
UID:10002843-1769432400-1769436000@www.wicys.org
SUMMARY:Webinar | WiCyS Decoding Dialogue Informational Webinar
DESCRIPTION:Curious about Decoding Dialogue and whether it’s the right fit for you? Join WiCyS and Fearless Communicators for a live informational webinar introducing this new communication-focused program.\n\nDuring this session\, you’ll learn about the goals of Decoding Dialogue\, the upcoming workshops\, who each session is best suited for\, and what participants can expect from the experience. The webinar will also include time for questions and next steps for those interested in applying. \n\n\n\nRegister for this webinar and view the recording if you are unable to join live.
URL:https://www.wicys.org/event/webinar-wicys-decoding-dialogue-informational-webinar/
LOCATION:BrightTALK
CATEGORIES:Webinar,WiCyS
ATTACH;FMTTYPE=image/png:https://www.wicys.org/wp-content/uploads/2026/01/WiCyS-Decoding-Dialogue-Informational-Webinar.png
END:VEVENT
BEGIN:VEVENT
DTSTART;TZID=UTC:20260129T173000
DTEND;TZID=UTC:20260129T200000
DTSTAMP:20260423T051448
CREATED:20260109T160933Z
LAST-MODIFIED:20260109T160933Z
UID:10002703-1769707800-1769716800@www.wicys.org
SUMMARY:WiCyS Silicon Valley Affiliate | Defending Against Rogue AI Agents
DESCRIPTION:AI-driven threats are evolving fast — and so should our defenses. We’re excited to bring the community together for a practical\, expert-led discussion on defending against rogue AI agents in real-world environments. This session will feature lightning talks and interactive Q&A with industry leaders who are shaping the future of cybersecurity. \nFeatured Speakers:\n• Chitra Dharmarajan\, CISSP\, NACD.DC\, Board Member\, Okta\n• Amy Heng\, Straiker\n• Milan Williams\, Semgrep \nConnect with peers\, level up your skills\, and be part of the conversation that matters! \nPlease RSVP HERE : https://luma.com/4r7nm5kk
URL:https://www.wicys.org/event/wicys-silicon-valley-affiliate-defending-against-rogue-ai-agents/
LOCATION:Straiker HQ\, 157 S Murphy Ave\, Sunnyvale\, CA\, 94086\, United States
CATEGORIES:Webinar,WiCyS Affiliate
ATTACH;FMTTYPE=image/png:https://www.wicys.org/wp-content/uploads/2026/01/Screenshot-2026-01-07-at-5.25.20-PM-e1767974944891.png
END:VEVENT
END:VCALENDAR