BEGIN:VCALENDAR
VERSION:2.0
PRODID:-//WiCyS - Women in Cybersecurity - ECPv6.15.20//NONSGML v1.0//EN
CALSCALE:GREGORIAN
METHOD:PUBLISH
X-ORIGINAL-URL:https://www.wicys.org
X-WR-CALDESC:Events for WiCyS - Women in Cybersecurity
REFRESH-INTERVAL;VALUE=DURATION:PT1H
X-Robots-Tag:noindex
X-PUBLISHED-TTL:PT1H
BEGIN:VTIMEZONE
TZID:Europe/Paris
BEGIN:DAYLIGHT
TZOFFSETFROM:+0100
TZOFFSETTO:+0200
TZNAME:CEST
DTSTART:20240331T010000
END:DAYLIGHT
BEGIN:STANDARD
TZOFFSETFROM:+0200
TZOFFSETTO:+0100
TZNAME:CET
DTSTART:20241027T010000
END:STANDARD
BEGIN:DAYLIGHT
TZOFFSETFROM:+0100
TZOFFSETTO:+0200
TZNAME:CEST
DTSTART:20250330T010000
END:DAYLIGHT
BEGIN:STANDARD
TZOFFSETFROM:+0200
TZOFFSETTO:+0100
TZNAME:CET
DTSTART:20251026T010000
END:STANDARD
BEGIN:DAYLIGHT
TZOFFSETFROM:+0100
TZOFFSETTO:+0200
TZNAME:CEST
DTSTART:20260329T010000
END:DAYLIGHT
BEGIN:STANDARD
TZOFFSETFROM:+0200
TZOFFSETTO:+0100
TZNAME:CET
DTSTART:20261025T010000
END:STANDARD
END:VTIMEZONE
BEGIN:VEVENT
DTSTART;TZID=Europe/Paris:20251127T140000
DTEND;TZID=Europe/Paris:20251127T150000
DTSTAMP:20260423T164413
CREATED:20251113T200936Z
LAST-MODIFIED:20251113T200936Z
UID:10002664-1764252000-1764255600@www.wicys.org
SUMMARY:WiCyS Nigeria Affiliate | From Allies to Advocates: How Men Can Champion Women in Cybersecurity and Tech
DESCRIPTION:This 𝗜𝗻𝘁𝗲𝗿𝗻𝗮𝘁𝗶𝗼𝗻𝗮𝗹 𝗠𝗲𝗻’𝘀 𝗗𝗮𝘆\, WiCyS Nigeria Affiliate is spotlighting men who lead with purpose\, breaking barriers\, mentoring talent\, and creating space for women to thrive in cybersecurity and tech. \nJoin us for a one-hour webinar on 𝗧𝗵𝘂𝗿𝘀𝗱𝗮𝘆\, 𝗡𝗼𝘃𝗲𝗺𝗯𝗲𝗿 𝟮𝟳 𝗮𝘁 𝟮:𝟬𝟬 𝗣𝗠 𝗪𝗔𝗧 as we explore what true advocacy looks like\, from mentorship and sponsorship to visibility and shared opportunities. \nScheduled Speakers: \n\nPaul Omugbe (FCA\, FCCA\, CPA\, PMP\, FMVA\, SAFe® Agilist) – CEO\, Venix Partners | Business Transformation Expert\nChristopher Odezi Aluta – Leadership Strategist & Youth Development Advocate\nJun Suto – CEO\, S-CUBED Consulting | Founding Member\, AI+Compassion Alliance\nModerator: Patricia E. \, President\, WiCyS Nigeria Affiliate\n\n  \nLet’s celebrate men who don’t just support; they stand up\, speak out\, and show up for inclusion in cybersecurity and tech. Please register HERE for this event.
URL:https://www.wicys.org/event/wicys-nigeria-affiliate-from-allies-to-advocates-how-men-can-champion-women-in-cybersecurity-and-tech/
LOCATION:Virtual
CATEGORIES:Webinar,WiCyS Affiliate
ATTACH;FMTTYPE=image/jpeg:https://www.wicys.org/wp-content/uploads/2025/11/ce6e00c5-b0df-41c3-9846-49a99be6e330-e1763064569271.jpeg
ORGANIZER;CN="WiCyS Nigeria Affiliate":MAILTO:wicysnigeria@wicys.org
END:VEVENT
END:VCALENDAR