BEGIN:VCALENDAR
VERSION:2.0
PRODID:-//WiCyS - Women in Cybersecurity - ECPv6.15.20//NONSGML v1.0//EN
CALSCALE:GREGORIAN
METHOD:PUBLISH
X-WR-CALNAME:WiCyS - Women in Cybersecurity
X-ORIGINAL-URL:https://www.wicys.org
X-WR-CALDESC:Events for WiCyS - Women in Cybersecurity
REFRESH-INTERVAL;VALUE=DURATION:PT1H
X-Robots-Tag:noindex
X-PUBLISHED-TTL:PT1H
BEGIN:VTIMEZONE
TZID:UTC
BEGIN:STANDARD
TZOFFSETFROM:+0000
TZOFFSETTO:+0000
TZNAME:UTC
DTSTART:20240101T000000
END:STANDARD
END:VTIMEZONE
BEGIN:VEVENT
DTSTART;TZID=UTC:20251203T130000
DTEND;TZID=UTC:20251203T140000
DTSTAMP:20260423T103614
CREATED:20251124T203945Z
LAST-MODIFIED:20251202T215027Z
UID:10002673-1764766800-1764770400@www.wicys.org
SUMMARY:Webinar | Networking Fundamentals: Foundational Skills for Cybersecurity Success
DESCRIPTION:Ready to boost your cybersecurity career? Start with networking—the essential cybersecurity skill! \nIn this introductory webinar\, Bob Cunningham\, a renowned Fortinet trainer\, will provide a high-level explanation of next-generation firewalls. You will learn the importance of understanding technologies like: IP addressing\, layer 4 protocols and ports\, routing\, switching\, and other foundational technical concepts. This one-hour webinar will provide you with the introduction needed to further your education with the more in-depth training provided in the Fortinet Networking Bootcamp\, which is kicking off for WiCyS members in 2026. The Fortinet Networking Bootcamp is free and is exclusive to WiCyS members! \nNot a member yet? Join today to unlock access to this incredible\, career-boosting program. https://www.wicys.org/benefits/ \n  \nWiCyS is proud to provide members the opportunity to earn CPE/CEU credits for attending WiCyS Webinars live. To earn CPE/CEU credits with the following providers\, you must meet the minimum requirements: \n\nGIAC/(ISC)2: attend for a minimum of 45 minutes or the entirety of the webinar\nCompTIA: attend for a minimum of 60 minutes or the entirety of the webinar (webinar topic must relate to the certificate being renewed)\n\nAttendees who meet the requirements can log into BrightTALK to print out their attendance certificates to submit for CPE/CEU credits. \n  \nRegister for this webinar and view the recording if you are unable to join live.
URL:https://www.wicys.org/event/webinar-networking-fundamentals-foundational-skills-for-cybersecurity-success/
LOCATION:BrightTALK
CATEGORIES:Webinar,WiCyS
ATTACH;FMTTYPE=image/png:https://www.wicys.org/wp-content/uploads/2025/11/WiCyS-LI-_-Twitter-2025-11-21T174135.818.png
END:VEVENT
END:VCALENDAR