BEGIN:VCALENDAR
VERSION:2.0
PRODID:-//WiCyS - Women in Cybersecurity - ECPv6.15.20//NONSGML v1.0//EN
CALSCALE:GREGORIAN
METHOD:PUBLISH
X-ORIGINAL-URL:https://www.wicys.org
X-WR-CALDESC:Events for WiCyS - Women in Cybersecurity
REFRESH-INTERVAL;VALUE=DURATION:PT1H
X-Robots-Tag:noindex
X-PUBLISHED-TTL:PT1H
BEGIN:VTIMEZONE
TZID:UTC
BEGIN:STANDARD
TZOFFSETFROM:+0000
TZOFFSETTO:+0000
TZNAME:UTC
DTSTART:20250101T000000
END:STANDARD
END:VTIMEZONE
BEGIN:VEVENT
DTSTART;TZID=UTC:20260112T120000
DTEND;TZID=UTC:20260112T130000
DTSTAMP:20260423T023949
CREATED:20260105T145728Z
LAST-MODIFIED:20260105T145728Z
UID:10002696-1768219200-1768222800@www.wicys.org
SUMMARY:Webinar | WiCyS GRC Intensive Training Program
DESCRIPTION:Join us for an in-depth look at the WiCyS GRC – Governance\, Risk & Compliance program\, a 14-week intensive training for early to mid-career women professionals in cybersecurity. This program uses the NIST Risk Management Framework (RMF) to teach the fundamentals of GRC\, covering policy writing\, control implementation\, evidence gathering\, and risk identification. The course will show you how a strong GRC program serves as the essential foundation for an effective cybersecurity strategy and helps enhance an organization’s overall maturity. \nThe program is highly practical\, including hands-on experience with Compyl\, a SaaS GRC solution\, to allow students to apply what they learn immediately. By the end of the course\, you will be equipped to write policies\, draft control statements\, clearly articulate risks and their impacts\, and deliver a final presentation on an organization’s security posture\, demonstrating a comprehensive understanding of aligning cybersecurity with business objectives. \nRegister for this webinar and view the recording if you are unable to join live. \nLearn more about the program and timeline here.
URL:https://www.wicys.org/event/webinar-wicys-grc-intensive-training-program/
LOCATION:BrightTALK
CATEGORIES:Webinar,WiCyS
ATTACH;FMTTYPE=image/png:https://www.wicys.org/wp-content/uploads/2026/01/GRC-Intensive-Training-Program-Webinar.png
END:VEVENT
END:VCALENDAR