BEGIN:VCALENDAR
VERSION:2.0
PRODID:-//WiCyS - Women in Cybersecurity - ECPv6.15.20//NONSGML v1.0//EN
CALSCALE:GREGORIAN
METHOD:PUBLISH
X-WR-CALNAME:WiCyS - Women in Cybersecurity
X-ORIGINAL-URL:https://www.wicys.org
X-WR-CALDESC:Events for WiCyS - Women in Cybersecurity
REFRESH-INTERVAL;VALUE=DURATION:PT1H
X-Robots-Tag:noindex
X-PUBLISHED-TTL:PT1H
BEGIN:VTIMEZONE
TZID:Europe/Paris
BEGIN:DAYLIGHT
TZOFFSETFROM:+0100
TZOFFSETTO:+0200
TZNAME:CEST
DTSTART:20250330T010000
END:DAYLIGHT
BEGIN:STANDARD
TZOFFSETFROM:+0200
TZOFFSETTO:+0100
TZNAME:CET
DTSTART:20251026T010000
END:STANDARD
BEGIN:DAYLIGHT
TZOFFSETFROM:+0100
TZOFFSETTO:+0200
TZNAME:CEST
DTSTART:20260329T010000
END:DAYLIGHT
BEGIN:STANDARD
TZOFFSETFROM:+0200
TZOFFSETTO:+0100
TZNAME:CET
DTSTART:20261025T010000
END:STANDARD
BEGIN:DAYLIGHT
TZOFFSETFROM:+0100
TZOFFSETTO:+0200
TZNAME:CEST
DTSTART:20270328T010000
END:DAYLIGHT
BEGIN:STANDARD
TZOFFSETFROM:+0200
TZOFFSETTO:+0100
TZNAME:CET
DTSTART:20271031T010000
END:STANDARD
END:VTIMEZONE
BEGIN:VTIMEZONE
TZID:UTC
BEGIN:STANDARD
TZOFFSETFROM:+0000
TZOFFSETTO:+0000
TZNAME:UTC
DTSTART:20250101T000000
END:STANDARD
END:VTIMEZONE
BEGIN:VEVENT
DTSTART;TZID=Europe/Paris:20260430T140000
DTEND;TZID=Europe/Paris:20260430T153000
DTSTAMP:20260423T120926
CREATED:20260410T173552Z
LAST-MODIFIED:20260410T173552Z
UID:10003142-1777557600-1777563000@www.wicys.org
SUMMARY:WiCyS Nigeria Affiliate | Introduction to Data Protection and Privacy
DESCRIPTION:The WiCyS Nigeria Affiliate\, in collaboration with the Nigeria Data Protection Commission (NDPC) and is organizing a virtual foundational training on Data Protection & Privacy on April 30\, 2026. \nThe training will: \n\nEquip participants with an understanding of data protection laws\,\nProvide privacy frameworks\, and practical skills for securing personal and organizational data\nEnsure compliance with regulations & enhancing the ability to mitigate risks related to data breaches amongst others.\nObtain e-Certificate of attendance at the end of the training.\n\n  \nIt is a complimentary training because it is part of WiCyS’ mission to recruit\, retain and advance women in cybersecurity. \nRegister HERE
URL:https://www.wicys.org/event/wicys-nigeria-affiliate-introduction-to-data-protection-and-privacy/
LOCATION:Virtual
CATEGORIES:Webinar,WiCyS Affiliate
ATTACH;FMTTYPE=image/jpeg:https://www.wicys.org/wp-content/uploads/2026/04/d9f4a0e2-478d-418f-a45e-11a1c4cf3b04-e1775842542348.jpeg
ORGANIZER;CN="WiCyS Nigeria Affiliate":MAILTO:wicysnigeria@wicys.org
END:VEVENT
BEGIN:VEVENT
DTSTART;TZID=UTC:20260507T140000
DTEND;TZID=UTC:20260507T150000
DTSTAMP:20260423T120926
CREATED:20260417T195018Z
LAST-MODIFIED:20260417T195018Z
UID:10003163-1778162400-1778166000@www.wicys.org
SUMMARY:Webinar | From Data to Defense : Building an Intelligence-Driven Security Ecosystem
DESCRIPTION:Threat intelligence is no longer just about collecting indicators – it’s about enabling better\, faster decisions. This webinar explores a unified approach to delivering high-fidelity\, actionable intelligence directly into security and product workflows. \nKasturi Dalvi\, senior cyber threat researcher at Adobe will discuss how organizations can operationalize threat intelligence across detection\, vulnerability management\, red teaming\, and product security\, helping teams move from reactive defense to proactive risk reduction. Attendees will gain insight into how curated intelligence feeds\, context-driven vulnerability prioritization\, adversary-aligned testing\, and dark web monitoring can significantly improve security outcomes while reducing noise and accelerating response. \n  \nWiCyS is proud to provide members the opportunity to earn CPE/CEU credits for attending WiCyS Webinars live. To earn CPE/CEU credits with the following providers\, you must meet the minimum requirements: \n\nGIAC/(ISC)2: attend for a minimum of 45 minutes or the entirety of the webinar\nCompTIA: attend for a minimum of 60 minutes or the entirety of the webinar (webinar topic must relate to the certificate being renewed)\n\nAttendees who meet the requirements can log into BrightTALK to print out their attendance certificates to submit for CPE/CEU credits. \n  \nRegister for this webinar and view the recording if you are unable to join live.
URL:https://www.wicys.org/event/webinar-from-data-to-defense-building-an-intelligence-driven-security-ecosystem/
LOCATION:BrightTALK
CATEGORIES:CPE/CEU Credits Available,Webinar,WiCyS
ATTACH;FMTTYPE=image/png:https://www.wicys.org/wp-content/uploads/2026/04/WiCyS-LI-_-Twitter-2026-04-16T162947.493.png
END:VEVENT
BEGIN:VEVENT
DTSTART;VALUE=DATE:20260512
DTEND;VALUE=DATE:20260513
DTSTAMP:20260423T120926
CREATED:20260422T165624Z
LAST-MODIFIED:20260422T165624Z
UID:10003165-1778544000-1778630399@www.wicys.org
SUMMARY:WiCyS | Cyber Forum: Threat Intel
DESCRIPTION:Join WiCyS Executive Director Lynn Dohm as a Featured Speaker for SentinelOne’s Cyber Forum: Threat Intel on May 12th. A virtual cybersecurity forum for today’s security leaders. Discover how AI-driven intelligence and expert action come together to stop threats and keep business moving. Lynn’s session will draw from the recent ROI of Resilience report\, and will explore why the future of AI must be human-centric and how women leaders are shaping the era of automation through ethical AI\, Inclusion\, and sustainable hiring. \n  \nLearn more about the speakers and register HERE
URL:https://www.wicys.org/event/wicys-cyber-forum-threat-intel/
LOCATION:Virtual
CATEGORIES:Webinar,WiCyS
ATTACH;FMTTYPE=image/png:https://www.wicys.org/wp-content/uploads/2026/04/Screenshot-2026-04-22-at-12.50.26-PM.png
END:VEVENT
END:VCALENDAR