BEGIN:VCALENDAR
VERSION:2.0
PRODID:-//WiCyS - Women in Cybersecurity - ECPv6.15.20//NONSGML v1.0//EN
CALSCALE:GREGORIAN
METHOD:PUBLISH
X-ORIGINAL-URL:https://www.wicys.org
X-WR-CALDESC:Events for WiCyS - Women in Cybersecurity
REFRESH-INTERVAL;VALUE=DURATION:PT1H
X-Robots-Tag:noindex
X-PUBLISHED-TTL:PT1H
BEGIN:VTIMEZONE
TZID:America/Chicago
BEGIN:DAYLIGHT
TZOFFSETFROM:-0600
TZOFFSETTO:-0500
TZNAME:CDT
DTSTART:20250309T080000
END:DAYLIGHT
BEGIN:STANDARD
TZOFFSETFROM:-0500
TZOFFSETTO:-0600
TZNAME:CST
DTSTART:20251102T070000
END:STANDARD
BEGIN:DAYLIGHT
TZOFFSETFROM:-0600
TZOFFSETTO:-0500
TZNAME:CDT
DTSTART:20260308T080000
END:DAYLIGHT
BEGIN:STANDARD
TZOFFSETFROM:-0500
TZOFFSETTO:-0600
TZNAME:CST
DTSTART:20261101T070000
END:STANDARD
BEGIN:DAYLIGHT
TZOFFSETFROM:-0600
TZOFFSETTO:-0500
TZNAME:CDT
DTSTART:20270314T080000
END:DAYLIGHT
BEGIN:STANDARD
TZOFFSETFROM:-0500
TZOFFSETTO:-0600
TZNAME:CST
DTSTART:20271107T070000
END:STANDARD
END:VTIMEZONE
BEGIN:VEVENT
DTSTART;TZID=America/Chicago:20260403T120000
DTEND;TZID=America/Chicago:20260403T140000
DTSTAMP:20260421T183318
CREATED:20260325T201227Z
LAST-MODIFIED:20260325T201227Z
UID:10003111-1775217600-1775224800@www.wicys.org
SUMMARY:WiCyS | VDP Webinar 2026 (Invite-Only)
DESCRIPTION:About the WiCyS VDP Webinar 2026: \nThis live\, interactive webinar is designed to give WiCyS VDP members hands-on knowledge of Vulnerability Disclosure Programs\, including how to identify\, document\, and responsibly report vulnerabilities. You’ll walk away with practical skills you can apply right away. \nThis session is invite-only and limited to 40 active WiCyS members selected through the application process. The session will be recorded and shared with all WiCyS VDP members afterward. \nDate: April 3\, 2026 | 12:00 – 2:00 PM CT \nKey Learnings: \n\nHow to identify and document real-world vulnerabilities using browser developer tools\nBest practices for writing clear\, actionable vulnerability reports\nUnderstanding the responsible disclosure process from discovery to submission\nHow to navigate the Bugcrowd platform for triaging and tracking your findings\nPractical strategies for getting more out of VDPs and bug bounty programs\n\nTo learn more about the WiCyS Vulnerability Disclosure Program\, feel free to visit: https://www.wicys.org/benefits/vdp/
URL:https://www.wicys.org/event/wicys-vdp-webinar-2026-invite-only/
LOCATION:Virtual
CATEGORIES:WiCy,WiCyS Program
ATTACH;FMTTYPE=image/png:https://www.wicys.org/wp-content/uploads/2026/03/VDP-Webinar-Logo.png
END:VEVENT
END:VCALENDAR