BEGIN:VCALENDAR
VERSION:2.0
PRODID:-//WiCyS - Women in Cybersecurity - ECPv6.15.20//NONSGML v1.0//EN
CALSCALE:GREGORIAN
METHOD:PUBLISH
X-ORIGINAL-URL:https://www.wicys.org
X-WR-CALDESC:Events for WiCyS - Women in Cybersecurity
REFRESH-INTERVAL;VALUE=DURATION:PT1H
X-Robots-Tag:noindex
X-PUBLISHED-TTL:PT1H
BEGIN:VTIMEZONE
TZID:UTC
BEGIN:STANDARD
TZOFFSETFROM:+0000
TZOFFSETTO:+0000
TZNAME:UTC
DTSTART:20240101T000000
END:STANDARD
END:VTIMEZONE
BEGIN:VEVENT
DTSTART;VALUE=DATE:20250505
DTEND;VALUE=DATE:20260501
DTSTAMP:20260421T175429
CREATED:20250421T154955Z
LAST-MODIFIED:20260415T155011Z
UID:10002151-1746403200-1777593599@www.wicys.org
SUMMARY:WiCyS Vulnerability Disclosure Program (VDP) | Applications Now OPEN
DESCRIPTION:The WiCyS Vulnerability Disclosure Program (VDP) is designed to provide WiCyS members with hands-on\, technical training in identifying\, reporting\, and remediating cybersecurity vulnerabilities. Utilizing the WiCyS website and platform as a live training environment\, participants gain real-world experience in vulnerability discovery\, triage\, and reporting—key skills that enhance their résumés and prepare them for careers in cybersecurity. The program empowers members to become “Defenders of WiCyS” by fostering a deeper understanding of secure coding practices\, systems analysis and responsible disclosure processes. \nParticipants are encouraged to collaborate\, share insights\, and build their technical acumen in a supportive community environment. The VDP is open to all WiCyS members and serves as a stepping stone toward more advanced training and industry engagement. \nThe VDP program will run from June 2\, 2025\, to June 1\, 2026. Applications will be open continuously from May 5\, 2025\, to May 1\, 2026—members can apply anytime. \nAvailable to:\n\nWiCyS members of all experience levels (domestic or international)\nProfessionals seeking hands-on experience\nIndividuals interested in vulnerability discovery and reporting\nMembers looking to strengthen offensive and defensive security skills\n\nWhat You Get:\n\nAccess to a live\, real-world training environment using the WiCyS platform\nOpportunities to discover\, report\, and triage actual vulnerabilities\nExposure to responsible disclosure processes and secure coding principles\nPotential future involvement in a formal bug bounty program through industry partnerships\nAnd More!\n\nProgram Details:\n\nProgram Runs June 2\, 2025 – June 1\, 2026\nApplication Open: May 5\, 2025 – May 1\, 2026\nLaunch webinar: May 27\, 1-2 pm CT\n\n  \nMore details about the VDP program and to apply visit HERE
URL:https://www.wicys.org/event/wicys-vulnerability-disclosure-program-vdp-applications-open-may-5th/2025-05-05/
LOCATION:Virtual
CATEGORIES:All Career Levels,WiCyS,WiCyS Program
ATTACH;FMTTYPE=image/png:https://www.wicys.org/wp-content/uploads/2025/04/WiCyS-VDP-2025-Socials-1.png
END:VEVENT
BEGIN:VEVENT
DTSTART;VALUE=DATE:20250623
DTEND;VALUE=DATE:20250716
DTSTAMP:20260421T175429
CREATED:20250613T153014Z
LAST-MODIFIED:20250613T153014Z
UID:10002369-1750636800-1752623999@www.wicys.org
SUMMARY:WiCyS | Stage Ready Public Speaking Fellowship Cohort 2
DESCRIPTION:This is a three-part executive coaching exercise program for 50 mid-level career WiCyS members. Participants will learn how to develop stage presence and confidence with the power and presence track\, create their own personal anchor story\, and receive coaching to refine their delivery of their message. Content from their speaking sessions will be showcased on the WiCyS YouTube channel and used to source speakers for speaking opportunities in the WiCyS community. \nFor more information and to apply starting June 23rd\, visit HERE Program runs: August 7\, 2025 – September 11\, 2025.
URL:https://www.wicys.org/event/wicys-stage-ready-public-speaking-fellowship-cohort-2/
LOCATION:Virtual
CATEGORIES:WiCyS Program
ATTACH;FMTTYPE=image/png:https://www.wicys.org/wp-content/uploads/2025/06/Stage-Ready-Public-Speaking-Fellowship-Cohort-2-Socials.png
END:VEVENT
BEGIN:VEVENT
DTSTART;VALUE=DATE:20250625
DTEND;VALUE=DATE:20250716
DTSTAMP:20260421T175429
CREATED:20250409T195500Z
LAST-MODIFIED:20250516T161128Z
UID:10002107-1750809600-1752623999@www.wicys.org
SUMMARY:WiCyS | Create Your Leading Edge Program: Applications OPEN June 25th
DESCRIPTION:The WiCyS State of Inclusion Benchmark Report reveals a career plateau for women in cybersecurity after 6-10 years. Yet\, our N2K Cyber Talent study proves WiCyS members outperform their peers\, even in advanced roles. WiCyS is here to help change this narrative. \nJoin 30 ambitious mid-level professionals in our exclusive 12-week program\, designed to unlock your leadership potential and accelerate your advancement. Led by industry veteran Karen Worstell\, with a proven track record of over 50% of participants achieving promotions or pay increases within three months\, this is your opportunity to transform your career trajectory. \n\nAvailable To:\n\n30 WiCyS members\nMid-level professionals only\nDomestic and International members\nMembers willing to commit fully to attending all sessions\nMembers ready to participate and engage with cameras on throughout the training\n\nWhat you get:\n\nA 12-week training program that includes the following:\n\nWeekly 90-minute seminars\nWeekly curated content\n\n\nYou will learn principles and skills to:\n\nMaster the Broken System: Learn why “meritocracy-based” performance management fails women in tech and gain strategic techniques to advance despite these barriers.\nHarness Your Six Human Needs: Discover how these fundamental needs drive every decision you make—and how to leverage them for greater career satisfaction and success.\nDevelop Authentic Leadership Presence: Master energetic state management to become the leader others naturally want to follow.\nAnd More!\n\n\n\n  \nFull details and how to apply HERE
URL:https://www.wicys.org/event/wicys-create-your-leading-edge-program-applications-now-open/
LOCATION:Virtual
CATEGORIES:WiCyS,WiCyS Program
ATTACH;FMTTYPE=image/png:https://www.wicys.org/wp-content/uploads/2025/04/NEW-Create-Your-Leading-Edge-Apps-Open-Socials.png
END:VEVENT
BEGIN:VEVENT
DTSTART;TZID=UTC:20250701T130000
DTEND;TZID=UTC:20250701T143000
DTSTAMP:20260421T175429
CREATED:20250609T190137Z
LAST-MODIFIED:20250611T142652Z
UID:10002336-1751374800-1751380200@www.wicys.org
SUMMARY:WiCyS AI Learning Series Program | Actionable Security Insights Through AI Red Teaming
DESCRIPTION:Explore the practical applications of red teaming in the context of AI systems. Led by experts from Microsoft’s AI Red Team\, the module will provide insight into identifying and mitigating vulnerabilities within AI models\, training data\, and deployment environments. Attendees will learn how red teaming helps surface risks\, challenge assumptions\, and build more secure AI-powered systems. \nThe AI Learning Series\, presented by the WiCyS global team and the AI Affiliate\, is a comprehensive program designed to equip cybersecurity professionals with the knowledge and skills needed to navigate the evolving landscape of artificial intelligence. The series features six\, 90-minute modules led by industry experts\, covering topics from AI fundamentals and their intersection with cybersecurity to risks\, governance\, and secure AI product development. Participants will gain insights into building secure AI products\, securing third-party AI/ML solutions\, leveraging AI to enhance organizational and customer security\, and understanding AI policy and regulations.
URL:https://www.wicys.org/event/wicys-ai-learning-series-program-leveraging-ai-to-secure-organizational-and-customer-environments/
LOCATION:Virtual
CATEGORIES:WiCyS Program
ATTACH;FMTTYPE=image/png:https://www.wicys.org/wp-content/uploads/2025/03/AI-Learning-Series-program-NEW-Program-Runs.png
END:VEVENT
BEGIN:VEVENT
DTSTART;TZID=UTC:20250715T130000
DTEND;TZID=UTC:20250715T143000
DTSTAMP:20260421T175429
CREATED:20250609T190304Z
LAST-MODIFIED:20250609T190304Z
UID:10002337-1752584400-1752589800@www.wicys.org
SUMMARY:WiCyS AI Learning Series Program | AI Policy and Regulations
DESCRIPTION:Dive into the current and emerging global landscape of AI policies\, regulations\, and compliance frameworks. This module will help you understand how legal and ethical considerations are shaping the use of AI in cybersecurity. \nThe AI Learning Series\, presented by the WiCyS global team and the AI Affiliate\, is a comprehensive program designed to equip cybersecurity professionals with the knowledge and skills needed to navigate the evolving landscape of artificial intelligence. The series features six\, 90-minute modules led by industry experts\, covering topics from AI fundamentals and their intersection with cybersecurity to risks\, governance\, and secure AI product development. Participants will gain insights into building secure AI products\, securing third-party AI/ML solutions\, leveraging AI to enhance organizational and customer security\, and understanding AI policy and regulations.
URL:https://www.wicys.org/event/wicys-ai-learning-series-program-ai-policy-and-regulations/
LOCATION:Virtual
CATEGORIES:WiCyS Program
ATTACH;FMTTYPE=image/png:https://www.wicys.org/wp-content/uploads/2025/03/AI-Learning-Series-program-NEW-Program-Runs.png
END:VEVENT
BEGIN:VEVENT
DTSTART;VALUE=DATE:20250723
DTEND;VALUE=DATE:20250724
DTSTAMP:20260421T175429
CREATED:20260226T162719Z
LAST-MODIFIED:20260302T135246Z
UID:10003024-1753228800-1753315199@www.wicys.org
SUMMARY:WiCyS | Executive Leaders Network
DESCRIPTION:The Executive Leaders Network brings together top cybersecurity leaders to share insights\, solve challenges\, and build a trusted community of peers. In a field that is constantly changing and where leadership can often feel isolating\, this network offers a space for open dialogue\, collaborative problem-solving\, and strategic support. It also serves as a platform to identify and elevate mid-career professionals into senior roles\, advancing the broader mission to strengthen and diversify leadership across the cybersecurity workforce. \n  \nCriteria: Cybersecurity C-Suite\, President\, VP\, or Director\n \nMeeting Cadence: Monthly\, Invite-Only\n\nYou must meet the criteria outlined above to join this network. Please complete the form HERE only if you are a cybersecurity C-Suite\, President\, VP\, or Director.
URL:https://www.wicys.org/event/wicys-senior-leaders-network-2-2/2025-07-23/
LOCATION:Virtual
CATEGORIES:WiCyS,WiCyS Program
ATTACH;FMTTYPE=image/png:https://www.wicys.org/wp-content/uploads/2025/05/WiCyS-Executive-Leaders-Network-1.png
END:VEVENT
BEGIN:VEVENT
DTSTART;TZID=UTC:20250724T130000
DTEND;TZID=UTC:20250724T140000
DTSTAMP:20260421T175429
CREATED:20250627T163459Z
LAST-MODIFIED:20250627T163632Z
UID:10002377-1753362000-1753365600@www.wicys.org
SUMMARY:WiCyS Create Your Leading Edge Program | Launch Webinar
DESCRIPTION:Join us for the Create Your Leading Edge launch webinar on BrightTALK to explore this transformative 12-week leadership development program. Karen will introduce the program’s structure\, goals\, and what participants can expect. You will learn about the weekly topics and how the program aids your career growth and leadership skills. This session is designed to help you understand what to anticipate and how to get ready for this impactful experience. \n  \nFor more information\, visit HERE
URL:https://www.wicys.org/event/wicys-create-your-leading-edge-program-launch-webinar/
LOCATION:BrightTALK
CATEGORIES:WiCyS,WiCyS Program
ATTACH;FMTTYPE=image/png:https://www.wicys.org/wp-content/uploads/2025/06/Create-Your-Leading-Edge-Webinar.png
END:VEVENT
BEGIN:VEVENT
DTSTART;VALUE=DATE:20250730
DTEND;VALUE=DATE:20250828
DTSTAMP:20260421T175429
CREATED:20250729T135002Z
LAST-MODIFIED:20250729T140945Z
UID:10002485-1753833600-1756339199@www.wicys.org
SUMMARY:WiCyS | Professional Mentorship Program Enrollment OPEN
DESCRIPTION:This 9-month mentorship program\, exclusively for WiCyS members\, is designed to elevate and upskill women in their careers by enhancing skills in areas such as influence\, negotiation\, leadership\, work/life harmony\, and communication. We are all continual learners\, and engaging in a meaningful mentoring relationship can sharpen your professional development\, keep you focused on intentional career outcomes\, and open your mind to new ideas and possibilities. Research shows that mentees are promoted five times more often than those without mentors\, and mentors are six times more likely to be promoted. Don’t miss this chance to inspire or be inspired through being a mentor or mentee (or both)! \nThe WiCyS Professional Mentorship Program is open to all WiCyS members who are at least 19 years old. If you are currently pursuing a bachelor’s degree\, you must be in your senior year or beyond (having completed at least 90 credit hours) to be eligible. \nBeing engaged in a meaningful mentoring relationship can only help you sharpen your professional development skills\, remain focused on intentional career outcomes\, and open your mind to new ideas and possibilities! \nGo to our website for more information or to enroll today! \n2025-2026 PROGRAM TIMELINE \nJuly 30\, 2025: Enrollment Opens at 8 am CT\n(Enrollees must be a registered WiCyS member – 19 years or older (if current university undergrad\, must be in senior year [>90 hrs completed] to be eligible; enrollment is open to international WiCyS members) \nAugust 5\, 2025: Informational Webinar at 12 pm CT \nAugust 27\, 2025: Enrollment Closes at 5 pm CT \nSeptember 2\, 2025: Acceptance status notifications sent to Mentors/Mentees \nSeptember 17\, 2025: Mentor Launch at 11 am CT (this will be recorded and shared) \nSeptember 17\, 2025: Mentee Launch at 12 pm CT (this will be recorded and shared) \nSeptember 22\, 2025: Group Announcement Emails Sent with Cohort Details by EOD \nOctober 1\, 2025 – June 30\, 2026: Professional Mentorship Program Run
URL:https://www.wicys.org/event/wicys-professional-mentorship-program-enrollment-open/
LOCATION:Virtual
CATEGORIES:WiCyS,WiCyS Program
ATTACH;FMTTYPE=image/png:https://www.wicys.org/wp-content/uploads/2025/07/WICyS-2025-Professional-Mentorship-Program-Final-with-Application-Date.png
END:VEVENT
BEGIN:VEVENT
DTSTART;TZID=UTC:20250731T130000
DTEND;TZID=UTC:20250731T140000
DTSTAMP:20260421T175429
CREATED:20250627T165545Z
LAST-MODIFIED:20250627T165545Z
UID:10002453-1753966800-1753970400@www.wicys.org
SUMMARY:WiCyS Stage Ready Public Speaking Fellowship Cohort 2 | Kick-Off Webinar
DESCRIPTION:Kick off your Stage Ready Cohort 2 journey with this interactive webinar. Meet the Fearless Communicators team and your fellow cohort members while learning what to expect throughout the fellowship. We’ll review the program structure\, key dates\, and your role in shaping this experience. Bring your questions\, your curiosity\, and your excitement as we launch this powerful public speaking journey together. \n  \nMore details on this program HERE 
URL:https://www.wicys.org/event/wicys-stage-ready-public-speaking-fellowship-cohort-2-kick-off-webinar/
LOCATION:BrightTALK
CATEGORIES:WiCyS,WiCyS Program
ATTACH;FMTTYPE=image/png:https://www.wicys.org/wp-content/uploads/2025/06/Stage-Ready-Public-Speaking-Fellowship-Cohort-2-Socials.png
END:VEVENT
END:VCALENDAR