BEGIN:VCALENDAR
VERSION:2.0
PRODID:-//WiCyS - Women in Cybersecurity - ECPv6.15.20//NONSGML v1.0//EN
CALSCALE:GREGORIAN
METHOD:PUBLISH
X-WR-CALNAME:WiCyS - Women in Cybersecurity
X-ORIGINAL-URL:https://www.wicys.org
X-WR-CALDESC:Events for WiCyS - Women in Cybersecurity
REFRESH-INTERVAL;VALUE=DURATION:PT1H
X-Robots-Tag:noindex
X-PUBLISHED-TTL:PT1H
BEGIN:VTIMEZONE
TZID:UTC
BEGIN:STANDARD
TZOFFSETFROM:+0000
TZOFFSETTO:+0000
TZNAME:UTC
DTSTART:20230101T000000
END:STANDARD
END:VTIMEZONE
BEGIN:VTIMEZONE
TZID:America/Los_Angeles
BEGIN:DAYLIGHT
TZOFFSETFROM:-0800
TZOFFSETTO:-0700
TZNAME:PDT
DTSTART:20230312T100000
END:DAYLIGHT
BEGIN:STANDARD
TZOFFSETFROM:-0700
TZOFFSETTO:-0800
TZNAME:PST
DTSTART:20231105T090000
END:STANDARD
BEGIN:DAYLIGHT
TZOFFSETFROM:-0800
TZOFFSETTO:-0700
TZNAME:PDT
DTSTART:20240310T100000
END:DAYLIGHT
BEGIN:STANDARD
TZOFFSETFROM:-0700
TZOFFSETTO:-0800
TZNAME:PST
DTSTART:20241103T090000
END:STANDARD
BEGIN:DAYLIGHT
TZOFFSETFROM:-0800
TZOFFSETTO:-0700
TZNAME:PDT
DTSTART:20250309T100000
END:DAYLIGHT
BEGIN:STANDARD
TZOFFSETFROM:-0700
TZOFFSETTO:-0800
TZNAME:PST
DTSTART:20251102T090000
END:STANDARD
END:VTIMEZONE
BEGIN:VTIMEZONE
TZID:America/Chicago
BEGIN:DAYLIGHT
TZOFFSETFROM:-0600
TZOFFSETTO:-0500
TZNAME:CDT
DTSTART:20230312T080000
END:DAYLIGHT
BEGIN:STANDARD
TZOFFSETFROM:-0500
TZOFFSETTO:-0600
TZNAME:CST
DTSTART:20231105T070000
END:STANDARD
BEGIN:DAYLIGHT
TZOFFSETFROM:-0600
TZOFFSETTO:-0500
TZNAME:CDT
DTSTART:20240310T080000
END:DAYLIGHT
BEGIN:STANDARD
TZOFFSETFROM:-0500
TZOFFSETTO:-0600
TZNAME:CST
DTSTART:20241103T070000
END:STANDARD
BEGIN:DAYLIGHT
TZOFFSETFROM:-0600
TZOFFSETTO:-0500
TZNAME:CDT
DTSTART:20250309T080000
END:DAYLIGHT
BEGIN:STANDARD
TZOFFSETFROM:-0500
TZOFFSETTO:-0600
TZNAME:CST
DTSTART:20251102T070000
END:STANDARD
END:VTIMEZONE
BEGIN:VTIMEZONE
TZID:Europe/Berlin
BEGIN:DAYLIGHT
TZOFFSETFROM:+0100
TZOFFSETTO:+0200
TZNAME:CEST
DTSTART:20230326T010000
END:DAYLIGHT
BEGIN:STANDARD
TZOFFSETFROM:+0200
TZOFFSETTO:+0100
TZNAME:CET
DTSTART:20231029T010000
END:STANDARD
BEGIN:DAYLIGHT
TZOFFSETFROM:+0100
TZOFFSETTO:+0200
TZNAME:CEST
DTSTART:20240331T010000
END:DAYLIGHT
BEGIN:STANDARD
TZOFFSETFROM:+0200
TZOFFSETTO:+0100
TZNAME:CET
DTSTART:20241027T010000
END:STANDARD
BEGIN:DAYLIGHT
TZOFFSETFROM:+0100
TZOFFSETTO:+0200
TZNAME:CEST
DTSTART:20250330T010000
END:DAYLIGHT
BEGIN:STANDARD
TZOFFSETFROM:+0200
TZOFFSETTO:+0100
TZNAME:CET
DTSTART:20251026T010000
END:STANDARD
END:VTIMEZONE
BEGIN:VTIMEZONE
TZID:America/New_York
BEGIN:DAYLIGHT
TZOFFSETFROM:-0500
TZOFFSETTO:-0400
TZNAME:EDT
DTSTART:20230312T070000
END:DAYLIGHT
BEGIN:STANDARD
TZOFFSETFROM:-0400
TZOFFSETTO:-0500
TZNAME:EST
DTSTART:20231105T060000
END:STANDARD
BEGIN:DAYLIGHT
TZOFFSETFROM:-0500
TZOFFSETTO:-0400
TZNAME:EDT
DTSTART:20240310T070000
END:DAYLIGHT
BEGIN:STANDARD
TZOFFSETFROM:-0400
TZOFFSETTO:-0500
TZNAME:EST
DTSTART:20241103T060000
END:STANDARD
BEGIN:DAYLIGHT
TZOFFSETFROM:-0500
TZOFFSETTO:-0400
TZNAME:EDT
DTSTART:20250309T070000
END:DAYLIGHT
BEGIN:STANDARD
TZOFFSETFROM:-0400
TZOFFSETTO:-0500
TZNAME:EST
DTSTART:20251102T060000
END:STANDARD
END:VTIMEZONE
BEGIN:VTIMEZONE
TZID:America/New_York
BEGIN:DAYLIGHT
TZOFFSETFROM:-0500
TZOFFSETTO:-0400
TZNAME:EDT
DTSTART:20230312T070000
END:DAYLIGHT
BEGIN:STANDARD
TZOFFSETFROM:-0400
TZOFFSETTO:-0500
TZNAME:EST
DTSTART:20231105T060000
END:STANDARD
BEGIN:DAYLIGHT
TZOFFSETFROM:-0500
TZOFFSETTO:-0400
TZNAME:EDT
DTSTART:20240310T070000
END:DAYLIGHT
BEGIN:STANDARD
TZOFFSETFROM:-0400
TZOFFSETTO:-0500
TZNAME:EST
DTSTART:20241103T060000
END:STANDARD
BEGIN:DAYLIGHT
TZOFFSETFROM:-0500
TZOFFSETTO:-0400
TZNAME:EDT
DTSTART:20250309T070000
END:DAYLIGHT
BEGIN:STANDARD
TZOFFSETFROM:-0400
TZOFFSETTO:-0500
TZNAME:EST
DTSTART:20251102T060000
END:STANDARD
END:VTIMEZONE
BEGIN:VEVENT
DTSTART;TZID=UTC:20240111T123000
DTEND;TZID=UTC:20240111T133000
DTSTAMP:20260425T225208
CREATED:20240109T134333Z
LAST-MODIFIED:20240109T134333Z
UID:10001430-1704976200-1704979800@www.wicys.org
SUMMARY:WiCyS Mid-Atlantic Affiliate | SBOM 101 Software Bill of Materials
DESCRIPTION:Learn the basics of Software Bill of Materials (SBOM) in this online event\, SBOM 101 – your ultimate guide to understanding the ins and outs. This event is an one hour webinar hosted by the WiCyS Mid-Atlantic Affiliate and Victoria Ontiveros from Cybersecurity and Infrastructure Security Agency (CISA)\, as we dive into the fascinating world of SBOM. Discover how it helps identify and manage software components\, dependencies\, and vulnerabilities. \nPlease RSVP for this event.
URL:https://www.wicys.org/event/wicys-mid-atlantic-affiliate-sbom-101-software-bill-of-materials/
LOCATION:Virtual
CATEGORIES:WiCyS Affiliate
ATTACH;FMTTYPE=image/jpeg:https://www.wicys.org/wp-content/uploads/2024/01/SBOM-101-Mid-Atlantic-Affliate.jpeg
ORGANIZER;CN="WiCyS Mid-Atlantic Affiliate":MAILTO:info@wicysmidatlantic.org
END:VEVENT
BEGIN:VEVENT
DTSTART;TZID=America/Los_Angeles:20240114T143000
DTEND;TZID=America/Los_Angeles:20240114T153000
DTSTAMP:20260425T225209
CREATED:20240109T135139Z
LAST-MODIFIED:20240109T135139Z
UID:10001431-1705242600-1705246200@www.wicys.org
SUMMARY:WiCyS San Diego Affiliate | Cyber Speaker Series "Verified Catphishing - A Practical Exploration of AI Security."
DESCRIPTION:Please join WiCyS San Diego for our third Speaker Series\, in-person event at the La Jolla/Riford Public Library on Sunday\, January 14\, 2023 at 2:30 pm PST. Presented by Sanjana Sarda\, an offensive Security Expert at Anduril and an Electrical Engineer who studied Machine Learning (ML) with an emphasis on Security\, Privacy\, and Algorithmic bias at Stanford University\, Sanjana will be speaking on the topic of AI Security. \nPlease register for this event HERE
URL:https://www.wicys.org/event/wicys-san-diego-affiliate-cyber-speaker-series-verified-catphishing-a-practical-exploration-of-ai-security/
LOCATION:La Jolla/Riford Library\, San Diego\, CA\, 7555 Draper Avenue\, San Diego\, CA\, 92037\, United States
ATTACH;FMTTYPE=image/png:https://www.wicys.org/wp-content/uploads/2024/01/WiCySSD-Speaker-Series-3.png
END:VEVENT
BEGIN:VEVENT
DTSTART;VALUE=DATE:20240118
DTEND;VALUE=DATE:20240202
DTSTAMP:20260425T225209
CREATED:20240122T221258Z
LAST-MODIFIED:20240122T223356Z
UID:10001450-1705536000-1706831999@www.wicys.org
SUMMARY:N2K | WiCyS Cyber Talent Study
DESCRIPTION:The study is designed to diagnose and analyze cybersecurity skills across the WiCyS member community\, leveraging the advanced N2K NICE Workforce Diagnostic assessment. Under this initiative\, N2K will provide WiCyS members complimentary access to the NICE Diagnostic\, allowing them to assess their knowledge-area strengths and weaknesses aligned to the NICE Cybersecurity Workforce Framework. \nInvest in yourself and your future by taking part in self assessment! \nLearn more HERE.
URL:https://www.wicys.org/event/n2k-wicys-cyber-talent-study/
LOCATION:Virtual
ATTACH;FMTTYPE=image/png:https://www.wicys.org/wp-content/uploads/2024/01/2024-N2K-Cyber-Talent-Study-Social-1.png
END:VEVENT
BEGIN:VEVENT
DTSTART;TZID=America/Chicago:20240118T130000
DTEND;TZID=America/Chicago:20240118T140000
DTSTAMP:20260425T225209
CREATED:20231221T211729Z
LAST-MODIFIED:20231222T152946Z
UID:10001426-1705582800-1705586400@www.wicys.org
SUMMARY:Leadership Series | Empowering Leadership: Tailoring Diversity and Inclusion for Career Success
DESCRIPTION:Leading with equity\, inclusion\, and allyship is a conversation where we\, as volunteer leaders within the WiCyS organization\, agree to engage in a conversation from a place of consent for all of us to learn and grow. The WiCyS Leadership Series: Speak. Listen. Community. Cultivates the community and space for that dialogue. \nDuring the January session\, the Executive and Transformational Life Coach Vanessa Vining explores the intersectionality of DE&I best practices and personal leadership development. She offers insightful strategies for leaders to integrate these principles into their career journey while fostering a culture of inclusivity and respect in their organization. \nJoin Vanessa on January 18th at 1 pm CT. Upon registration\, you will receive additional resources. \nIf you are a WiCyS volunteer in a leadership role and have not received an invite from Quiana Oates\, email her at quiana@wicys.org. After registering\, you will receive a confirmation email containing information about joining the meeting.
URL:https://www.wicys.org/event/leadership-series-empowering-leadership-tailoring-diversity-and-inclusion-for-career-success/
ATTACH;FMTTYPE=image/png:https://www.wicys.org/wp-content/uploads/2023/12/Leadership-Series-Jan-2024.png
ORGANIZER;CN="ISACA Denver Chapter":MAILTO:membership@denver.isacachapter.org
END:VEVENT
BEGIN:VEVENT
DTSTART;TZID=America/Chicago:20240118T130000
DTEND;TZID=America/Chicago:20240118T140000
DTSTAMP:20260425T225209
CREATED:20240109T195554Z
LAST-MODIFIED:20240111T152552Z
UID:10001434-1705582800-1705586400@www.wicys.org
SUMMARY:Webinar | Neurodiversity in the Workplace
DESCRIPTION:Join this WiCyS Strategic Partner Webinar from Optum\, hosted by Heather Stoner\, Business Information Security Officer-State Government. Heather will explore the spectrum of human experience and discover how embracing neurodivergent perspectives can foster inclusive work environments\, promote flexibility and advocate for conditions that empower neurodivergent talent. She will share her personal story and offer insights for both leaders and employees. Equip yourself with questions and strategies designed to unlock the brilliance within the neurodiverse workforce. \nRegister HERE for the live webinar and the recording if you are unable to join live. \n  \n 
URL:https://www.wicys.org/event/webinar-neurodiversity-in-the-workplace/
LOCATION:Virtual
CATEGORIES:Webinar
ATTACH;FMTTYPE=image/png:https://www.wicys.org/wp-content/uploads/2024/01/WiCyS-LI-_-Twitter-2.png
ORGANIZER;CN="ISACA Denver Chapter":MAILTO:membership@denver.isacachapter.org
END:VEVENT
BEGIN:VEVENT
DTSTART;TZID=America/Los_Angeles:20240124T170000
DTEND;TZID=America/Los_Angeles:20240124T200000
DTSTAMP:20260425T225209
CREATED:20240116T135946Z
LAST-MODIFIED:20240116T140146Z
UID:10001441-1706115600-1706126400@www.wicys.org
SUMMARY:WiCyS Silicon Valley Affiliate | Personal Brand Building - The Cyber Edge your Career Needs
DESCRIPTION:Working hard and passionate about your career in cybersecurity\, but not getting opportunities to shine? Join us to hear best practices for building your personal brand. Learn how to stand out from the crowd – both within your company and across the industry. \nCode Red Partners Cybersecurity staffing firm will share techniques for capturing the attention of hiring managers Women at the executive\, mid-career and early career stages share their experiences in a panel discussion \nIn person attendees: Network and discuss your experiences and ideas with others in a small breakout groups. \nJoin Virtually Live HERE
URL:https://www.wicys.org/event/wicys-silicon-valley-affiliate-personal-brand-building-the-cyber-edge-your-career-needs/
LOCATION:Semgrep Office\, 88 Keary St 15th Floor\, San Francisco\, CA\, 94104\, United States
CATEGORIES:WiCyS Affiliate
ATTACH;FMTTYPE=image/png:https://www.wicys.org/wp-content/uploads/2024/01/Personal-brand-building-Eventbrite-2.png
ORGANIZER;CN="WiCyS Silicon Valley":MAILTO:WiCySSiliconValley@wicys.org
END:VEVENT
BEGIN:VEVENT
DTSTART;TZID=America/Chicago:20240125T080000
DTEND;TZID=America/Chicago:20240125T180000
DTSTAMP:20260425T225209
CREATED:20240117T195804Z
LAST-MODIFIED:20240119T154625Z
UID:10001442-1706169600-1706205600@www.wicys.org
SUMMARY:WiCyS | Data Connectors AI Virtual Cybersecurity Summit
DESCRIPTION:Join WiCyS at the AI Virtual Cybersecurity Summit hosted by Data Connectors January 25th. Stop by the our booth to meet our members and learn more about WiCyS. \nEmbark on a journey into the future of innovation at our Virtual AI Summit! Join thought leaders\, experts\, and enthusiasts from around the globe as we explore the limitless possibilities of artificial intelligence. Immerse yourself in cutting-edge discussions\, gain invaluable insights\, and connect with the brightest minds shaping the AI landscape. Whether you’re a seasoned professional\, a curious enthusiast\, or a forward-thinking entrepreneur\, this virtual experience is your gateway to unlocking the transformative power of AI. Don’t just witness the future – be a part of shaping it! \nView the featured speakers and register with our FREE code (WICYS) HERE
URL:https://www.wicys.org/event/wicys-ai-virtual-cybersecurity-summit/
LOCATION:Virtual
ATTACH;FMTTYPE=image/png:https://www.wicys.org/wp-content/uploads/2024/01/WiCyS-at-AI-Virtual_-Cybersecurity_-Summit_.png
END:VEVENT
BEGIN:VEVENT
DTSTART;TZID=Europe/Berlin:20240125T180000
DTEND;TZID=Europe/Berlin:20240125T200000
DTSTAMP:20260425T225209
CREATED:20240111T175412Z
LAST-MODIFIED:20240111T185846Z
UID:10001429-1706205600-1706212800@www.wicys.org
SUMMARY:WiCyS Germany Affiliate | Cracking the Code: Initiating Beginners into the World of X86 Assembly Language
DESCRIPTION:Feeling intimidated by the cryptic language of assembly? Don’t worry\, even the most powerful programmers started somewhere! \nWe are hosting a 2-hour beginner-friendly workshop where you’ll unlock the secrets of assembly language\, step-by-step. No prior experience needed\, just a curious mind and a desire to dive into the core of computer architecture. \nIn this workshop\, you’ll:\n• Demystify the basics: Understand assembly syntax\, instructions\, and memory organization.\n• Read and dissect your first assembly program: Unravel the logic behind instructions\, dissect memory operations\, and trace the program’s execution flow. \nSystem Requirements:\n• Ubuntu system running on AMD or Intel CPU.\n• OR a Virtual Machine with Ubuntu installed. \nNo idea if you have the right system? Reach out to us and we will you provide the support! \nRegister for this event HERE \nNote: Time is 6:00pm-8:00pm CET
URL:https://www.wicys.org/event/wicys-germany-affiliate-cracking-the-code-initiating-beginners-into-the-world-of-x86-assembly-language/
LOCATION:Virtual
CATEGORIES:WiCyS Affiliate
ATTACH;FMTTYPE=image/png:https://www.wicys.org/wp-content/uploads/2023/10/WiCyS-Germany-Affiliate-Logo-on-Shield.png
ORGANIZER;CN="WiCyS - Germany Affiliate":MAILTO:WiCySGermany@wicys.org
END:VEVENT
BEGIN:VEVENT
DTSTART;TZID=America/New_York:20240125T200000
DTEND;TZID=America/New_York:20240125T210000
DTSTAMP:20260425T225209
CREATED:20240112T164032Z
LAST-MODIFIED:20240119T210713Z
UID:10001437-1706212800-1706216400@www.wicys.org
SUMMARY:WiCyS Student Chapter Leaders Only Meeting
DESCRIPTION:WiCyS Student Chapter Leaders-Only Meeting: WiCyS Student Chapters are developed and launched at a rapid rate around the world and help showcase the collective strength of the Women in the CyberSecurity community. \nEach month\, these outstanding women student leaders and their faculty advisors connect to share updates on WiCyS global\, best student chapter practices\, upcoming events\, and Q & A. \nMeeting time reflected in Eastern Standard Time.
URL:https://www.wicys.org/event/wicys-student-chapter-leaders-only-meeting/
LOCATION:Virtual
ATTACH;FMTTYPE=image/png:https://www.wicys.org/wp-content/uploads/2024/01/big-Student-Chapter-Meeting.png
END:VEVENT
BEGIN:VEVENT
DTSTART;TZID=UTC:20240126T120000
DTEND;TZID=UTC:20240126T160000
DTSTAMP:20260425T225209
CREATED:20240119T214533Z
LAST-MODIFIED:20240119T214916Z
UID:10001445-1706270400-1706284800@www.wicys.org
SUMMARY:ISACA Denver Host SheLeads Tech Lunch with Quintana Patterson as Panelist
DESCRIPTION:WiCyS Cybersecurity & Technology Manager Quintana Patterson will be part of Uplift Panel 1 and 2 at the SheLeads Tech lunch hosted by the ISACA Denver chapter. Join an afternoon of engaging panel discussions\, keynote speakers\, and interactive workshops led by industry experts. You’ll have the opportunity to network with like-minded individuals and gain valuable insights into the tech world and a delicious Italian lunch! \nQuintana will be on the panel titled\, Promoting Inclusivity: discuss strategies for creating inclusive work environments where women can thrive and support each other.  Other ideas: skill sharing\, advocacy and ally ship\, resource sharing\, mentoring the next generation\, self-care. \nRegister to join this event HERE
URL:https://www.wicys.org/event/isaca-denver-host-sheleads-tech-lunch-with-quintana-patterson-as-panelist/
LOCATION:Maggiano’s Little Italy\, 1201 Filbert St\, Philadelphia\, PA\, 19107\, United States
ATTACH;FMTTYPE=image/png:https://www.wicys.org/wp-content/uploads/2024/01/SheLeads-Tech_Jan26.png
ORGANIZER;CN="ISACA Denver Chapter":MAILTO:membership@denver.isacachapter.org
END:VEVENT
BEGIN:VEVENT
DTSTART;TZID=America/Chicago:20240131T120000
DTEND;TZID=America/Chicago:20240131T130000
DTSTAMP:20260425T225209
CREATED:20240131T031317Z
LAST-MODIFIED:20240131T031317Z
UID:10001462-1706702400-1706706000@www.wicys.org
SUMMARY:WiCyS Rice Student Chapter | January Cyber Bytes
DESCRIPTION:In-person lunch meeting for the WiCyS Rice University Student Chapter where we will discuss the recent appearance of MOAB (Mother of All Breaches) \nHere is the slide deck I will be using if anyone is interested in doing a presentation on the same topic.
URL:https://www.wicys.org/event/wicys-rice-student-chapter-january-cyber-bytes/
LOCATION:Virtual
CATEGORIES:WiCyS Student Chapter
ATTACH;FMTTYPE=image/png:https://www.wicys.org/wp-content/uploads/2024/01/MOAB.png
ORGANIZER;CN="WiCyS Rice":MAILTO:wicys.rice@gmail.com
END:VEVENT
BEGIN:VEVENT
DTSTART;TZID=America/New_York:20240131T173000
DTEND;TZID=America/New_York:20240131T190000
DTSTAMP:20260425T225209
CREATED:20240126T142720Z
LAST-MODIFIED:20240126T142720Z
UID:10001455-1706722200-1706727600@www.wicys.org
SUMMARY:WiCyS UM-Dearborn Student Chapter | Speed Resume Reviews with Women Leaders
DESCRIPTION:Join University of Michigan-Dearborn’s Women In Cybersecurity (WiCyS) chapter for a jam-packed workshop all about resumes! Our favorite local women leaders in tech will be attending and reviewing one of the most integral parts of the application process – your resume!
URL:https://www.wicys.org/event/wicys-um-dearborn-student-chapter-speed-resume-reviews-with-women-leaders/
LOCATION:University of Michigan Dearborn\, 4901 Evergreen Road\, Dearborn\, MI\, 48128\, United States
CATEGORIES:WiCyS Student Chapter
ATTACH;FMTTYPE=image/jpeg:https://www.wicys.org/wp-content/uploads/2024/01/WhatsApp-Image-2024-01-24-at-2.06.49-PM-1.jpeg
ORGANIZER;CN="WICYS - UM Dearborn":MAILTO:sahson@umich.edu
END:VEVENT
END:VCALENDAR