BEGIN:VCALENDAR
VERSION:2.0
PRODID:-//WiCyS - Women in Cybersecurity - ECPv6.15.20//NONSGML v1.0//EN
CALSCALE:GREGORIAN
METHOD:PUBLISH
X-ORIGINAL-URL:https://www.wicys.org
X-WR-CALDESC:Events for WiCyS - Women in Cybersecurity
REFRESH-INTERVAL;VALUE=DURATION:PT1H
X-Robots-Tag:noindex
X-PUBLISHED-TTL:PT1H
BEGIN:VTIMEZONE
TZID:UTC
BEGIN:STANDARD
TZOFFSETFROM:+0000
TZOFFSETTO:+0000
TZNAME:UTC
DTSTART:20230101T000000
END:STANDARD
END:VTIMEZONE
BEGIN:VTIMEZONE
TZID:America/New_York
BEGIN:DAYLIGHT
TZOFFSETFROM:-0500
TZOFFSETTO:-0400
TZNAME:EDT
DTSTART:20240310T070000
END:DAYLIGHT
BEGIN:STANDARD
TZOFFSETFROM:-0400
TZOFFSETTO:-0500
TZNAME:EST
DTSTART:20241103T060000
END:STANDARD
BEGIN:DAYLIGHT
TZOFFSETFROM:-0500
TZOFFSETTO:-0400
TZNAME:EDT
DTSTART:20250309T070000
END:DAYLIGHT
BEGIN:STANDARD
TZOFFSETFROM:-0400
TZOFFSETTO:-0500
TZNAME:EST
DTSTART:20251102T060000
END:STANDARD
BEGIN:DAYLIGHT
TZOFFSETFROM:-0500
TZOFFSETTO:-0400
TZNAME:EDT
DTSTART:20260308T070000
END:DAYLIGHT
BEGIN:STANDARD
TZOFFSETFROM:-0400
TZOFFSETTO:-0500
TZNAME:EST
DTSTART:20261101T060000
END:STANDARD
END:VTIMEZONE
BEGIN:VTIMEZONE
TZID:Asia/Karachi
BEGIN:STANDARD
TZOFFSETFROM:+0500
TZOFFSETTO:+0500
TZNAME:PKT
DTSTART:20240101T000000
END:STANDARD
END:VTIMEZONE
BEGIN:VTIMEZONE
TZID:America/Chicago
BEGIN:DAYLIGHT
TZOFFSETFROM:-0600
TZOFFSETTO:-0500
TZNAME:CDT
DTSTART:20240310T080000
END:DAYLIGHT
BEGIN:STANDARD
TZOFFSETFROM:-0500
TZOFFSETTO:-0600
TZNAME:CST
DTSTART:20241103T070000
END:STANDARD
BEGIN:DAYLIGHT
TZOFFSETFROM:-0600
TZOFFSETTO:-0500
TZNAME:CDT
DTSTART:20250309T080000
END:DAYLIGHT
BEGIN:STANDARD
TZOFFSETFROM:-0500
TZOFFSETTO:-0600
TZNAME:CST
DTSTART:20251102T070000
END:STANDARD
BEGIN:DAYLIGHT
TZOFFSETFROM:-0600
TZOFFSETTO:-0500
TZNAME:CDT
DTSTART:20260308T080000
END:DAYLIGHT
BEGIN:STANDARD
TZOFFSETFROM:-0500
TZOFFSETTO:-0600
TZNAME:CST
DTSTART:20261101T070000
END:STANDARD
END:VTIMEZONE
BEGIN:VEVENT
DTSTART;VALUE=DATE:20241030
DTEND;VALUE=DATE:20250130
DTSTAMP:20260425T033546
CREATED:20241024T185050Z
LAST-MODIFIED:20241024T185050Z
UID:10001934-1730246400-1738195199@www.wicys.org
SUMMARY:WiCyS | SentinelOne ThreatOps
DESCRIPTION:Join WiCyS Strategic Partner SentinelOne ThreatOps Virtual Training sessions. \nAre you interested in taking on the Challenge? \nYou’ll join fellow cybersecurity peers for SentinelOne’s ThreatOps Challenge\, which will incorporate both known and advanced persistent threat attack vectors and methodology. \nHelp neutralize the threats. Be a Threat Hunter! \nYou’ll Investigate and complete scenarios with varying levels of difficulty in an allotted time. Winners are determined by highest scores\, time to complete\, or both. \nParticipants will receive: \n\nTraining on the SentinelOne Endpoint Protection Platform\nFree-form challenges focused on the realm of EDR and Threat Hunting\nCPE credits upon completion of the entire event\nGift cards for the top three winners\n\nUpcoming ThreatOps Challenges:\n\n\n\nOctober 30\, 2024: Cloud Native Security (2 hours)\nNovember 20\, 2024: Purple AI (2 hours)\nDecember 18\, 2024: Identity (2 hours)\nJanuary 29\, 2025: Cloud Workload Protection (2 hours)\n\n\n\nIf you are interested in learning how to neutralize the threats\, Register HERE. Be a Threat\, Hunter.
URL:https://www.wicys.org/event/wicys-sentinelone-threatops/
LOCATION:Virtual
CATEGORIES:WiCyS
ATTACH;FMTTYPE=image/png:https://www.wicys.org/wp-content/uploads/2024/10/WiCyS-at-SentinelOne_-ThreatOps-Challenge.png
END:VEVENT
BEGIN:VEVENT
DTSTART;TZID=UTC:20250107T150000
DTEND;TZID=UTC:20250107T160000
DTSTAMP:20260425T033546
CREATED:20241107T210736Z
LAST-MODIFIED:20241107T210736Z
UID:10001949-1736262000-1736265600@www.wicys.org
SUMMARY:WiCyS Minnesota Affiliate | 6th Annual Golf Open and Tournament Sponsorship Webinar
DESCRIPTION:We are excited to announce that the WiCyS Minnesota Affiliate will be hosting an informative webinar on January 7\, 2025\, at 3pm CST. \nThis webinar is designed to provide comprehensive details on sponsorship costs and benefits for our 6th Annual WiCyS MN Golf Open and Tournament to be held at Dellwood Country Club MN on June 2\, 2025. \nThis is a fantastic opportunity for organizations looking to support and engage with the WiCyS MN community. Don’t miss out on the chance to learn how you can contribute and benefit from this partnership. \n📧 Email us at wicysminnesota@wicys.org by January 6\, 2025 to get added to the invite. \nIMPORTANT! Immediately following this webinar\, you can sign up as a sponsor for the event on a first-come\, first-serve basis. \nWe look forward to your participation!
URL:https://www.wicys.org/event/wicys-minnesota-affiliate-6th-annual-golf-open-and-tournament-sponsorship-webinar/
LOCATION:Virtual
CATEGORIES:Webinar,WiCyS Affiliate
ATTACH;FMTTYPE=image/png:https://www.wicys.org/wp-content/uploads/2024/11/WiCyS-MN-logo.png
ORGANIZER;CN="WiCyS Minnesota Affiliate":MAILTO:WiCySMinnesota@wicys.org
END:VEVENT
BEGIN:VEVENT
DTSTART;TZID=UTC:20250107T190000
DTEND;TZID=UTC:20250108T130000
DTSTAMP:20260425T033546
CREATED:20250110T151714Z
LAST-MODIFIED:20260129T144651Z
UID:10001990-1736276400-1736341200@www.wicys.org
SUMMARY:WiCyS Professional Affiliate Leaders Only Meeting
DESCRIPTION:WiCyS Professional Affiliate Leaders-Only Meeting: We are all Stronger Together. As WiCyS professional affiliates trailblaze through their regional\, specialty\, or corporate affiliate programs\, we collectively meet monthly in a leadership capacity to sync up on WiCyS global updates\, best practices\, upcoming events\, and Q&A. \nAffiliate meetings are held on the first Tuesday at 7:00 pm CT and the first Wednesday at 1:00 pm CT of the month.
URL:https://www.wicys.org/event/wicys-professional-affiliate-leaders-only-meeting-9/2025-01-07/
LOCATION:Virtual
CATEGORIES:WiCyS,WiCyS Affiliate
ATTACH;FMTTYPE=image/png:https://www.wicys.org/wp-content/uploads/2024/02/Affiliate-Leaders-Meeting-Image.png
END:VEVENT
BEGIN:VEVENT
DTSTART;TZID=UTC:20250108T070000
DTEND;TZID=UTC:20250108T080000
DTSTAMP:20260425T033546
CREATED:20250110T153018Z
LAST-MODIFIED:20260129T145022Z
UID:10002001-1736319600-1736323200@www.wicys.org
SUMMARY:WiCyS Professional Affiliate International Leaders Only Meeting
DESCRIPTION:WiCyS Professional Affiliate Leaders-Only Meeting: We are all Stronger Together. As WiCyS professional affiliates trail blaze through their regional\, specialty\, or corporate affiliate programs\, we collectively meet monthly in a leadership capacity to sync up on WiCyS global updates\, best practices\, upcoming events\, and Q & A. \nInternational Affiliate meetings are held the first Wednesday of each month at 8:00am CT.
URL:https://www.wicys.org/event/wicys-professional-affiliate-international-leaders-only-meeting-10/2025-01-08/
LOCATION:Virtual
CATEGORIES:WiCyS,WiCyS Affiliate
ATTACH;FMTTYPE=image/png:https://www.wicys.org/wp-content/uploads/2024/02/Affiliate-International-Leaders-Meeting-Image.png
END:VEVENT
BEGIN:VEVENT
DTSTART;TZID=UTC:20250110T090000
DTEND;TZID=UTC:20250110T100000
DTSTAMP:20260425T033546
CREATED:20250102T135047Z
LAST-MODIFIED:20250102T173839Z
UID:10001978-1736499600-1736503200@www.wicys.org
SUMMARY:Webinar | Women in Cybersecurity: Achieving 50 by 30 – A Fireside Chat with Jen Easterly
DESCRIPTION:Join Jen Easterly\, Director of CISA\, and Lynn Dohm\, Executive Director of WiCyS\, for an enlightening fireside chat on the progress and future of the “50 by 30” initiative—CISA’s ambitious goal to achieve 50% representation of women in cybersecurity by 2030. They will reflect on key successes during Director Easterly’s tenure at CISA\, highlighting milestones that have driven greater inclusivity within the cybersecurity workforce. \nAttendees will gain valuable insights into the current challenges\, next steps\, and the transformative impact of collaboration. The session will conclude with an inspiring call to action\, empowering participants to contribute to a more resilient cybersecurity future. Don’t miss this opportunity to learn\, connect\, and make a difference! \n  \nRegister for this webinar and view the recording if you are unable to join live.
URL:https://www.wicys.org/event/webinar-women-in-cybersecurity-achieving-50-by-30-a-fireside-chat-with-jen-easterly/
LOCATION:BrightTALK
CATEGORIES:Webinar,WiCyS
ATTACH;FMTTYPE=image/jpeg:https://www.wicys.org/wp-content/uploads/2025/01/WiCyS-LI-Twitter-4.jpg
END:VEVENT
BEGIN:VEVENT
DTSTART;TZID=UTC:20250118T090000
DTEND;TZID=UTC:20250118T110000
DTSTAMP:20260425T033546
CREATED:20250108T153927Z
LAST-MODIFIED:20250108T153927Z
UID:10001981-1737190800-1737198000@www.wicys.org
SUMMARY:WiCyS Austin Affiliate | Monthly Social
DESCRIPTION:Join Women In CyberSecurity (WiCyS) Austin for our January Monthly Social! Please join us as we network with fellow cybersecurity professionals\, discuss upcoming events\, and deep dive into our board positions opening up! 👯 \n📆 Date: January 18th\n⏰ Time: 9:00 AM – 11:00 AM\n📍 Venue: Easy Tiger at the Linc\n👗 Dress Code: Casual \nWhether you’re an established pro or a newcomer in the cybersecurity field\, this is YOUR opportunity to build powerful connections. All are welcome to join us for a dynamic morning of growth and camaraderie. \nPlease RSVP HERE
URL:https://www.wicys.org/event/wicys-austin-affiliate-monthly-social/
LOCATION:Easy Tiger – The Linc\, 6406 North interstate 35 Frontage Rd #1100\, Austin\, TX\, 78752\, United States
CATEGORIES:WiCyS Affiliate
ATTACH;FMTTYPE=image/jpeg:https://www.wicys.org/wp-content/uploads/2025/01/horizontalbanner.jpg
ORGANIZER;CN="WiCyS - Austin":MAILTO:wicysaustin@wicys.org
END:VEVENT
BEGIN:VEVENT
DTSTART;TZID=UTC:20250118T100000
DTEND;TZID=UTC:20250118T123000
DTSTAMP:20260425T033546
CREATED:20250108T153401Z
LAST-MODIFIED:20250110T154216Z
UID:10001980-1737194400-1737203400@www.wicys.org
SUMMARY:WiCyS San Diego Affiliate | ARE CYBERSECURITY CERTIFICATION ONE OF YOUR NEW YEAR'S RESOLUTION?
DESCRIPTION:This is our kickoff 2025 speaker series event exploring if a CISSP (Certified Information Systems Security Professional) certification is the right step for someone in a cybersecurity career! Setting an introductory session with Shailaja Gogate\, an experienced cybersecurity educator\, to learn about the CISSP certification requirements\, key modules\, and how it aligns with career goals. \nThis event includes a Q&A session to address attendees questions\, followed by an opportunity to network with like-minded professionals in the cybersecurity field. It is open to everyone in the field; whether one is just starting their journey in cybersecurity or looking to advance\, this session will help to decide if CISSP fits 2025 professional development goals. \n  \nRegister HERE
URL:https://www.wicys.org/event/wicys-san-diego-affiliate-are-cybersecurity-certification-one-of-your-new-years-resolution/
LOCATION:La Jolla/Riford Public Library\, 7555 Draper Avenue\, San Diego\, CA\, 92037\, United States
CATEGORIES:WiCyS Affiliate
ATTACH;FMTTYPE=image/png:https://www.wicys.org/wp-content/uploads/2025/01/WiCyS-San-Diego-Affiliate-Event-1-25.png
ORGANIZER;CN="WiCyS San Diego Affiliate":MAILTO:WiCySSanDiego@wicys.org
END:VEVENT
BEGIN:VEVENT
DTSTART;TZID=UTC:20250122T090000
DTEND;TZID=UTC:20250122T100000
DTSTAMP:20260425T033546
CREATED:20241220T163207Z
LAST-MODIFIED:20241220T163207Z
UID:10001975-1737536400-1737540000@www.wicys.org
SUMMARY:Webinar | From Creative User to Security Pro: My Unscripted Journey into Cybersecurity
DESCRIPTION:In this webinar with Adobe\, Melissa will share her unconventional path into the field of cybersecurity\, highlighting the twists and turns that led to her current role. Starting as a media production professional working with Adobe products\, she transitioned from editing footage to safeguarding digital assets. Her journey includes volunteering locally\, fulfilling a lifelong dream to join the Peace Corps\, and discovering a passion for computer security while serving abroad. After returning home\, she gained hands-on IT experience as a technician for a fast-food chain\, pursued a master’s degree\, and envisioned a career with the Department of State. Instead\, an unexpected opportunity brought me full circle\, back to Adobe—this time protecting the very tools she once used. Join Melissa as she explores how curiosity\, adaptability\, and embracing the unexpected shaped her career in cybersecurity\, and how you can carve your own path in the ever-evolving world of tech. \n  \nWiCyS is proud to provide members the opportunity to earn CPE/CEU credits for attending WiCyS Webinars live. To earn CPE/CEU credits with the following providers\, you must meet the minimum requirements: \n\nGIAC/(ISC)2: attend for a minimum of 45 minutes or the entirety of the webinar\nCompTIA: attend for a minimum of 60 minutes or the entirety of the webinar (webinar topic must relate to the certificate being renewed)\nAttendees who meet the requirements can log into BrightTALK to print out their attendance certificates to submit for CPE/CEU credits.\n\n  \nRegister for this webinar and view the recording if you are unable to join live.
URL:https://www.wicys.org/event/webinar-from-creative-user-to-security-pro-my-unscripted-journey-into-cybersecurity/
LOCATION:BrightTALK
CATEGORIES:Webinar,WiCyS
ATTACH;FMTTYPE=image/png:https://www.wicys.org/wp-content/uploads/2024/12/WiCyS-LI-_-Twitter-65.png
END:VEVENT
BEGIN:VEVENT
DTSTART;TZID=UTC:20250123T190000
DTEND;TZID=UTC:20250123T200000
DTSTAMP:20260425T033546
CREATED:20250110T151125Z
LAST-MODIFIED:20250110T151125Z
UID:10001985-1737658800-1737662400@www.wicys.org
SUMMARY:WiCyS Student Chapter Leaders Only Meeting
DESCRIPTION:WiCyS Student Chapter Leaders-Only Meeting: WiCyS Student Chapters are developed and launched at a rapid rate around the world and help showcase the collective strength of the Women in the CyberSecurity community. \nEach month\, these outstanding women student leaders and their faculty advisors connect to share updates on WiCyS global\, best student chapter practices\, upcoming events\, and Q&A. \nThe meeting time is reflected in Central Standard Time.
URL:https://www.wicys.org/event/wicys-student-chapter-leaders-only-meeting-10/2025-01-23/
LOCATION:Virtual
CATEGORIES:WiCyS,WiCyS Student Chapter
ATTACH;FMTTYPE=image/png:https://www.wicys.org/wp-content/uploads/2024/02/Student-Chapter-Leaders-Meeting.png
END:VEVENT
BEGIN:VEVENT
DTSTART;TZID=America/New_York:20250124T110000
DTEND;TZID=America/New_York:20250124T120000
DTSTAMP:20260425T033546
CREATED:20250123T205604Z
LAST-MODIFIED:20250123T205604Z
UID:10002015-1737716400-1737720000@www.wicys.org
SUMMARY:WiCyS Healthcare Affiliate | Presents: Mari Savickis Wellness Workshop
DESCRIPTION:Join us for a call focused on centering your wellbeing. Presenting to the group will be WiCyS Healthcare Affiliate member\, Mari Savickis. Mari’s day job is serving as VP of Public Policy for the College of Healthcare Information Management Executives (CHIME). When she is not navigating the swamp of Washington\, you can find her teaching and taking yoga. Mari is certified yoga teacher and freshly minted certified wellness coach. She has a lifelong passion for wellness and her journey to improve to her and family’s wellbeing has taken several unexpected twists and turns. \nWe are all running at high-speed sand sometimes (ok for many of us a lot of the time)\, it can feel like we are running on fumes. Mari will share some practical tips and help guide a discussion to help you bring yourself and your wellbeing into focus. \nPlease come prepared with two items:\nAn envelope\nA recommended book\, podcast\, webcast\, TED talk or movie that less work related and more fun/hobby/relaxing \nPlease RSVP HERE for this event
URL:https://www.wicys.org/event/wicys-healthcare-affiliate-presents-mari-savickis-wellness-workshop/
LOCATION:Virtual
CATEGORIES:Webinar,WiCyS Affiliate
ATTACH;FMTTYPE=image/png:https://www.wicys.org/wp-content/uploads/2025/01/MARI-SAVICKIS-WELLNESS-WORKSHOP-1.png
ORGANIZER;CN="WiCyS Healthcare":MAILTO:WiCySHealthcare@wicys.org
END:VEVENT
BEGIN:VEVENT
DTSTART;TZID=UTC:20250125T100000
DTEND;TZID=UTC:20250125T110000
DTSTAMP:20260425T033546
CREATED:20250110T153810Z
LAST-MODIFIED:20250110T153810Z
UID:10001983-1737799200-1737802800@www.wicys.org
SUMMARY:WiCyS San Diego Affiliate | Discussion & Book Review with Author Heidi Trost On Human-Centered Security
DESCRIPTION:This will be a virtual event: an engaging and thought-provoking book review and Q&A session with Heidi Trost\, the author of Human-Centered Security. Heidi is a renowned cybersecurity user experience (UX) leader and podcast host of Human-Centered Security. Heidi brings a unique perspective to the critical interplay between humans\, systems\, and cybersecurity threats. \nIn this session\, Heidi will share insights from her book and her experience working with cross-disciplinary teams to improve the security user experience. She will explore how systems designers can approach cybersecurity challenges with a human-centered mindset\, ensuring systems are safer\, more intuitive\, and resilient against evolving threats. \nThis discussion is designed for all cybersecurity professionals\, UX designers\, software developers\, or just someone interested in the human side of cybersecurity. This talk will offer actionable insights and practical strategies for creating secure and user-friendly systems. \n  \nRegister for this discussion HERE
URL:https://www.wicys.org/event/wicys-san-diego-affiliate-discussion-book-review-with-author-heidi-trost-on-human-centered-security/
LOCATION:Virtual
CATEGORIES:Webinar,WiCyS,WiCyS Affiliate
ATTACH;FMTTYPE=image/png:https://www.wicys.org/wp-content/uploads/2025/01/Book-Talk-Eventbrite-Heidi-Trost.png
ORGANIZER;CN="WiCyS San Diego Affiliate":MAILTO:WiCySSanDiego@wicys.org
END:VEVENT
BEGIN:VEVENT
DTSTART;TZID=Asia/Karachi:20250125T103000
DTEND;TZID=Asia/Karachi:20250125T113000
DTSTAMP:20260425T033546
CREATED:20250117T124644Z
LAST-MODIFIED:20250117T124644Z
UID:10002014-1737801000-1737804600@www.wicys.org
SUMMARY:WiCyS Mid-Atlantic Affiliate | New Year's Virtual Meet and Greet
DESCRIPTION:Join us for a fun-filled virtual meet and greet where we meet the board and the members of WiCyS kickstarting the new year together and setting our vision for the rest of the year! \n  \nJoin the event HERE
URL:https://www.wicys.org/event/wicys-mid-atlantic-affiliate-new-years-virtual-meet-and-greet/
LOCATION:Virtual
CATEGORIES:WiCyS Affiliate
ATTACH;FMTTYPE=image/png:https://www.wicys.org/wp-content/uploads/2025/01/Screenshot-2025-01-13-at-5.49.04 PM.png
ORGANIZER;CN="WiCyS Mid-Atlantic Affiliate":MAILTO:info@wicysmidatlantic.org
END:VEVENT
BEGIN:VEVENT
DTSTART;TZID=UTC:20250128T120000
DTEND;TZID=UTC:20250128T130000
DTSTAMP:20260425T033546
CREATED:20250128T210807Z
LAST-MODIFIED:20250128T210807Z
UID:10002026-1738065600-1738069200@www.wicys.org
SUMMARY:WiCyS & Together | Scaling Connections: Building Impactful Mentorship Programs that Drive Growth
DESCRIPTION:Join WiCyS Progam Director Mary Jane Partain as she joins the Together webinar Scaling Connections: Building Impactful Mentorship Programs that Drive Growth. This webinar will focus on starting and implementing a mentorship strategy within an organization. We will be exploring the unique program types\, and the organizational contexts they’re implemented in\, to demonstrate the impact beyond the traditional notion of 1:1 mentorship. This session will also touch on practical best practices of facilitating meaningful connections\, promoting a program\, and measuring its impact. \n  \nJoin live or watch the recording HERE
URL:https://www.wicys.org/event/wicys-together-scaling-connections-building-impactful-mentorship-programs-that-drive-growth/
LOCATION:Virtual
CATEGORIES:Webinar,WiCyS
ATTACH;FMTTYPE=image/png:https://www.wicys.org/wp-content/uploads/2025/01/Screenshot-2025-01-28-at-4.07.41 PM.png
END:VEVENT
BEGIN:VEVENT
DTSTART;TZID=America/Chicago:20250129T110000
DTEND;TZID=America/Chicago:20250129T130000
DTSTAMP:20260425T033546
CREATED:20250102T164146Z
LAST-MODIFIED:20250128T172423Z
UID:10001976-1738148400-1738155600@www.wicys.org
SUMMARY:WiCyS Chicago Affiliate | 2025 - Elevating Cyber Luncheon
DESCRIPTION:Join Women in Cybersecurity Chicago Affiliate for an exciting in-person luncheon where we’ll be diving deep into all things cybersecurity. Network with industry professionals\, learn from experts\, and elevate your knowledge in a supportive and engaging environment. Don’t miss this opportunity to connect with like-minded individuals and take your cybersecurity skills to the next level. \n  \nReserve your spot now HERE
URL:https://www.wicys.org/event/wicys-chicago-affiliate-2025-elevating-cyber-luncheon/
LOCATION:Union League Club  65 West Jackson Boulevard Chicago\, IL 60604\, 65 West Jackson Boulevard\, Chicago\, 60604\, United States
CATEGORIES:WiCyS Affiliate
ATTACH;FMTTYPE=image/png:https://www.wicys.org/wp-content/uploads/2025/01/WiCyS-Chicago-Affiliate-_-2025-–-Elevating-Cyber-Luncheon.png
END:VEVENT
BEGIN:VEVENT
DTSTART;TZID=UTC:20250129T130000
DTEND;TZID=UTC:20250129T140000
DTSTAMP:20260425T033546
CREATED:20250123T205355Z
LAST-MODIFIED:20250123T205355Z
UID:10002018-1738155600-1738159200@www.wicys.org
SUMMARY:Webinar | The Value of Internships in Setting Your Path in Cybersecurity
DESCRIPTION:Join WiCyS Strategic Partner\, Arctic Wolf\, for a special webinar featuring Meg Warren\, a successful participant in their Intern Program. She will share insights into her experience with the program and discuss her career journey during her time at Arctic Wolf. Hear from Arctic Wolf’s Emerging Talent team on the value of intern and development program experiences in building relationships and your cyber skill set to cultivate your path into cybersecurity. \nWiCyS is proud to provide members the opportunity to earn CPE/CEU credits for attending WiCyS Webinars live. To earn CPE/CEU credits with the following providers\, you must meet the minimum requirements: \n\nGIAC/(ISC)2: attend for a minimum of 45 minutes or the entirety of the webinar\nCompTIA: attend for a minimum of 60 minutes or the entirety of the webinar (webinar topic must relate to the certificate being renewed)\nAttendees who meet the requirements can log into BrightTALK to print out their attendance certificates to submit for CPE/CEU credits.\n\n  \nRegister for this webinar and view the recording if you are unable to join live.
URL:https://www.wicys.org/event/webinar-the-value-of-internships-in-setting-your-path-in-cybersecurity/
LOCATION:BrightTALK
CATEGORIES:Webinar,WiCyS
ATTACH;FMTTYPE=image/png:https://www.wicys.org/wp-content/uploads/2025/01/WiCyS-LI-_-Twitter-70.png
END:VEVENT
END:VCALENDAR