BEGIN:VCALENDAR
VERSION:2.0
PRODID:-//WiCyS - Women in Cybersecurity - ECPv6.15.20//NONSGML v1.0//EN
CALSCALE:GREGORIAN
METHOD:PUBLISH
X-WR-CALNAME:WiCyS - Women in Cybersecurity
X-ORIGINAL-URL:https://www.wicys.org
X-WR-CALDESC:Events for WiCyS - Women in Cybersecurity
REFRESH-INTERVAL;VALUE=DURATION:PT1H
X-Robots-Tag:noindex
X-PUBLISHED-TTL:PT1H
BEGIN:VTIMEZONE
TZID:UTC
BEGIN:STANDARD
TZOFFSETFROM:+0000
TZOFFSETTO:+0000
TZNAME:UTC
DTSTART:20240101T000000
END:STANDARD
END:VTIMEZONE
BEGIN:VEVENT
DTSTART;TZID=UTC:20250923T170000
DTEND;TZID=UTC:20250923T190000
DTSTAMP:20260423T061758
CREATED:20250916T175610Z
LAST-MODIFIED:20250916T175814Z
UID:10002559-1758646800-1758654000@www.wicys.org
SUMMARY:WiCyS Silicon Valley Affiliate | Fintech & Cybersecurity: Perspectives and Best Practices
DESCRIPTION:Box and WiCyS Silicon Valley are hosting an engaging event aimed at professionals in the cybersecurity and digital transformation fields\, particularly those in mid-career to early-career stages. This event features insightful presentations by industry leaders covering vital topics such crypto security and fraud prevention\, and the impact of AI on these areas. You’ll have the opportunity to network with speakers and peers\, gaining valuable insights and practical takeaways to enhance your career. Don’t miss this chance to connect\, learn\, and empower yourself in the rapidly evolving landscape of cybersecurity! \n​​Speakers:\n​Karen Hsu\, Co-Founder\, Blockchain by Women\n​Marla Sofer\, Co-founder\, Knomee\n​Wendy Chuk\, Sr Director\, Global Risk Analytics & Insights\, Visa\n​​Doors open: 5pm PST; Event start time: 5:30pm PST\n​​Refreshments will be served \n  \nPlease register HERE
URL:https://www.wicys.org/event/wicys-silicon-valley-affiliate-fintech-cybersecurity-perspectives-and-best-practices/
LOCATION:Box Inc.\, 900 Jefferson Ave\, Redwood City\, CA\, 94063\, United States
CATEGORIES:WiCyS Affiliate
ATTACH;FMTTYPE=image/jpeg:https://www.wicys.org/wp-content/uploads/2025/09/IMG_0108-e1758045488217.jpeg
END:VEVENT
END:VCALENDAR