BEGIN:VCALENDAR
VERSION:2.0
PRODID:-//WiCyS - Women in Cybersecurity - ECPv6.15.20//NONSGML v1.0//EN
CALSCALE:GREGORIAN
METHOD:PUBLISH
X-WR-CALNAME:WiCyS - Women in Cybersecurity
X-ORIGINAL-URL:https://www.wicys.org
X-WR-CALDESC:Events for WiCyS - Women in Cybersecurity
REFRESH-INTERVAL;VALUE=DURATION:PT1H
X-Robots-Tag:noindex
X-PUBLISHED-TTL:PT1H
BEGIN:VTIMEZONE
TZID:Europe/Paris
BEGIN:DAYLIGHT
TZOFFSETFROM:+0100
TZOFFSETTO:+0200
TZNAME:CEST
DTSTART:20230326T010000
END:DAYLIGHT
BEGIN:STANDARD
TZOFFSETFROM:+0200
TZOFFSETTO:+0100
TZNAME:CET
DTSTART:20231029T010000
END:STANDARD
BEGIN:DAYLIGHT
TZOFFSETFROM:+0100
TZOFFSETTO:+0200
TZNAME:CEST
DTSTART:20240331T010000
END:DAYLIGHT
BEGIN:STANDARD
TZOFFSETFROM:+0200
TZOFFSETTO:+0100
TZNAME:CET
DTSTART:20241027T010000
END:STANDARD
BEGIN:DAYLIGHT
TZOFFSETFROM:+0100
TZOFFSETTO:+0200
TZNAME:CEST
DTSTART:20250330T010000
END:DAYLIGHT
BEGIN:STANDARD
TZOFFSETFROM:+0200
TZOFFSETTO:+0100
TZNAME:CET
DTSTART:20251026T010000
END:STANDARD
END:VTIMEZONE
BEGIN:VEVENT
DTSTART;TZID=Europe/Paris:20241203T173000
DTEND;TZID=Europe/Paris:20241203T190000
DTSTAMP:20260419T164221
CREATED:20241120T193327Z
LAST-MODIFIED:20241120T193327Z
UID:10001958-1733247000-1733252400@www.wicys.org
SUMMARY:WiCyS Germany Affiliate | How is (Gen)AI changing the cybersecurity world and how is Palo Alto Networks dealing with it?
DESCRIPTION:Join Us for an Engaging Webinar Hosted by WiCyS Germany in Collaboration with Palo Alto Networks! This webinar will provide a valuable session on the transformative impact of (Gen)AI in cybersecurity and the cutting-edge strategies Palo Alto Networks is implementing to lead in this fast-evolving field. \nWebinar Agenda:\n🔹 Intro Talk on Women in Cybersecurity\n🔹 Trends & Influences of AI in Cybersecurity\n🔹 Palo Alto Networks’ Approach\n🔹 Application Process Experience Sharing\n🔹 Q&A \n👥 Meet Our Host and Speakers: \n\nAneesha Gupta: VP of WiCyS Germany\, cybersecurity leader\, and advocate for women in tech. Aneesha will be hosting the event and guiding insightful discussions throughout.\nFlorian Hartwig: VP & Managing Director Germany at Palo Alto Networks. With over 20 years in the (cloud) computing industry\, Florian brings unparalleled expertise.\nBilge-Asena K.: Regional Sales Manager Germany\, Palo Alto Networks. Former Director of Women at Amazon Events Germany\, Asena is a powerhouse in the IT industry.\n\n  \nDon’t miss this opportunity to learn from industry experts and see how AI is reshaping cybersecurity. Mark your calendar and be part of the conversation! \n🔗 Register HERE
URL:https://www.wicys.org/event/wicys-germany-affiliate-how-is-genai-changing-the-cybersecurity-world-and-how-is-palo-alto-networks-dealing-with-it/
LOCATION:Virtual
CATEGORIES:WiCyS Affiliate
ATTACH;FMTTYPE=image/png:https://www.wicys.org/wp-content/uploads/2024/11/1731579637088.png
ORGANIZER;CN="WiCyS - Germany Affiliate":MAILTO:WiCySGermany@wicys.org
END:VEVENT
END:VCALENDAR