BEGIN:VCALENDAR
VERSION:2.0
PRODID:-//WiCyS - Women in Cybersecurity - ECPv6.15.20//NONSGML v1.0//EN
CALSCALE:GREGORIAN
METHOD:PUBLISH
X-ORIGINAL-URL:https://www.wicys.org
X-WR-CALDESC:Events for WiCyS - Women in Cybersecurity
REFRESH-INTERVAL;VALUE=DURATION:PT1H
X-Robots-Tag:noindex
X-PUBLISHED-TTL:PT1H
BEGIN:VTIMEZONE
TZID:America/Denver
BEGIN:DAYLIGHT
TZOFFSETFROM:-0700
TZOFFSETTO:-0600
TZNAME:MDT
DTSTART:20230312T090000
END:DAYLIGHT
BEGIN:STANDARD
TZOFFSETFROM:-0600
TZOFFSETTO:-0700
TZNAME:MST
DTSTART:20231105T080000
END:STANDARD
BEGIN:DAYLIGHT
TZOFFSETFROM:-0700
TZOFFSETTO:-0600
TZNAME:MDT
DTSTART:20240310T090000
END:DAYLIGHT
BEGIN:STANDARD
TZOFFSETFROM:-0600
TZOFFSETTO:-0700
TZNAME:MST
DTSTART:20241103T080000
END:STANDARD
BEGIN:DAYLIGHT
TZOFFSETFROM:-0700
TZOFFSETTO:-0600
TZNAME:MDT
DTSTART:20250309T090000
END:DAYLIGHT
BEGIN:STANDARD
TZOFFSETFROM:-0600
TZOFFSETTO:-0700
TZNAME:MST
DTSTART:20251102T080000
END:STANDARD
END:VTIMEZONE
BEGIN:VEVENT
DTSTART;TZID=America/Denver:20241113T173000
DTEND;TZID=America/Denver:20241113T203000
DTSTAMP:20260421T213608
CREATED:20241205T133810Z
LAST-MODIFIED:20241205T133810Z
UID:10001968-1731519000-1731529800@www.wicys.org
SUMMARY:WiCyS Colorado Affiliate | CyberCon 2024
DESCRIPTION:Join WiCyS Colorado for an evening of networking and discussing\, “Enhancing Interpersonal Communication in Cybersecurity”. \nWe’ll have fun activities like icebreakers\, opportunities to engage with members of our cyber community\, as well as learning new skills like lock picking and decryption. \nOur Guest Speaker – Donna Riccard \nDonna has over 30 years of experience in speaking\, training and interpersonal communication. She will talk about the significance of effective communication in a predominantly technical and often introverted community. Donna has been very introverted herself\, at one time being unable to look someone in the eye and talk to them at the same time. Anything extroverted you see in her has been learned. She knows if she can do it\, anyone can. \nThis talk aims to inspire cybersecurity professionals to embrace and enhance their interpersonal communication skills\, ultimately leading to more effective communication\, improved team collaboration and better future job opportunities.
URL:https://www.wicys.org/event/wicys-colorado-affiliate-cybercon-2024/
LOCATION:DU\, 2150 E Evans Ave\, Denver\, C\, 80210\, United States
CATEGORIES:WiCyS Affiliate
ATTACH;FMTTYPE=image/png:https://www.wicys.org/wp-content/uploads/2024/12/CyberCon-2024-1.png
ORGANIZER;CN="WiCyS Colorado Affiliate":MAILTO:wicyscolorado@wicys.org
END:VEVENT
END:VCALENDAR