BEGIN:VCALENDAR
VERSION:2.0
PRODID:-//WiCyS - Women in Cybersecurity - ECPv6.15.20//NONSGML v1.0//EN
CALSCALE:GREGORIAN
METHOD:PUBLISH
X-ORIGINAL-URL:https://www.wicys.org
X-WR-CALDESC:Events for WiCyS - Women in Cybersecurity
REFRESH-INTERVAL;VALUE=DURATION:PT1H
X-Robots-Tag:noindex
X-PUBLISHED-TTL:PT1H
BEGIN:VTIMEZONE
TZID:Asia/Karachi
BEGIN:STANDARD
TZOFFSETFROM:+0500
TZOFFSETTO:+0500
TZNAME:PKT
DTSTART:20230101T000000
END:STANDARD
END:VTIMEZONE
BEGIN:VEVENT
DTSTART;VALUE=DATE:20241115
DTEND;VALUE=DATE:20241116
DTSTAMP:20260423T085002
CREATED:20241106T185912Z
LAST-MODIFIED:20241106T185912Z
UID:10001944-1731628800-1731715199@www.wicys.org
SUMMARY:WiCyS NY Metro | Cyber Security Summit New York
DESCRIPTION:Join our New York Metro Affiliate at the 14th Annual New York Cyber Security Summit at OT Cybersecurity in Houston to connect with WiCyS members. Please stop by our booth to meet our affiliate\, snag some swag\, and learn more! \nEarn up to 8 Continuing Education Credits by attending the day in full. Admission includes a catered breakfast\, lunch & cocktail reception.\nTom Fattorusso\, Special Agent in Charge at The IRS\, NY Office\, will lead the Opening Government Keynote Briefing\, Jeff Crume\, PhD\, CISSP\, Distinguished Engineer\, CTO Americas Security Technical Sale\, IBM Master Inventor at IBM Security\, will lead a Keynote Presentation on Artificial Intelligence\, and Asdrúbal Pichardo\, CEO at Squalify\, will lead a presentation on Cyber Risk. \nLearn from additional renowned Subject Matter Experts and thought leaders from LightBeam.ai\, Paperclip\, Check Point Software and many more who will discuss the latest security threats\, best cyber hygiene practices\, and innovative solutions to protect your business! \n  \nFor event details and registration can be found HERE Use code 𝘊𝘚𝘚24-𝘞𝘐𝘊𝘠𝘚𝘕𝘈𝘛 to secure a FREE pass.
URL:https://www.wicys.org/event/wicys-ny-metro-cyber-security-summit-new-york/
LOCATION:Sheraton New York Times Square Hotel\, 811 7th Ave 53rd Street\, New York\, NY\, 10019\, United States
CATEGORIES:WiCyS
ATTACH;FMTTYPE=image/png:https://www.wicys.org/wp-content/uploads/2024/10/WiCyS-at-Cybersecurity-Summit-NYC.png
ORGANIZER;CN="WiCyS - New York Metro Affiliate":MAILTO:wicysnymetro@wicys.org
END:VEVENT
END:VCALENDAR