BEGIN:VCALENDAR
VERSION:2.0
PRODID:-//WiCyS - Women in Cybersecurity - ECPv6.15.20//NONSGML v1.0//EN
CALSCALE:GREGORIAN
METHOD:PUBLISH
X-ORIGINAL-URL:https://www.wicys.org
X-WR-CALDESC:Events for WiCyS - Women in Cybersecurity
REFRESH-INTERVAL;VALUE=DURATION:PT1H
X-Robots-Tag:noindex
X-PUBLISHED-TTL:PT1H
BEGIN:VTIMEZONE
TZID:America/Los_Angeles
BEGIN:DAYLIGHT
TZOFFSETFROM:-0800
TZOFFSETTO:-0700
TZNAME:PDT
DTSTART:20230312T100000
END:DAYLIGHT
BEGIN:STANDARD
TZOFFSETFROM:-0700
TZOFFSETTO:-0800
TZNAME:PST
DTSTART:20231105T090000
END:STANDARD
BEGIN:DAYLIGHT
TZOFFSETFROM:-0800
TZOFFSETTO:-0700
TZNAME:PDT
DTSTART:20240310T100000
END:DAYLIGHT
BEGIN:STANDARD
TZOFFSETFROM:-0700
TZOFFSETTO:-0800
TZNAME:PST
DTSTART:20241103T090000
END:STANDARD
BEGIN:DAYLIGHT
TZOFFSETFROM:-0800
TZOFFSETTO:-0700
TZNAME:PDT
DTSTART:20250309T100000
END:DAYLIGHT
BEGIN:STANDARD
TZOFFSETFROM:-0700
TZOFFSETTO:-0800
TZNAME:PST
DTSTART:20251102T090000
END:STANDARD
END:VTIMEZONE
BEGIN:VTIMEZONE
TZID:UTC
BEGIN:STANDARD
TZOFFSETFROM:+0000
TZOFFSETTO:+0000
TZNAME:UTC
DTSTART:20230101T000000
END:STANDARD
END:VTIMEZONE
BEGIN:VEVENT
DTSTART;VALUE=DATE:20241116
DTEND;VALUE=DATE:20241123
DTSTAMP:20260421T133047
CREATED:20241017T202033Z
LAST-MODIFIED:20241024T184552Z
UID:10001922-1731715200-1732319999@www.wicys.org
SUMMARY:WiCyS UCSB Student Chapter | iCTF 2024
DESCRIPTION:The International Capture The Flag (“iCTF”) is a distributed\, wide-area security exercise\, which aims to test the security skills of the participants. The iCTF is one of the world’s largest and longest-running educational hacking competitions and has the goal of educating students about security-related topics in a live setting. The 2024 iCTF is a CAPTURE THE FLAG (CTF) educational hacking competition that focuses on artificial intelligence and cybersecurity. The completion has two tracks\, dedicated to high school teams and undergraduate teams. \nRegistration requires a team advisor\, who has to be an etcher\, lecturer\, or faculty member. Cash prizes to the highest scoring US high schools. \n  \nRegister HERE for this event and join the Discord HERE
URL:https://www.wicys.org/event/wicys-ucsb-student-chapter-ictf-2024/
LOCATION:Virtual
CATEGORIES:WiCyS Affiliate
ATTACH;FMTTYPE=image/png:https://www.wicys.org/wp-content/uploads/2024/10/WiCyS-University-of-California_-Santa-Barbara-iCTF-2024.png
ORGANIZER;CN="WICYS University of California%2C Santa Barbara":MAILTO:security-wicys@ucsb.edu
END:VEVENT
BEGIN:VEVENT
DTSTART;TZID=UTC:20241120T180000
DTEND;TZID=UTC:20241120T193000
DTSTAMP:20260421T133047
CREATED:20241111T171845Z
LAST-MODIFIED:20241111T171845Z
UID:10001951-1732125600-1732131000@www.wicys.org
SUMMARY:WiCyS Austin Affiliate | AUSTIN CYBERSECURITY DAY
DESCRIPTION:Join us for a day filled with insightful presentations and networking opportunities with top cybersecurity professionals. Whether you are a seasoned expert or just starting in the field\, this event is perfect for anyone interested in cybersecurity. This event will be held in tandem with the FBI- San Antonio Field Office Representatives and will focus on the Cyber Threat Landscape: Emerging Threats and Defense Strategies. \nFBI experts will provide valuable insights on how to protect your organization from a variety of threats\, such as ransomware attacks\, phishing scams\, and data breaches. They will also discuss emerging defense strategies. \nDon’t miss this opportunity to learn from the experts and strengthen your cybersecurity posture. \n  \nRegister HERE for this FREE event
URL:https://www.wicys.org/event/wicys-austin-affiliate-austin-cybersecurity-day/
LOCATION:LCRA\, Room 225\, Redbud Center.  3601 Lake Austin Blvd. Austin\, TX 78703\, LCRA\, Room 225\, Redbud Center. 3601\, Lake Austin Blvd.\, Austin\, T\, 78703\, United States
CATEGORIES:WiCyS Affiliate
ATTACH;FMTTYPE=image/png:https://www.wicys.org/wp-content/uploads/2024/11/Cybersecurity-Day.png
ORGANIZER;CN="WiCyS - Austin":MAILTO:wicysaustin@wicys.org
END:VEVENT
END:VCALENDAR