BEGIN:VCALENDAR
VERSION:2.0
PRODID:-//WiCyS - Women in Cybersecurity - ECPv6.15.20//NONSGML v1.0//EN
CALSCALE:GREGORIAN
METHOD:PUBLISH
X-ORIGINAL-URL:https://www.wicys.org
X-WR-CALDESC:Events for WiCyS - Women in Cybersecurity
REFRESH-INTERVAL;VALUE=DURATION:PT1H
X-Robots-Tag:noindex
X-PUBLISHED-TTL:PT1H
BEGIN:VTIMEZONE
TZID:Europe/Paris
BEGIN:DAYLIGHT
TZOFFSETFROM:+0100
TZOFFSETTO:+0200
TZNAME:CEST
DTSTART:20240331T010000
END:DAYLIGHT
BEGIN:STANDARD
TZOFFSETFROM:+0200
TZOFFSETTO:+0100
TZNAME:CET
DTSTART:20241027T010000
END:STANDARD
BEGIN:DAYLIGHT
TZOFFSETFROM:+0100
TZOFFSETTO:+0200
TZNAME:CEST
DTSTART:20250330T010000
END:DAYLIGHT
BEGIN:STANDARD
TZOFFSETFROM:+0200
TZOFFSETTO:+0100
TZNAME:CET
DTSTART:20251026T010000
END:STANDARD
BEGIN:DAYLIGHT
TZOFFSETFROM:+0100
TZOFFSETTO:+0200
TZNAME:CEST
DTSTART:20260329T010000
END:DAYLIGHT
BEGIN:STANDARD
TZOFFSETFROM:+0200
TZOFFSETTO:+0100
TZNAME:CET
DTSTART:20261025T010000
END:STANDARD
END:VTIMEZONE
BEGIN:VEVENT
DTSTART;TZID=Europe/Paris:20251009T090000
DTEND;TZID=Europe/Paris:20251009T150000
DTSTAMP:20260421T091904
CREATED:20250926T181242Z
LAST-MODIFIED:20250926T181425Z
UID:10002579-1760000400-1760022000@www.wicys.org
SUMMARY:WiCyS Nigeria Affiliate | Leadership Forum
DESCRIPTION:The forum aims to spotlight and strengthen the power skills that help women leaders thrive in this fast-paced domain. By equipping women cybersecurity professionals with robust communication\, public speaking\, negotiation\, and wellness strategies\, the Forum seeks to foster a new generation of holistic\, resilient\, and influential leaders. \n  \nRegister HERE
URL:https://www.wicys.org/event/wicys-nigeria-affiliate-leadership-forum/
LOCATION:Virtual
CATEGORIES:WiCyS Affiliate
ATTACH;FMTTYPE=image/jpeg:https://www.wicys.org/wp-content/uploads/2025/09/PHOTO-2025-07-25-15-36-33-e1758910319310.jpg
ORGANIZER;CN="WiCyS Nigeria Affiliate":MAILTO:wicysnigeria@wicys.org
END:VEVENT
END:VCALENDAR