BEGIN:VCALENDAR
VERSION:2.0
PRODID:-//WiCyS - Women in Cybersecurity - ECPv6.15.20//NONSGML v1.0//EN
CALSCALE:GREGORIAN
METHOD:PUBLISH
X-ORIGINAL-URL:https://www.wicys.org
X-WR-CALDESC:Events for WiCyS - Women in Cybersecurity
REFRESH-INTERVAL;VALUE=DURATION:PT1H
X-Robots-Tag:noindex
X-PUBLISHED-TTL:PT1H
BEGIN:VTIMEZONE
TZID:UTC
BEGIN:STANDARD
TZOFFSETFROM:+0000
TZOFFSETTO:+0000
TZNAME:UTC
DTSTART:20240101T000000
END:STANDARD
END:VTIMEZONE
BEGIN:VEVENT
DTSTART;TZID=UTC:20251018T090000
DTEND;TZID=UTC:20251018T110000
DTSTAMP:20260421T120832
CREATED:20251001T165837Z
LAST-MODIFIED:20251001T165837Z
UID:10002588-1760778000-1760785200@www.wicys.org
SUMMARY:WiCyS Austin Affiliate | October Social
DESCRIPTION:Join WiCyS Austin Affiliate at their October Social\, where you can connect with other professionals in the cybersecurity field. This in-person event will take place at Bennu Coffee Highland on Saturday\, October 18\, 2025\, at 9:00 AM Central Daylight Time. Come network\, share ideas\, and enjoy some delicious food and drinks. We can’t wait to see you there! \nThis month\, Yaamini Barathi Mohan\, Vice President of the WiCyS Austin Affiliate\, hosts our gathering! \n  \nDon’t miss this chance to connect with fellow cybersecurity professionals and grow your network! RSVP for this event HERE
URL:https://www.wicys.org/event/wicys-austin-affiliate-october-social/
LOCATION:Bennu Coffee Highland\, 109 Jacob Fontaine Lane\, Austin\, TEXAS\, 78752
CATEGORIES:WiCyS Affiliate
ATTACH;FMTTYPE=image/png:https://www.wicys.org/wp-content/uploads/2025/10/Monthly-Social-Global-10_25-640-x-360-px.png
ORGANIZER;CN="WiCyS - Austin":MAILTO:wicysaustin@wicys.org
END:VEVENT
END:VCALENDAR