BEGIN:VCALENDAR
VERSION:2.0
PRODID:-//WiCyS - Women in Cybersecurity - ECPv6.15.20//NONSGML v1.0//EN
CALSCALE:GREGORIAN
METHOD:PUBLISH
X-ORIGINAL-URL:https://www.wicys.org
X-WR-CALDESC:Events for WiCyS - Women in Cybersecurity
REFRESH-INTERVAL;VALUE=DURATION:PT1H
X-Robots-Tag:noindex
X-PUBLISHED-TTL:PT1H
BEGIN:VTIMEZONE
TZID:America/Los_Angeles
BEGIN:DAYLIGHT
TZOFFSETFROM:-0800
TZOFFSETTO:-0700
TZNAME:PDT
DTSTART:20240310T100000
END:DAYLIGHT
BEGIN:STANDARD
TZOFFSETFROM:-0700
TZOFFSETTO:-0800
TZNAME:PST
DTSTART:20241103T090000
END:STANDARD
BEGIN:DAYLIGHT
TZOFFSETFROM:-0800
TZOFFSETTO:-0700
TZNAME:PDT
DTSTART:20250309T100000
END:DAYLIGHT
BEGIN:STANDARD
TZOFFSETFROM:-0700
TZOFFSETTO:-0800
TZNAME:PST
DTSTART:20251102T090000
END:STANDARD
BEGIN:DAYLIGHT
TZOFFSETFROM:-0800
TZOFFSETTO:-0700
TZNAME:PDT
DTSTART:20260308T100000
END:DAYLIGHT
BEGIN:STANDARD
TZOFFSETFROM:-0700
TZOFFSETTO:-0800
TZNAME:PST
DTSTART:20261101T090000
END:STANDARD
END:VTIMEZONE
BEGIN:VEVENT
DTSTART;TZID=America/Los_Angeles:20251106T170000
DTEND;TZID=America/Los_Angeles:20251106T200000
DTSTAMP:20260422T002830
CREATED:20251017T174009Z
LAST-MODIFIED:20251017T174009Z
UID:10002614-1762448400-1762459200@www.wicys.org
SUMMARY:WiCyS Silicon Valley Affiliate | Powering Possibility: How Al Transforms the Cybersecurity Landscape
DESCRIPTION:​Ready to see how AI is shaking up the world of cybersecurity? Join us at Cisco Santana Row for an evening where cutting-edge tech meets real-world defense. WiCyS Silicon Valley will kick things off with fresh insights into how AI is transforming the way we protect data\, spot threats\, and stay one step ahead of cybercriminals. Whether you’re just getting your feet wet or already knee-deep in the field\, you’ll walk away with practical ideas and new connections. \n​​​ \nPanelists: \n\n​​Ramana Kompella\, Head of Cisco Research and Cisco Fellow\nNeha Pattan\, Head of Cloud Networking- AI and Principal SWE at Google\nDr Yu Fu\, Sr. Principal Security Researcher at Palo Alto Network\nModerator: Karin Shopen\, VP Security Business Group at Cisco\n\n  \n​After the talk\, stick around for snacks\, drinks\, and a chance to swap stories with fellow professionals and our speakers. It’s your chance to ask questions\, share your own experiences\, and maybe even spark your next big career move. See you there! \n  \nRegister HERE
URL:https://www.wicys.org/event/wicys-silicon-valley-affiliate-powering-possibility-how-al-transforms-the-cybersecurity-landscape/
LOCATION:cisco\, 3098 Olsen Dr\, San Jose\,\, CA\, 95128\, United States
CATEGORIES:WiCyS Affiliate
ATTACH;FMTTYPE=image/jpeg:https://www.wicys.org/wp-content/uploads/2025/10/IMG_1986-e1760722682463.jpg
END:VEVENT
END:VCALENDAR