BEGIN:VCALENDAR
VERSION:2.0
PRODID:-//WiCyS - Women in Cybersecurity - ECPv6.15.20//NONSGML v1.0//EN
CALSCALE:GREGORIAN
METHOD:PUBLISH
X-ORIGINAL-URL:https://www.wicys.org
X-WR-CALDESC:Events for WiCyS - Women in Cybersecurity
REFRESH-INTERVAL;VALUE=DURATION:PT1H
X-Robots-Tag:noindex
X-PUBLISHED-TTL:PT1H
BEGIN:VTIMEZONE
TZID:UTC
BEGIN:STANDARD
TZOFFSETFROM:+0000
TZOFFSETTO:+0000
TZNAME:UTC
DTSTART:20240101T000000
END:STANDARD
END:VTIMEZONE
BEGIN:VEVENT
DTSTART;TZID=UTC:20251203T180000
DTEND;TZID=UTC:20251203T210000
DTSTAMP:20260422T064806
CREATED:20251105T185517Z
LAST-MODIFIED:20251105T185517Z
UID:10002646-1764784800-1764795600@www.wicys.org
SUMMARY:WiCyS Austin Affiliate | Holiday Social
DESCRIPTION:Celebrate the year with WiCyS Austin and Sumo Logic! Join us for networking and holiday cheer as we toast to 2025’s successes. \nWe’re closing out the year with an evening of connection\, celebration\, and community! Women in CyberSecurity (WiCyS) Austin invites you to this year’s holiday party\, where we’ll recognize the achievements of our members and the cybersecurity community in 2025. \nEnjoy a festive atmosphere filled with great conversation\, light refreshments\, and networking with fellow cybersecurity professionals and allies. We’ll kick off the evening with a short recap of our year’s highlights and a sneak peek of what’s ahead in 2026 — plus a few words from our friends at Sumo Logic. \nWhether you’re a longtime member or new to WiCyS\, this is the perfect opportunity to meet\, unwind\, and toast to another successful year in cybersecurity together. \nFood and drink will be catered by Sumo Logic. Register HERE
URL:https://www.wicys.org/event/wicys-austin-affiliate-holiday-social/
LOCATION:Topgolf\, 2700 Esperanza Crossing\, Austin\, TX\, 78758\, United States
CATEGORIES:WiCyS Affiliate
ATTACH;FMTTYPE=image/png:https://www.wicys.org/wp-content/uploads/2025/11/Holiday-Party-Global-12_25.png
ORGANIZER;CN="WiCyS - Austin":MAILTO:wicysaustin@wicys.org
END:VEVENT
END:VCALENDAR