BEGIN:VCALENDAR
VERSION:2.0
PRODID:-//WiCyS - Women in Cybersecurity - ECPv6.15.20//NONSGML v1.0//EN
CALSCALE:GREGORIAN
METHOD:PUBLISH
X-WR-CALNAME:WiCyS - Women in Cybersecurity
X-ORIGINAL-URL:https://www.wicys.org
X-WR-CALDESC:Events for WiCyS - Women in Cybersecurity
REFRESH-INTERVAL;VALUE=DURATION:PT1H
X-Robots-Tag:noindex
X-PUBLISHED-TTL:PT1H
BEGIN:VTIMEZONE
TZID:America/New_York
BEGIN:DAYLIGHT
TZOFFSETFROM:-0500
TZOFFSETTO:-0400
TZNAME:EDT
DTSTART:20240310T070000
END:DAYLIGHT
BEGIN:STANDARD
TZOFFSETFROM:-0400
TZOFFSETTO:-0500
TZNAME:EST
DTSTART:20241103T060000
END:STANDARD
BEGIN:DAYLIGHT
TZOFFSETFROM:-0500
TZOFFSETTO:-0400
TZNAME:EDT
DTSTART:20250309T070000
END:DAYLIGHT
BEGIN:STANDARD
TZOFFSETFROM:-0400
TZOFFSETTO:-0500
TZNAME:EST
DTSTART:20251102T060000
END:STANDARD
BEGIN:DAYLIGHT
TZOFFSETFROM:-0500
TZOFFSETTO:-0400
TZNAME:EDT
DTSTART:20260308T070000
END:DAYLIGHT
BEGIN:STANDARD
TZOFFSETFROM:-0400
TZOFFSETTO:-0500
TZNAME:EST
DTSTART:20261101T060000
END:STANDARD
END:VTIMEZONE
BEGIN:VEVENT
DTSTART;TZID=America/New_York:20251208T180000
DTEND;TZID=America/New_York:20251208T200000
DTSTAMP:20260422T020458
CREATED:20251106T181736Z
LAST-MODIFIED:20251106T182159Z
UID:10002660-1765216800-1765224000@www.wicys.org
SUMMARY:WiCyS Rhode Island Affiliate | Bingo Night
DESCRIPTION:Join WiCyS Rhode Island Affiliate for an informal Meet-Up at Newport Craft Brewing & Distilling Co.’s weekly Bingo night! We will be playing Bingo\, talking about cybersecurity\, networking\, and building community in a fun Newport setting. This should be a low-stress and fun evening. \n  \nVisit HERE for more information. \n**No cost to participate. Food and Drink are at your expense.
URL:https://www.wicys.org/event/wicys-rhode-island-affiliate-bingo-night/
LOCATION:Newport Craft Brewing & Distilling Co.\, 293 JT Connell Hwy\, Newport\, RI\, 02840\, United States
CATEGORIES:WiCyS Affiliate
ATTACH;FMTTYPE=image/png:https://www.wicys.org/wp-content/uploads/2025/11/Join-us-for-an-informal-evening-of-networking-knowledge-sharing-community-building-.-and-BINGO.png
END:VEVENT
END:VCALENDAR