BEGIN:VCALENDAR
VERSION:2.0
PRODID:-//WiCyS - Women in Cybersecurity - ECPv6.15.20//NONSGML v1.0//EN
CALSCALE:GREGORIAN
METHOD:PUBLISH
X-ORIGINAL-URL:https://www.wicys.org
X-WR-CALDESC:Events for WiCyS - Women in Cybersecurity
REFRESH-INTERVAL;VALUE=DURATION:PT1H
X-Robots-Tag:noindex
X-PUBLISHED-TTL:PT1H
BEGIN:VTIMEZONE
TZID:Asia/Kolkata
BEGIN:STANDARD
TZOFFSETFROM:+0530
TZOFFSETTO:+0530
TZNAME:IST
DTSTART:20240101T000000
END:STANDARD
END:VTIMEZONE
BEGIN:VEVENT
DTSTART;TZID=Asia/Kolkata:20251219T180000
DTEND;TZID=Asia/Kolkata:20251219T193000
DTSTAMP:20260422T051931
CREATED:20251113T201336Z
LAST-MODIFIED:20251212T184239Z
UID:10002666-1766167200-1766172600@www.wicys.org
SUMMARY:WiCyS Sri Lanka Affiliate - Community Kickoff
DESCRIPTION:The WiCyS Sri Lanka Community Kickoff marks the beginning of our journey as an official WiCyS Affiliate\, creating a space where cybersecurity professionals\, students\, and allies come together to connect\, learn\, and inspire. \nThis virtual event will introduce the WiCyS Sri Lanka community\, share our vision for empowering women in cybersecurity and open the door for meaningful collaboration across the industry. Expect inspiring stories\, engaging discussions and opportunities to be part of something impactful from day one. \nIt’s an opportunity to: \n\nLearn what WiCyS is all about globally and locally.\nMeet the team and fellow community members.\nShare your thoughts\, expectations\, and ideas for what you’d love to see in this growing network.\n\n  \nRegister HERE
URL:https://www.wicys.org/event/wicys-sri-lanka-affiliate-community-kickoff/
LOCATION:Virtual
CATEGORIES:Webinar,WiCyS Affiliate
ATTACH;FMTTYPE=image/png:https://www.wicys.org/wp-content/uploads/2025/11/Community-Kickoff-Posts-e1763064762525.png
END:VEVENT
END:VCALENDAR