BEGIN:VCALENDAR
VERSION:2.0
PRODID:-//WiCyS - Women in Cybersecurity - ECPv6.15.20//NONSGML v1.0//EN
CALSCALE:GREGORIAN
METHOD:PUBLISH
X-ORIGINAL-URL:https://www.wicys.org
X-WR-CALDESC:Events for WiCyS - Women in Cybersecurity
REFRESH-INTERVAL;VALUE=DURATION:PT1H
X-Robots-Tag:noindex
X-PUBLISHED-TTL:PT1H
BEGIN:VTIMEZONE
TZID:Europe/Paris
BEGIN:DAYLIGHT
TZOFFSETFROM:+0100
TZOFFSETTO:+0200
TZNAME:CEST
DTSTART:20230326T010000
END:DAYLIGHT
BEGIN:STANDARD
TZOFFSETFROM:+0200
TZOFFSETTO:+0100
TZNAME:CET
DTSTART:20231029T010000
END:STANDARD
BEGIN:DAYLIGHT
TZOFFSETFROM:+0100
TZOFFSETTO:+0200
TZNAME:CEST
DTSTART:20240331T010000
END:DAYLIGHT
BEGIN:STANDARD
TZOFFSETFROM:+0200
TZOFFSETTO:+0100
TZNAME:CET
DTSTART:20241027T010000
END:STANDARD
BEGIN:DAYLIGHT
TZOFFSETFROM:+0100
TZOFFSETTO:+0200
TZNAME:CEST
DTSTART:20250330T010000
END:DAYLIGHT
BEGIN:STANDARD
TZOFFSETFROM:+0200
TZOFFSETTO:+0100
TZNAME:CET
DTSTART:20251026T010000
END:STANDARD
END:VTIMEZONE
BEGIN:VEVENT
DTSTART;TZID=Europe/Paris:20240530T140000
DTEND;TZID=Europe/Paris:20240530T150000
DTSTAMP:20260422T114353
CREATED:20240513T150651Z
LAST-MODIFIED:20240513T150651Z
UID:10001765-1717077600-1717081200@www.wicys.org
SUMMARY:WiCyS Nigeria | Career Guide: Dialogue with a Tech Talent Acquisition Specialist
DESCRIPTION:Unlock the power of mentorship in your cybersecurity journey! Join us for the inaugural edition of the WiCyS Nigeria Affiliate Mentorship Webinar series\, featuring the dynamic speaker\, Salami Ajoké. Get ready for invaluable insights on finding the perfect mentor to propel your career forward. \nIt just keeps getting better\, doesn’t it? \nSave the date now: May 30th\, 2024.\nSecure your spot now with the link below!👇🏾 \nRegister HERE
URL:https://www.wicys.org/event/wicys-nigeria-career-guide-dialogue-with-a-tech-talent-acquisition-specialist/
LOCATION:Virtual
CATEGORIES:WiCyS,WiCyS Affiliate
ATTACH;FMTTYPE=image/png:https://www.wicys.org/wp-content/uploads/2024/05/Screenshot-2024-05-13-at-11.04.43 AM.png
ORGANIZER;CN="WiCyS Nigeria Affiliate":MAILTO:wicysnigeria@wicys.org
END:VEVENT
END:VCALENDAR