BEGIN:VCALENDAR
VERSION:2.0
PRODID:-//WiCyS - Women in Cybersecurity - ECPv6.15.20//NONSGML v1.0//EN
CALSCALE:GREGORIAN
METHOD:PUBLISH
X-ORIGINAL-URL:https://www.wicys.org
X-WR-CALDESC:Events for WiCyS - Women in Cybersecurity
REFRESH-INTERVAL;VALUE=DURATION:PT1H
X-Robots-Tag:noindex
X-PUBLISHED-TTL:PT1H
BEGIN:VTIMEZONE
TZID:UTC
BEGIN:STANDARD
TZOFFSETFROM:+0000
TZOFFSETTO:+0000
TZNAME:UTC
DTSTART:20240101T000000
END:STANDARD
END:VTIMEZONE
BEGIN:VTIMEZONE
TZID:America/Halifax
BEGIN:DAYLIGHT
TZOFFSETFROM:-0400
TZOFFSETTO:-0300
TZNAME:ADT
DTSTART:20240310T060000
END:DAYLIGHT
BEGIN:STANDARD
TZOFFSETFROM:-0300
TZOFFSETTO:-0400
TZNAME:AST
DTSTART:20241103T050000
END:STANDARD
BEGIN:DAYLIGHT
TZOFFSETFROM:-0400
TZOFFSETTO:-0300
TZNAME:ADT
DTSTART:20250309T060000
END:DAYLIGHT
BEGIN:STANDARD
TZOFFSETFROM:-0300
TZOFFSETTO:-0400
TZNAME:AST
DTSTART:20251102T050000
END:STANDARD
BEGIN:DAYLIGHT
TZOFFSETFROM:-0400
TZOFFSETTO:-0300
TZNAME:ADT
DTSTART:20260308T060000
END:DAYLIGHT
BEGIN:STANDARD
TZOFFSETFROM:-0300
TZOFFSETTO:-0400
TZNAME:AST
DTSTART:20261101T050000
END:STANDARD
END:VTIMEZONE
BEGIN:VEVENT
DTSTART;TZID=UTC:20250713T090000
DTEND;TZID=UTC:20250713T130000
DTSTAMP:20260421T081055
CREATED:20250701T152820Z
LAST-MODIFIED:20250703T160615Z
UID:10002460-1752397200-1752411600@www.wicys.org
SUMMARY:WiCyS NE Ohio Affiliate | 2nd Annual Networking Hike
DESCRIPTION:Get Your Steps in with WiCyS NEO! \nWhere and When to Meet:\nDate: Sunday\, July 13th 2025 (rain date: Saturday\, July 26th\, 2025)\nLocation: Brecksville Reservation\nMeeting Spot: Chippewa Creek Gorge Scenic Overlook – 8263 Chippewa Rd\, Brecksville\, OH 44141. Park here and we’ll start our hike from this spot\nCost of Hike: Free! \nBring water and comfy shoes! \nHike Details:\nAll participants will enjoy a trail suitable for all hiking levels (Wildflower Trail) and a break at the Harriet Keeler Picnic Area and Nature Center\, offering water and restrooms.\nIf you’re a more advanced hiker\, the Gorge Loop will be an optional\, more challenging section of the hike that can be muddy and requires hiking shoes. Those who prefer to skip this can remain on the all-purpose trail. \nBrunch After the Hike:\nJoin your fellow hikers for an optional brunch and additional networking at the Creekside Restaurant\, which offers lovely views and delicious food. Brunch is at your own expense. \nPlease RSVP HERE as soon as possible so we can make a reservation for the group!
URL:https://www.wicys.org/event/wicys-ne-ohio-affiliate-2nd-annual-networking-hike/
LOCATION:Chippewa Creek Gorge Scenic Overlook – 8263 Chippewa Rd\, Brecksville\, OH 44141\, 8263 Chippewa Rd\, Brecksville\, OH\, 44141\, United States
CATEGORIES:WiCyS Affiliate
ATTACH;FMTTYPE=image/png:https://www.wicys.org/wp-content/uploads/2025/07/WiCyS-Northeastern-Ohio-Affiliate-Networking-Hike.png
ORGANIZER;CN="WiCyS NE Ohio Affiliate":MAILTO:WiCySNEOhio@wicys.org
END:VEVENT
BEGIN:VEVENT
DTSTART;TZID=UTC:20250719T090000
DTEND;TZID=UTC:20250719T110000
DTSTAMP:20260421T081055
CREATED:20250703T134327Z
LAST-MODIFIED:20250703T145958Z
UID:10002462-1752915600-1752922800@www.wicys.org
SUMMARY:WiCyS Austin Affiliate | July Social
DESCRIPTION:Join us at the WiCyS Austin July Social where you can connect with other professionals in the cybersecurity field. This in-person event will take place at Easy Tiger—The Linc on Saturday\, July 19. Come network\, share ideas\, and enjoy some delicious food and drinks. We can’t wait to see you there! \nThis month\, Jennifer Schieferle Uhlenbrock\, VP – Finance and Sponsorship for WiCyS Austin\, hosts our gathering! \nDon’t miss this chance to connect with fellow cybersecurity professionals and grow your network! \n  \nFor more information and to register for this social\, visit HERE \n(Note: Easy Tiger @ The Linc has two indoor levels and outdoor seating; although the group generally meets “upstairs\,” be sure to look around!)
URL:https://www.wicys.org/event/wicys-austin-july-social/
LOCATION:Easy Tiger – The Linc\, 6406 North interstate 35 Frontage Rd #1100\, Austin\, TX\, 78752\, United States
CATEGORIES:WiCyS Affiliate
ATTACH;FMTTYPE=image/png:https://www.wicys.org/wp-content/uploads/2025/07/Monthly-Social-Global-07_25-640-x-360-px.png
ORGANIZER;CN="WiCyS - Austin":MAILTO:wicysaustin@wicys.org
END:VEVENT
BEGIN:VEVENT
DTSTART;TZID=UTC:20250723T183000
DTEND;TZID=UTC:20250723T193000
DTSTAMP:20260421T081055
CREATED:20250721T145830Z
LAST-MODIFIED:20250721T145830Z
UID:10002467-1753295400-1753299000@www.wicys.org
SUMMARY:WiCyS Austin Affiliate | Digital First Responders - Fixing Patient Safety Gaps with AI
DESCRIPTION:Women In CyberSecurity (WiCyS) Austin and Jennifer Schieferle Uhlenbrock present Digital First Responders – Fixing Patient Safety Gaps with AI! \nAs a co-founder of Provisio Insights LLC and the VP of Finance & Sponsorship for WiCyS Austin\, Jen combines two decades of nursing experience with cybersecurity expertise. Learn more about how AI-powered triage\, biometrics\, and AI-driven simulation labs can positively impact patient safety\, reduce wait times\, and decrease error rates! \n  \nRegister HERE
URL:https://www.wicys.org/event/wicys-austin-affiliate-digital-first-responders-fixing-patient-safety-gaps-with-ai/
LOCATION:1218 West Avenue Austin\, TX 78701\, 1218 West Avenue\, Austin\, T\, 78701\, United States
CATEGORIES:WiCyS,WiCyS Affiliate
ATTACH;FMTTYPE=image/png:https://www.wicys.org/wp-content/uploads/2025/07/DFR-07_25-WiCyS-Global.png
ORGANIZER;CN="WiCyS - Austin":MAILTO:wicysaustin@wicys.org
END:VEVENT
BEGIN:VEVENT
DTSTART;TZID=America/Halifax:20250729T173000
DTEND;TZID=America/Halifax:20250729T203000
DTSTAMP:20260421T081055
CREATED:20250722T135658Z
LAST-MODIFIED:20250722T135744Z
UID:10002473-1753810200-1753821000@www.wicys.org
SUMMARY:WiCyS NY Metro Affiliate | Summer Mixer
DESCRIPTION:Join us for an evening of networking to connect with other professionals and learn more about the latest cybersecurity trends. \n  \nRegister HERE
URL:https://www.wicys.org/event/wicys-ny-metro-affiliate-summer-mixer/
LOCATION:Fortinet NYC Office
CATEGORIES:WiCyS Affiliate
ATTACH;FMTTYPE=image/png:https://www.wicys.org/wp-content/uploads/2025/07/Screenshot-2025-07-22-at-9.56.43 AM.png
END:VEVENT
END:VCALENDAR