BEGIN:VCALENDAR
VERSION:2.0
PRODID:-//WiCyS - Women in Cybersecurity - ECPv6.15.20//NONSGML v1.0//EN
CALSCALE:GREGORIAN
METHOD:PUBLISH
X-ORIGINAL-URL:https://www.wicys.org
X-WR-CALDESC:Events for WiCyS - Women in Cybersecurity
REFRESH-INTERVAL;VALUE=DURATION:PT1H
X-Robots-Tag:noindex
X-PUBLISHED-TTL:PT1H
BEGIN:VTIMEZONE
TZID:UTC
BEGIN:STANDARD
TZOFFSETFROM:+0000
TZOFFSETTO:+0000
TZNAME:UTC
DTSTART:20240101T000000
END:STANDARD
END:VTIMEZONE
BEGIN:VEVENT
DTSTART;TZID=UTC:20250823T110000
DTEND;TZID=UTC:20250823T130000
DTSTAMP:20260421T080325
CREATED:20250820T175447Z
LAST-MODIFIED:20250820T175447Z
UID:10002505-1755946800-1755954000@www.wicys.org
SUMMARY:WiCyS San Diego Affiliate | Anniversary Meet up
DESCRIPTION:Come join us to celebrate as we enter our fifth year as a WiCyS San Diego affiliate. In five years we have grown in numbers\, impact\, and influence\, empowering women in the field and those new to the field.\nCome meet and interact with the leaders and the new and current members of the WiCyS San Diego Affiliate. Come\, let’s eat and drink\, catch up\, network\, and share experiences and opportunities. \n  \nRegister HERE for this free event.
URL:https://www.wicys.org/event/wicys-san-diego-affiliate-anniversary-meet-up/
LOCATION:McGregor’s Bar & Grill\, 10475San Diego Mission Road\, San Diego\, CA\, 92108\, United States
CATEGORIES:WiCyS,WiCyS Affiliate
ATTACH;FMTTYPE=image/png:https://www.wicys.org/wp-content/uploads/2025/08/Q3-Alternate-Anniversary-Meetup-640-x-360-px-1.png
ORGANIZER;CN="WiCyS San Diego Affiliate":MAILTO:WiCySSanDiego@wicys.org
END:VEVENT
END:VCALENDAR